Workbook

Sheet 2025-26 With Postfacto
D1: Period | F1: F<=49.90 | I1: Amount in Rs. | J1: 49.9 to 50.05 | M1: Amount in Rs. | N1: F>50.05 | Q1: Amount in Rs. | R1: Post Facto | S1: UD Energy with no incentive | T1: Net Energy(MU)(w/o Post Facto)
F2: Upto 250MW | G2: 250 to 350 MW | H2: >350MW | J2: Upto 250MW | K2: 250 to 350 MW | L2: >350MW | N2: Upto 250MW | O2: 250 to 350 MW | P2: >350MW
D3: From | E3: To | F3: Energy(MU) | G3: Energy(MU) | H3: Energy(MU) | J3: Energy(MU) | K3: Energy(MU) | L3: Energy(MU) | N3: Energy(MU) | O3: Energy(MU) | P3: Energy(MU) | R3: Energy(MU)
D4: 45748 | E4: 06-04.2025 | F4: 0.062250276 | G4: 0.11491648 | H4: 0.060991916 | I4: -5774460.7 | J4: -0.056870068 | K4: 0.42667108 | L4: 0.6468687 | M4: -21191572 | N4: -0.56316025 | O4: -0.063470972 | P4: -0.044276571 | Q4: -152388.54 | R4: 0.019979296 | S4: -0.74976212 | T4: 0.58392058
D5: 45754 | E5: 45760 | F5: 0.11575954 | G5: 0.099320949 | H5: 0.46311109 | I5: -12448086 | J5: -2.1981094 | K5: -0.34536595 | L5: -0.47044492 | M5: -33444557 | N5: 1.5490202 | O5: 0.4346681 | P5: 0.45469229 | Q5: -2686692.7 | R5: 0.07876613 | S5: -1.0219767 | T5: 0.10265181
D6: 45761 | E6: 45767 | F6: 0.87454463 | G6: 0.32922158 | H6: 1.1565191 | I6: -39120638 | J6: 3.9053398 | K6: 0.90650442 | L6: 1.4731631 | M6: -60400511 | N6: 1.3044945 | O6: 0.27673513 | P6: 0.38334122 | Q6: -3065368.9 | R6: 0.10569416 | S6: -0.29492065 | T6: 10.609863
D7: 45768 | E7: 45804 | F7: 0.52247294 | G7: 0.059297164 | H7: 0.12672852 | I7: -17365589 | J7: 2.8968111 | K7: 0.23354654 | L7: -0.51872243 | M7: -43223704 | N7: -0.25643601 | O7: -0.13712932 | P7: -0.76014642 | Q7: -1796381.8 | R7: 0.10519678 | S7: -1.6179427 | T7: 2.1664221
D8: April '25 | F8: =SUM(F4:F7) -> 1.5750274 | G8: =SUM(G4:G7) -> 0.60275617 | H8: =SUM(H4:H7) -> 1.8073506 | I8: =SUM(I4:I7) -> -74708774 | J8: =SUM(J4:J7) -> 4.5471714 | K8: =SUM(K4:K7) -> 1.2213561 | L8: =SUM(L4:L7) -> 1.1308644 | M8: =SUM(M4:M7) -> -1.5826034e+08 | ... T8: =SUM(T4:T7) -> 13.462858
D9: 45775 | E9: 45781 | F9: -0.086000729 | G9: -0.041169386 | H9: -0.030457991 | I9: -15758.407 | J9: -6.2072866 | K9: -0.99957389 | L9: -2.1143654 | M9: 25494036 | N9: 0.75259163 | O9: -0.006104152 | P9: -0.25505477 | Q9: -3144666 | R9: 0.17011442 | S9: -1.0242043 | T9: -8.9874213
D10: 45782 | E10: 45788 | F10: -0.53990012 | G10: -0.023508859 | H10: -0.044022443 | I10: 2397277.4 | J10: -1.0311761 | K10: 0.15513043 | L10: 0.50075609 | M10: -3107744 | N10: 0.71851775 | O10: 0.089258171 | P10: 0.26367328 | Q10: -4623581.9 | R10: 0.15193034 | S10: -0.28757806 | T10: 0.088728169
D11: 45789 | E11: 45795 | F11: 0.12025767 | G11: 0.045316569 | H11: 0.10623364 | I11: -7998063.2 | J11: -3.2817564 | K11: -0.7490105 | L11: -0.85448202 | M11: -8957895.3 | N11: -0.13140827 | O11: -0.040568877 | P11: -0.20586903 | Q11: -1577510.8 | R11: 0.16682937 | S11: -1.3636151 | T11: -4.9912872
D12: 45796 | E12: 45802 | F12: -0.027795408 | G12: 0.060051167 | H12: 0.029651219 | I12: -4158444.1 | J12: -6.2218226 | K12: -1.250383 | L12: -1.475823 | M12: 13757183 | N12: -0.4162169 | O12: -0.22737217 | P12: -0.33133959 | Q12: -2095096 | R12: 0.097401828 | S12: -1.9893017 | T12: -9.8610503
D13: 45803 | E13: 45809 | F13: -0.10210796 | G13: 0.031818143 | H13: 0.009773943 | I13: -1070376.7 | J13: -7.6990712 | K13: -1.1683065 | L13: -0.61853772 | M13: 24617316 | N13: -0.7720427 | O13: -0.14313706 | P13: 0.14110209 | Q13: -2175539.7 | R13: 0.15830844 | S13: -1.2682095 | T13: -10.320509
D14: May '25 | F14: =SUM(F9:F13) -> -0.63554654 | G14: =SUM(G9:G13) -> 0.072507634 | H14: =SUM(H9:H13) -> 0.071178368 | I14: =SUM(I9:I13) -> -10845365 | J14: =SUM(J9:J13) -> -24.441113 | K14: =SUM(K9:K13) -> -4.0121435 | L14: =SUM(L9:L13) -> -4.5624521 | M14: =SUM(M9:M13) -> 51802895 | ... T14: =SUM(T9:T13) -> -34.07154
D15: 45810 | E15: 45816 | F15: 0.036117509 | G15: 0.023377206 | H15: 0.15454698 | I15: -13547157 | J15: -0.006481411 | K15: -0.12581906 | L15: 0.34552894 | M15: -29956798 | N15: -0.13387846 | O15: -0.15925967 | P15: -0.081550067 | Q15: -1272589.1 | R15: 0.17073924 | S15: -0.69405147 | T15: 0.052581959
D16: 45817 | E16: 45823 | F16: -0.82449766 | G16: -0.20759496 | H16: -0.67331992 | I16: 642159.06 | J16: -3.9453407 | K16: -0.78893493 | L16: -0.83161992 | M16: 7375918.7 | N16: -0.72136768 | O16: -0.12781917 | P16: -0.11809078 | Q16: -1642743.2 | R16: 0.3075345 | S16: -0.8165114 | T16: -8.2385857
D17: 45824 | E17: 45830 | F17: -0.70361736 | G17: -0.077620823 | H17: -0.036353024 | I17: 2786589.4 | J17: -4.2284342 | K17: -0.4510488 | L17: -0.58382196 | M17: 4178521.4 | N17: 0.63885677 | O17: -0.054603139 | P17: -0.12854702 | Q17: -2011812.2 | R17: 0.21839619 | S17: -0.9637902 | T17: -5.6251895
D18: 45831 | E18: 45837 | F18: -0.028293474 | G18: 0.060115105 | H18: 0.0433282 | I18: -6503827.1 | J18: -4.1096978 | K18: -0.45392991 | L18: -0.52003414 | M18: 5997064.9 | N18: 0.38843333 | O18: 0.13013353 | P18: -0.018275175 | Q18: -1983985.8 | R18: 0.45246031 | S18: -1.1210774 | T18: -4.5082203
D19: Jun '25 | F19: =SUM(F14:F18) -> -2.1558375 | G19: =SUM(G14:G18) -> -0.12921584 | H19: =SUM(H14:H18) -> -0.4406194 | I19: =SUM(I14:I18) -> -27467600 | J19: =SUM(J14:J18) -> -36.731067 | K19: =SUM(K14:K18) -> -5.8318762 | L19: =SUM(L14:L18) -> -6.1523991 | M19: =SUM(M14:M18) -> 39397602 | ... T19: =SUM(T14:T18) -> -52.390953
D20: 45838 | E20: 45844 | F20: -0.70785484 | G20: -0.076128102 | H20: 0.005497867 | I20: 945649.86 | J20: -5.1983559 | K20: -0.54833831 | L20: -0.14775313 | M20: 12413692 | N20: 0.38044578 | O20: 0.11728553 | P20: -0.074319253 | Q20: -2425245 | R20: 0.36399764 | S20: -1.490766 | T20: -6.2495203
D21: 45845 | E21: 45851 | F21: 0.41943567 | G21: 0.19365254 | H21: 0.2355478 | I21: -17502425 | J21: -3.168997 | K21: -0.49035424 | L21: -1.3035203 | M21: -1552607.1 | N21: 0.19350401 | O21: -0.094049216 | P21: -0.26923925 | Q21: -2104634.4 | R21: 0.11989928 | S21: -0.79066995 | T21: -4.28402
D22: 45852 | E22: 45858 | F22: -0.242072 | G22: 0.038942788 | H22: 0.053365695 | I22: -2780825.4 | J22: -0.47399095 | K22: 0.14130156 | L22: -0.010629231 | M22: -14431105 | N22: 0.90554752 | O22: 0.21048329 | P22: 0.18900266 | Q22: -4636142.4 | R22: 0.17814792 | S22: -0.44164669 | T22: 0.81195134
D23: 45859 | E23: 45865 | F23: -0.45468025 | G23: -0.057169684 | H23: -0.024862522 | I23: 2135044.7 | J23: -3.3866339 | K23: -0.43611549 | L23: -0.51878295 | M23: 4699684.6 | N23: 0.20883354 | O23: -0.025612215 | P23: -0.074058586 | Q23: -1456785.6 | R23: 0.13122043 | S23: -1.0133636 | T23: -4.7690821
D24: 45866 | E24: 45872 | F24: 0.54421665 | G24: 0.12403124 | H24: 0.051163494 | I24: -5431187.6 | J24: 1.5928897 | K24: 0.86356688 | L24: 1.0668524 | M24: -22627688 | N24: 0.73626383 | O24: 0.11106158 | P24: 0.11932317 | Q24: -1999015.1 | R24: 0.085550935 | S24: -0.69163724 | T24: 5.2093689
D25: Jul '25 | F25: =SUM(F20:F24) -> -0.44095477 | G25: =SUM(G20:G24) -> 0.22332878 | H25: =SUM(H20:H24) -> 0.32071233 | I25: =SUM(I20:I24) -> -22633743 | J25: =SUM(J20:J24) -> -10.635088 | K25: =SUM(K20:K24) -> -0.4699396 | L25: =SUM(L20:L24) -> -0.91383325 | M25: =SUM(M20:M24) -> -21498023 | ... T25: =SUM(T20:T24) -> -9.2813021
D26: 45873 | E26: 45879 | F26: 0.55163016 | G26: 0.23970963 | H26: 0.94163604 | I26: -30674318 | J26: 4.4084567 | K26: 1.1386136 | L26: 3.4002306 | M26: -1.1345983e+08 | N26: 0.24587451 | O26: 0.019546055 | P26: -0.090928676 | Q26: -3395844.2 | R26: 0.11107735 | S26: -1.0250009 | T26: 10.854769
D27: 45880 | E27: 45886 | F27: -0.91133159 | G27: -0.072084205 | H27: -0.46614829 | I27: 819377.5 | J27: -4.9488606 | K27: -0.88419096 | L27: -2.2671394 | M27: 10750627 | N27: 0.18944418 | O27: -0.029417776 | P27: -0.3095162 | Q27: -796306.99 | R27: 0.13087049 | S27: -0.80215287 | T27: -9.6992449
D28: 45887 | E28: 45893 | F28: 0.21932312 | G28: 0.021714666 | H28: -0.036938232 | I28: -10318777 | J28: -5.5311608 | K28: -1.0598033 | L28: -1.9291401 | M28: 14589770 | N28: -0.96126752 | O28: -0.35136051 | P28: -1.5411998 | Q28: -1774307.8 | R28: 0.064563394 | S28: -1.4662573 | T28: -11.169832
D29: 45894 | E29: 45900 | F29: -0.69248032 | G29: -0.1423418 | H29: -0.099107611 | I29: 1077014.2 | J29: -3.9346659 | K29: -1.0935541 | L29: -2.7905492 | M29: 4700518 | N29: -0.87054103 | O29: -0.1763485 | P29: -0.72850412 | Q29: -1214606.5 | R29: 0.088496501 | S29: -1.6620904 | T29: -10.528093
D30: Aug '25 | F30: =SUM(F25:F29) -> -1.2738134 | G30: =SUM(G25:G29) -> 0.27032707 | H30: =SUM(H25:H29) -> 0.66015423 | I30: =SUM(I25:I29) -> -61730446 | J30: =SUM(J25:J29) -> -20.641319 | K30: =SUM(K25:K29) -> -2.3688743 | L30: =SUM(L25:L29) -> -4.5004312 | M30: =SUM(M25:M29) -> -1.0491694e+08 | ... T30: =SUM(T25:T29) -> -29.823703
D31: 45901 | E31: 45907 | F31: 0.64872447 | G31: 0.15530959 | H31: 0.031891385 | I31: -4752158.6 | J31: -5.2569019 | K31: -0.8464572 | L31: -0.43946012 | M31: 969666.79 | N31: -0.2859614 | O31: -0.16565876 | P31: -0.07842597 | Q31: -1809361.6 | R31: 0.28953167 | S31: -1.563793 | T31: -6.2369399
D32: 45908 | E32: 45914 | F32: 0.87406961 | G32: 0.20518989 | H32: 0.37636439 | I32: -24941592 | J32: 3.4161826 | K32: 0.74188155 | L32: 0.77694057 | M32: -65908994 | N32: -0.45022254 | O32: -0.14945985 | P32: -0.12304562 | Q32: -478622.94 | R32: 0.31304451 | S32: -0.99422014 | T32: 5.6679005
D33: 45915 | E33: 45921 | F33: -0.048095471 | G33: 0.003213547 | H33: 0.009749859 | I33: 221137.1 | J33: -8.1734312 | K33: -0.71443252 | L33: -1.2298446 | M33: 10641068 | N33: 0.00996239 | O33: 0.007843217 | P33: -0.040969271 | Q33: -2018935.6 | R33: 0.28131445 | S33: -0.56931405 | T33: -10.176004
D34: 45922 | E34: 45928 | F34: -0.46482927 | G34: -0.018989146 | H34: -0.056384898 | I34: -233192.8 | J34: -8.5673795 | K34: -1.366563 | L34: -1.9857335 | M34: 13227558 | N34: -0.94837271 | O34: -0.24752915 | P34: -0.24552685 | Q34: -1619137.7 | R34: 0.27699628 | S34: -1.3017995 | T34: -13.901308
D35: SEPTEMBER '25
D36: =E34+1 -> 45929 | E36: =D36+6 -> 45935 | F36: 0.14054507 | G36: 0.070833233 | H36: 0.25078197 | I36: -4458349.9 | J36: -2.054935 | K36: -0.40481795 | L36: -1.0601769 | M36: -7582384.4 | N36: 0.089369225 | O36: 0.0803721 | P36: -0.29405726 | Q36: -1638887.5 | R36: 0.26920707 | S36: -1.6644145 | T36: -3.1820854
D37: =E36+1 -> 45936 | E37: =D37+6 -> 45942 | F37: -0.12281364 | G37: -0.031533831 | H37: 0.059235699 | I37: -5156208 | J37: -2.527564 | K37: -0.27302363 | L37: -1.053784 | M37: -3171054.6 | N37: -0.48255538 | O37: -0.14137794 | P37: -0.16410006 | Q37: -720103.45 | R37: 0 | S37: -1.0369897 | T37: -4.7375168
D38: =E37+1 -> 45943 | E38: =D38+6 -> 45949 | F38: -0.56068094 | G38: -0.10129351 | H38: -0.19081267 | I38: 1046207.1 | J38: -1.2941206 | K38: -0.33800527 | L38: -0.43914299 | M38: -10240530 | N38: -0.16657772 | O38: -0.007984718 | P38: -0.002773262 | Q38: -266014.5 | R38: 0 | S38: -0.285698 | T38: -3.1013917
D39: =E38+1 -> 45950 | E39: =D39+6 -> 45956 | F39: 0.12434993 | G39: 0.08688961 | H39: 0.29179321 | I39: -7380741.6 | J39: -3.7326052 | K39: -0.20523457 | L39: 0.40456805 | M39: -5510308.5 | N39: -0.45738827 | O39: -0.13314037 | P39: -0.74003339 | Q39: -1499440 | R39: 0 | S39: -1.9143554 | T39: -4.360801
D40: =E39+1 -> 45957 | E40: =D40+6 -> 45963 | F40: 0.24960666 | G40: 0.072365149 | H40: -0.16116648 | I40: -15270157 | J40: -6.220484 | K40: -0.82334902 | L40: -1.0221576 | M40: -3156844 | N40: -0.38748454 | O40: -0.25123661 | P40: -0.71960868 | Q40: -887672.03 | R40: 0.18685679 | S40: -1.5366412 | T40: -9.2635151
...

Sheet APERC Data Apr' 25
D1: DSM DATA FY 2025-26 (Annexure-8)
D3: Period | F3: F<=49.90 | I3: Amount in Rs. | J3: 49.9 to 50.05 | M3: Amount in Rs. | N3: F>50.05 | Q3: Amount in Rs. | R3: Post Facto | S3: UD Energy with no incentive | T3: Net Energy(MU)(w/o Post Facto) | U3: Total Charges(Rs.Cr) (Including Postfacto and additional)
F4: Upto 250MW | G4: 250 to 350 MW | H4: >350MW | J4: Upto 250MW | K4: 250 to 350 MW | L4: >350MW | N4: Upto 250MW | O4: 250 to 350 MW | P4: >350MW
D5: From | E5: To | F5: Energy(MU) | G5: Energy(MU) | H5: Energy(MU) | J5: Energy(MU) | K5: Energy(MU) | L5: Energy(MU) | N5: Energy(MU) | O5: Energy(MU) | P5: Energy(MU) | R5: Energy(MU)
D6: 45748 | E6: 06-04.2025 | F6: 0.062250276 | G6: 0.11491648 | H6: 0.060991916 | I6: -5774460.7 | J6: -0.056870068 | K6: 0.42667108 | L6: 0.6468687 | M6: -21191572 | N6: -0.56316025 | O6: -0.063470972 | P6: -0.044276571 | Q6: -152388.54 | R6: 0.019979296 | S6: -0.74976212 | T6: 0.58392058 | U6: -2.7172554
D7: 45754 | E7: 45760 | F7: 0.11575954 | G7: 0.099320949 | H7: 0.46311109 | I7: -12448086 | J7: -2.1981094 | K7: -0.34536595 | L7: -0.47044492 | M7: -33444557 | N7: 1.5490202 | O7: 0.4346681 | P7: 0.45469229 | Q7: -2686692.7 | R7: 0.07876613 | S7: -1.0219767 | T7: 0.10265181 | U7: -4.8773391
D8: 45761 | E8: 45767 | F8: 0.87454463 | G8: 0.32922158 | H8: 1.1565191 | I8: -39120638 | J8: 3.9053398 | K8: 0.90650442 | L8: 1.4731631 | M8: -60400511 | N8: 1.3044945 | O8: 0.27673513 | P8: 0.38334122 | Q8: -3065368.9 | R8: 0.10569416 | S8: -0.29492065 | T8: 10.609863 | U8: -10.296305
D9: 45768 | E9: 45804 | F9: ='2025-26 With Postfacto'!F7 -> 0.52247294 | G9: ='2025-26 With Postfacto'!G7 -> 0.059297164 | H9: ='2025-26 With Postfacto'!H7 -> 0.12672852 | I9: ='2025-26 With Postfacto'!I7 -> -17365589 | J9: ='2025-26 With Postfacto'!J7 -> 2.8968111 | K9: ='2025-26 With Postfacto'!K7 -> 0.23354654 | L9: ='2025-26 With Postfacto'!L7 -> -0.51872243 | M9: ='2025-26 With Postfacto'!M7 -> -43223704 | ... T9: ='2025-26 With Postfacto'!T7 -> 2.1664221 | U9: -6.2757339
D10: April '25 | F10: =SUM(F6:F9) -> 1.5750274 | G10: =SUM(G6:G9) -> 0.60275617 | H10: =SUM(H6:H9) -> 1.8073506 | I10: =SUM(I6:I9) -> -74708774 | J10: =SUM(J6:J9) -> 4.5471714 | K10: =SUM(K6:K9) -> 1.2213561 | L10: =SUM(L6:L9) -> 1.1308644 | M10: =SUM(M6:M9) -> -1.5826034e+08 | ... U10: =SUM(U6:U9) -> -24.166633
D11: 45775 | E11: 45781 | F11: -0.086000729 | G11: -0.041169386 | H11: -0.030457991 | I11: -15758.407 | J11: -6.2072866 | K11: -0.99957389 | L11: -2.1143654 | M11: 25494036 | N11: 0.75259163 | O11: -0.006104152 | P11: -0.25505477 | Q11: -3144666 | R11: 0.17011442 | S11: -1.0242043 | T11: -8.9874213 | U11: 2.1744574
D12: 45782 | E12: 45788 | F12: -0.53990012 | G12: -0.023508859 | H12: -0.044022443 | I12: 2397277.4 | J12: -1.0332386 | K12: 0.15494293 | L12: 0.50075609 | M12: -3087944 | N12: 0.71851775 | O12: 0.089258171 | P12: 0.26367328 | Q12: -4623581.9 | R12: 0.17320584 | S12: -0.28757806 | T12: 0.086478169 | U12: -0.5806187
D13: 45789 | E13: 45795 | F13: 0.12025767 | G13: 0.045316569 | H13: 0.10623364 | I13: -7998063.2 | J13: -3.2851564 | K13: -0.7491605 | L13: -0.85499952 | M13: -8922638.7 | N13: -0.13140827 | O13: -0.040568877 | P13: -0.20586903 | Q13: -1577510.8 | R13: 0.18959787 | S13: -1.3636151 | T13: -4.9953547 | U13: -1.9065395
D14: 45796 | E14: 45802 | F14: -0.027795408 | G14: 0.060051167 | H14: 0.029651219 | I14: -4158444.1 | J14: -6.2278476 | K14: -1.2520305 | L14: -1.4763005 | M14: 13824086 | N14: -0.4162169 | O14: -0.22737217 | P14: -0.33133959 | Q14: -2095096 | R14: 0.12276583 | S14: -1.9893017 | T14: -9.8692003 | U14: 0.7217744
D15: 45803 | E15: 45809 | F15: -0.10210796 | G15: 0.031818143 | H15: 0.009773943 | I15: -1070376.7 | J15: -7.6990712 | K15: -1.1683065 | L15: -0.61853772 | M15: 24617316 | N15: -0.7720427 | O15: -0.14313706 | P15: 0.14110209 | Q15: -2175539.7 | R15: 0.17880144 | S15: -1.2682095 | T15: -10.320509 | U15: 2.0870488
D16: May '25 | F16: =SUM(F11:F15) -> -0.63554654 | G16: =SUM(G11:G15) -> 0.072507634 | H16: =SUM(H11:H15) -> 0.071178368 | I16: =SUM(I11:I15) -> -10845365 | J16: =SUM(J11:J15) -> -24.4526 | K16: =SUM(K11:K15) -> -4.0141285 | L16: =SUM(L11:L15) -> -4.5634471 | M16: =SUM(M11:M15) -> 51924855 | ... U16: =SUM(U11:U15) -> 2.4961224
D17: 45810 | E17: 45816 | F17: ='2025-26 With Postfacto'!F15 -> 0.036117509 | G17: ='2025-26 With Postfacto'!G15 -> 0.023377206 | H17: ='2025-26 With Postfacto'!H15 -> 0.15454698 | I17: ='2025-26 With Postfacto'!I15 -> -13547157 | J17: ='2025-26 With Postfacto'!J15 -> -0.006481411 | K17: ='2025-26 With Postfacto'!K15 -> -0.12581906 | L17: ='2025-26 With Postfacto'!L15 -> 0.34552894 | M17: ='2025-26 With Postfacto'!M15 -> -29956798 | ... T17: ='2025-26 With Postfacto'!T15 -> 0.052581959 | U17: -4.5288038
D18: 45817 | E18: 45823 | F18: ='2025-26 With Postfacto'!F16 -> -0.82449766 | G18: ='2025-26 With Postfacto'!G16 -> -0.20759496 | H18: ='2025-26 With Postfacto'!H16 -> -0.67331992 | I18: ='2025-26 With Postfacto'!I16 -> 642159.06 | J18: ='2025-26 With Postfacto'!J16 -> -3.9453407 | K18: ='2025-26 With Postfacto'!K16 -> -0.78893493 | L18: ='2025-26 With Postfacto'!L16 -> -0.83161992 | M18: ='2025-26 With Postfacto'!M16 -> 7375918.7 | ... T18: ='2025-26 With Postfacto'!T16 -> -8.2385857 | U18: 0.5479208
D19: 45824 | E19: 45830 | F19: ='2025-26 With Postfacto'!F17 -> -0.70361736 | G19: ='2025-26 With Postfacto'!G17 -> -0.077620823 | H19: ='2025-26 With Postfacto'!H17 -> -0.036353024 | I19: ='2025-26 With Postfacto'!I17 -> 2786589.4 | J19: ='2025-26 With Postfacto'!J17 -> -4.2284342 | K19: ='2025-26 With Postfacto'!K17 -> -0.4510488 | L19: ='2025-26 With Postfacto'!L17 -> -0.58382196 | M19: ='2025-26 With Postfacto'!M17 -> 4178521.4 | ... T19: ='2025-26 With Postfacto'!T17 -> -5.6251895 | U19: 0.4231385
D20: 45831 | E20: 45837 | F20: ='2025-26 With Postfacto'!F18 -> -0.028293474 | G20: ='2025-26 With Postfacto'!G18 -> 0.060115105 | H20: ='2025-26 With Postfacto'!H18 -> 0.0433282 | I20: ='2025-26 With Postfacto'!I18 -> -6503827.1 | J20: ='2025-26 With Postfacto'!J18 -> -4.1096978 | K20: ='2025-26 With Postfacto'!K18 -> -0.45392991 | L20: ='2025-26 With Postfacto'!L18 -> -0.52003414 | M20: ='2025-26 With Postfacto'!M18 -> 5997064.9 | ... T20: ='2025-26 With Postfacto'!T18 -> -4.5082203 | U20: -0.4072177
D21: Jun '25 | F21: =SUM(F17:F20) -> -1.520291 | G21: =SUM(G17:G20) -> -0.20172347 | H21: =SUM(H17:H20) -> -0.51179777 | I21: =SUM(I17:I20) -> -16622235 | J21: =SUM(J17:J20) -> -12.289954 | K21: =SUM(K17:K20) -> -1.8197327 | L21: =SUM(L17:L20) -> -1.5899471 | M21: =SUM(M17:M20) -> -12405293 | ... U21: =SUM(U17:U20) -> -3.9649622
D22: 45838 | E22: 45844 | F22: ='2025-26 With Postfacto'!F20 -> -0.70785484 | G22: ='2025-26 With Postfacto'!G20 -> -0.076128102 | H22: ='2025-26 With Postfacto'!H20 -> 0.005497867 | I22: ='2025-26 With Postfacto'!I20 -> 945649.86 | J22: ='2025-26 With Postfacto'!J20 -> -5.1983559 | K22: ='2025-26 With Postfacto'!K20 -> -0.54833831 | L22: ='2025-26 With Postfacto'!L20 -> -0.14775313 | M22: ='2025-26 With Postfacto'!M20 -> 12413692 | ... T22: ='2025-26 With Postfacto'!T20 -> -6.2495203 | U22: 0.9666298
D23: 45845 | E23: 45851 | F23: ='2025-26 With Postfacto'!F21 -> 0.41943567 | G23: ='2025-26 With Postfacto'!G21 -> 0.19365254 | H23: ='2025-26 With Postfacto'!H21 -> 0.2355478 | I23: ='2025-26 With Postfacto'!I21 -> -17502425 | J23: ='2025-26 With Postfacto'!J21 -> -3.168997 | K23: ='2025-26 With Postfacto'!K21 -> -0.49035424 | L23: ='2025-26 With Postfacto'!L21 -> -1.3035203 | M23: ='2025-26 With Postfacto'!M21 -> -1552607.1 | ... T23: ='2025-26 With Postfacto'!T21 -> -4.28402 | U23: -2.1562035
D24: 45852 | E24: 45858 | F24: ='2025-26 With Postfacto'!F22 -> -0.242072 | G24: ='2025-26 With Postfacto'!G22 -> 0.038942788 | H24: ='2025-26 With Postfacto'!H22 -> 0.053365695 | I24: ='2025-26 With Postfacto'!I22 -> -2780825.4 | J24: ='2025-26 With Postfacto'!J22 -> -0.47399095 | K24: ='2025-26 With Postfacto'!K22 -> 0.14130156 | L24: ='2025-26 With Postfacto'!L22 -> -0.010629231 | M24: ='2025-26 With Postfacto'!M22 -> -14431105 | ... T24: ='2025-26 With Postfacto'!T22 -> 0.81195134 | U24: -2.2450299
D25: 45859 | E25: 45865 | F25: ='2025-26 With Postfacto'!F23 -> -0.45468025 | G25: ='2025-26 With Postfacto'!G23 -> -0.057169684 | H25: ='2025-26 With Postfacto'!H23 -> -0.024862522 | I25: ='2025-26 With Postfacto'!I23 -> 2135044.7 | J25: ='2025-26 With Postfacto'!J23 -> -3.3866339 | K25: ='2025-26 With Postfacto'!K23 -> -0.43611549 | L25: ='2025-26 With Postfacto'!L23 -> -0.51878295 | M25: ='2025-26 With Postfacto'!M23 -> 4699684.6 | ... T25: ='2025-26 With Postfacto'!T23 -> -4.7690821 | U25: 0.4879808
D26: 45866 | E26: 45872 | F26: ='2025-26 With Postfacto'!F24 -> 0.54421665 | G26: ='2025-26 With Postfacto'!G24 -> 0.12403124 | H26: ='2025-26 With Postfacto'!H24 -> 0.051163494 | I26: ='2025-26 With Postfacto'!I24 -> -5431187.6 | J26: ='2025-26 With Postfacto'!J24 -> 1.5928897 | K26: ='2025-26 With Postfacto'!K24 -> 0.86356688 | L26: ='2025-26 With Postfacto'!L24 -> 1.0668524 | M26: ='2025-26 With Postfacto'!M24 -> -22627688 | ... T26: ='2025-26 With Postfacto'!T24 -> 5.2093689 | U26: -3.039405
D27: Jul '25 | F27: =SUM(F22:F26) -> -0.44095477 | G27: =SUM(G22:G26) -> 0.22332878 | H27: =SUM(H22:H26) -> 0.32071233 | I27: =SUM(I22:I26) -> -22633743 | J27: =SUM(J22:J26) -> -10.635088 | K27: =SUM(K22:K26) -> -0.4699396 | L27: =SUM(L22:L26) -> -0.91383325 | M27: =SUM(M22:M26) -> -21498023 | ... U27: =SUM(U22:U26) -> -5.9860278
D28: 45873 | E28: 45879 | F28: ='2025-26 With Postfacto'!F26 -> 0.55163016 | G28: ='2025-26 With Postfacto'!G26 -> 0.23970963 | H28: ='2025-26 With Postfacto'!H26 -> 0.94163604 | I28: ='2025-26 With Postfacto'!I26 -> -30674318 | J28: ='2025-26 With Postfacto'!J26 -> 4.4084567 | K28: ='2025-26 With Postfacto'!K26 -> 1.1386136 | L28: ='2025-26 With Postfacto'!L26 -> 3.4002306 | M28: ='2025-26 With Postfacto'!M26 -> -1.1345983e+08 | ... T28: ='2025-26 With Postfacto'!T26 -> 10.854769 | U28: -14.795351
D29: 45880 | E29: 45886 | F29: -0.91133159 | G29: -0.072084205 | H29: -0.46614829 | I29: 819377.5 | J29: -4.9488606 | K29: -0.88419096 | L29: -2.2671394 | M29: 10750627 | N29: 0.18944418 | O29: -0.029417776 | P29: -0.3095162 | Q29: -796306.99 | R29: 0.13087049 | S29: -0.80215287 | T29: -9.6992449 | U29: 1.0280611
D30: 45887 | E30: 45893 | F30: ='2025-26 With Postfacto'!F28 -> 0.21932312 | G30: ='2025-26 With Postfacto'!G28 -> 0.021714666 | H30: ='2025-26 With Postfacto'!H28 -> -0.036938232 | I30: ='2025-26 With Postfacto'!I28 -> -10318777 | J30: ='2025-26 With Postfacto'!J28 -> -5.5311608 | K30: ='2025-26 With Postfacto'!K28 -> -1.0598033 | L30: ='2025-26 With Postfacto'!L28 -> -1.9291401 | M30: ='2025-26 With Postfacto'!M28 -> 14589770 | ... T30: ='2025-26 With Postfacto'!T28 -> -11.169832 | U30: 0.2314342
D31: 45894 | E31: 45900 | F31: ='2025-26 With Postfacto'!F29 -> -0.69248032 | G31: ='2025-26 With Postfacto'!G29 -> -0.1423418 | H31: ='2025-26 With Postfacto'!H29 -> -0.099107611 | I31: ='2025-26 With Postfacto'!I29 -> 1077014.2 | J31: ='2025-26 With Postfacto'!J29 -> -3.9346659 | K31: ='2025-26 With Postfacto'!K29 -> -1.0935541 | L31: ='2025-26 With Postfacto'!L29 -> -2.7905492 | M31: ='2025-26 With Postfacto'!M29 -> 4700518 | ... T31: ='2025-26 With Postfacto'!T29 -> -10.528093 | U31: 0.4298131
D32: Aug '25 | F32: =SUM(F28:F31) -> -0.83285862 | G32: =SUM(G28:G31) -> 0.046998285 | H32: =SUM(H28:H31) -> 0.3394419 | I32: =SUM(I28:I31) -> -39096703 | J32: =SUM(J28:J31) -> -10.006231 | K32: =SUM(K28:K31) -> -1.8989347 | L32: =SUM(L28:L31) -> -3.586598 | M32: =SUM(M28:M31) -> -83418915 | ... U32: =SUM(U28:U31) -> -13.106043
D33: 45901 | E33: 45907 | F33: ='2025-26 With Postfacto'!F31 -> 0.64872447 | G33: ='2025-26 With Postfacto'!G31 -> 0.15530959 | H33: ='2025-26 With Postfacto'!H31 -> 0.031891385 | I33: ='2025-26 With Postfacto'!I31 -> -4752158.6 | J33: ='2025-26 With Postfacto'!J31 -> -5.2569019 | K33: ='2025-26 With Postfacto'!K31 -> -0.8464572 | L33: ='2025-26 With Postfacto'!L31 -> -0.43946012 | M33: ='2025-26 With Postfacto'!M31 -> 969666.79 | ... T33: ='2025-26 With Postfacto'!T31 -> -6.2369399 | U33: -0.6391952
D34: 45908 | E34: 45914 | F34: ='2025-26 With Postfacto'!F32 -> 0.87406961 | G34: ='2025-26 With Postfacto'!G32 -> 0.20518989 | H34: ='2025-26 With Postfacto'!H32 -> 0.37636439 | I34: ='2025-26 With Postfacto'!I32 -> -24941592 | J34: ='2025-26 With Postfacto'!J32 -> 3.4161826 | K34: ='2025-26 With Postfacto'!K32 -> 0.74188155 | L34: ='2025-26 With Postfacto'!L32 -> 0.77694057 | M34: ='2025-26 With Postfacto'!M32 -> -65908994 | ... T34: ='2025-26 With Postfacto'!T32 -> 5.6679005 | U34: -9.2203691
D35: 45915 | E35: 45921 | F35: ='2025-26 With Postfacto'!F33 -> -0.048095471 | G35: ='2025-26 With Postfacto'!G33 -> 0.003213547 | H35: ='2025-26 With Postfacto'!H33 -> 0.009749859 | I35: ='2025-26 With Postfacto'!I33 -> 221137.1 | J35: ='2025-26 With Postfacto'!J33 -> -8.1734312 | K35: ='2025-26 With Postfacto'!K33 -> -0.71443252 | L35: ='2025-26 With Postfacto'!L33 -> -1.2298446 | M35: ='2025-26 With Postfacto'!M33 -> 10641068 | ... T35: ='2025-26 With Postfacto'!T33 -> -10.176004 | U35: 0.806193
D36: 45922 | E36: 45928 | F36: ='2025-26 With Postfacto'!F34 -> -0.46482927 | G36: ='2025-26 With Postfacto'!G34 -> -0.018989146 | H36: ='2025-26 With Postfacto'!H34 -> -0.056384898 | I36: ='2025-26 With Postfacto'!I34 -> -233192.8 | J36: ='2025-26 With Postfacto'!J34 -> -8.5673795 | K36: ='2025-26 With Postfacto'!K34 -> -1.366563 | L36: ='2025-26 With Postfacto'!L34 -> -1.9857335 | M36: ='2025-26 With Postfacto'!M34 -> 13227558 | ... T36: ='2025-26 With Postfacto'!T34 -> -13.901308 | U36: 1.0589895
D37: SEPTEMBER '25 | F37: =SUM(F33:F36) -> 1.0098694 | G37: =SUM(G33:G36) -> 0.34472387 | H37: =SUM(H33:H36) -> 0.36162074 | I37: =SUM(I33:I36) -> -29705806 | J37: =SUM(J33:J36) -> -18.58153 | K37: =SUM(K33:K36) -> -2.1855712 | L37: =SUM(L33:L36) -> -2.8780977 | M37: =SUM(M33:M36) -> -41070700 | ... U37: =SUM(U33:U36) -> -7.9943818
D38: =E36+1 -> 45929 | E38: =D38+6 -> 45935 | F38: ='2025-26 With Postfacto'!F36 -> 0.14054507 | G38: ='2025-26 With Postfacto'!G36 -> 0.070833233 | H38: ='2025-26 With Postfacto'!H36 -> 0.25078197 | I38: ='2025-26 With Postfacto'!I36 -> -4458349.9 | J38: ='2025-26 With Postfacto'!J36 -> -2.054935 | K38: ='2025-26 With Postfacto'!K36 -> -0.40481795 | L38: ='2025-26 With Postfacto'!L36 -> -1.0601769 | M38: ='2025-26 With Postfacto'!M36 -> -7582384.4 | ... T38: ='2025-26 With Postfacto'!T36 -> -3.1820854 | U38: -1.4450255
D39: =E38+1 -> 45936 | E39: =D39+6 -> 45942 | F39: ='2025-26 With Postfacto'!F37 -> -0.12281364 | G39: ='2025-26 With Postfacto'!G37 -> -0.031533831 | H39: ='2025-26 With Postfacto'!H37 -> 0.059235699 | I39: ='2025-26 With Postfacto'!I37 -> -5156208 | J39: ='2025-26 With Postfacto'!J37 -> -2.527564 | K39: ='2025-26 With Postfacto'!K37 -> -0.27302363 | L39: ='2025-26 With Postfacto'!L37 -> -1.053784 | M39: ='2025-26 With Postfacto'!M37 -> -3171054.6 | ... T39: ='2025-26 With Postfacto'!T37 -> -4.7375168 | U39: -0.9788557
D40: =E39+1 -> 45943 | E40: =D40+6 -> 45949 | F40: ='2025-26 With Postfacto'!F38 -> -0.56068094 | G40: ='2025-26 With Postfacto'!G38 -> -0.10129351 | H40: ='2025-26 With Postfacto'!H38 -> -0.19081267 | I40: ='2025-26 With Postfacto'!I38 -> 1046207.1 | J40: ='2025-26 With Postfacto'!J38 -> -1.2941206 | K40: ='2025-26 With Postfacto'!K38 -> -0.33800527 | L40: ='2025-26 With Postfacto'!L38 -> -0.43914299 | M40: ='2025-26 With Postfacto'!M38 -> -10240530 | ... T40: ='2025-26 With Postfacto'!T38 -> -3.1013917 | U40: -1.0202044
D41: =E40+1 -> 45950 | E41: =D41+6 -> 45956 | F41: ='2025-26 With Postfacto'!F39 -> 0.12434993 | G41: ='2025-26 With Postfacto'!G39 -> 0.08688961 | H41: ='2025-26 With Postfacto'!H39 -> 0.29179321 | I41: ='2025-26 With Postfacto'!I39 -> -7380741.6 | J41: ='2025-26 With Postfacto'!J39 -> -3.7326052 | K41: ='2025-26 With Postfacto'!K39 -> -0.20523457 | L41: ='2025-26 With Postfacto'!L39 -> 0.40456805 | M41: ='2025-26 With Postfacto'!M39 -> -5510308.5 | ... T41: ='2025-26 With Postfacto'!T39 -> -4.360801 | U41: -1.5000385
...

Sheet Sheet1
