Workbook

Sheet 2025-26 With Postfacto
D1: Period | F1: F<=49.90 | I1: Amount in Rs. | J1: 49.9 to 50.05 | M1: Amount in Rs. | N1: F>50.05 | Q1: Amount in Rs. | R1: Post Facto | S1: UD Energy with no incentive | T1: Net Energy(MU)(w/o Post Facto)
F2: Upto 250MW | G2: 250 to 350 MW | H2: >350MW | J2: Upto 250MW | K2: 250 to 350 MW | L2: >350MW | N2: Upto 250MW | O2: 250 to 350 MW | P2: >350MW
D3: From | E3: To | F3: Energy(MU) | G3: Energy(MU) | H3: Energy(MU) | J3: Energy(MU) | K3: Energy(MU) | L3: Energy(MU) | N3: Energy(MU) | O3: Energy(MU) | P3: Energy(MU) | R3: Energy(MU)
D4: 45748 | E4: 06-04.2025 | F4: 0.062250276 | G4: 0.11491648 | H4: 0.060991916 | I4: -5774460.7 | J4: -0.056870068 | K4: 0.42667108 | L4: 0.6468687 | M4: -21191572 | N4: -0.56316025 | O4: -0.063470972 | P4: -0.044276571 | Q4: -152388.54 | R4: 0.019979296 | S4: -0.74976212 | T4: 0.58392058
D5: 45754 | E5: 45760 | F5: 0.11575954 | G5: 0.099320949 | H5: 0.46311109 | I5: -12448086 | J5: -2.1981094 | K5: -0.34536595 | L5: -0.47044492 | M5: -33444557 | N5: 1.5490202 | O5: 0.4346681 | P5: 0.45469229 | Q5: -2686692.7 | R5: 0.07876613 | S5: -1.0219767 | T5: 0.10265181
D6: 45761 | E6: 45767 | F6: 0.87454463 | G6: 0.32922158 | H6: 1.1565191 | I6: -39120638 | J6: 3.9053398 | K6: 0.90650442 | L6: 1.4731631 | M6: -60400511 | N6: 1.3044945 | O6: 0.27673513 | P6: 0.38334122 | Q6: -3065368.9 | R6: 0.10569416 | S6: -0.29492065 | T6: 10.609863
D7: 45768 | E7: 45804 | F7: 0.52247294 | G7: 0.059297164 | H7: 0.12672852 | I7: -17365589 | J7: 2.8968111 | K7: 0.23354654 | L7: -0.51872243 | M7: -43223704 | N7: -0.25643601 | O7: -0.13712932 | P7: -0.76014642 | Q7: -1796381.8 | R7: 0.10519678 | S7: -1.6179427 | T7: 2.1664221
D8: April '25 | F8: =SUM(F4:F7) -> 1.5750274 | G8: =SUM(G4:G7) -> 0.60275617 | H8: =SUM(H4:H7) -> 1.8073506 | I8: =SUM(I4:I7) -> -74708774 | J8: =SUM(J4:J7) -> 4.5471714 | K8: =SUM(K4:K7) -> 1.2213561 | L8: =SUM(L4:L7) -> 1.1308644 | M8: =SUM(M4:M7) -> -1.5826034e+08 | ... T8: =SUM(T4:T7) -> 13.462858
D9: 45775 | E9: 45781 | F9: -0.086000729 | G9: -0.041169386 | H9: -0.030457991 | I9: -15758.407 | J9: -6.2072866 | K9: -0.99957389 | L9: -2.1143654 | M9: 25494036 | N9: 0.75259163 | O9: -0.006104152 | P9: -0.25505477 | Q9: -3144666 | R9: 0.17011442 | S9: -1.0242043 | T9: -8.9874213
D10: 45782 | E10: 45788 | F10: -0.53990012 | G10: -0.023508859 | H10: -0.044022443 | I10: 2397277.4 | J10: -1.0311761 | K10: 0.15513043 | L10: 0.50075609 | M10: -3107744 | N10: 0.71851775 | O10: 0.089258171 | P10: 0.26367328 | Q10: -4623581.9 | R10: 0.15193034 | S10: -0.28757806 | T10: 0.088728169
D11: 45789 | E11: 45795 | F11: 0.12025767 | G11: 0.045316569 | H11: 0.10623364 | I11: -7998063.2 | J11: -3.2817564 | K11: -0.7490105 | L11: -0.85448202 | M11: -8957895.3 | N11: -0.13140827 | O11: -0.040568877 | P11: -0.20586903 | Q11: -1577510.8 | R11: 0.16682937 | S11: -1.3636151 | T11: -4.9912872
D12: 45796 | E12: 45802 | F12: -0.027795408 | G12: 0.060051167 | H12: 0.029651219 | I12: -4158444.1 | J12: -6.2218226 | K12: -1.250383 | L12: -1.475823 | M12: 13757183 | N12: -0.4162169 | O12: -0.22737217 | P12: -0.33133959 | Q12: -2095096 | R12: 0.097401828 | S12: -1.9893017 | T12: -9.8610503
D13: 45803 | E13: 45809 | F13: -0.10210796 | G13: 0.031818143 | H13: 0.009773943 | I13: -1070376.7 | J13: -7.6990712 | K13: -1.1683065 | L13: -0.61853772 | M13: 24617316 | N13: -0.7720427 | O13: -0.14313706 | P13: 0.14110209 | Q13: -2175539.7 | R13: 0.15830844 | S13: -1.2682095 | T13: -10.320509
D14: May '25 | F14: =SUM(F9:F13) -> -0.63554654 | G14: =SUM(G9:G13) -> 0.072507634 | H14: =SUM(H9:H13) -> 0.071178368 | I14: =SUM(I9:I13) -> -10845365 | J14: =SUM(J9:J13) -> -24.441113 | K14: =SUM(K9:K13) -> -4.0121435 | L14: =SUM(L9:L13) -> -4.5624521 | M14: =SUM(M9:M13) -> 51802895 | ... T14: =SUM(T9:T13) -> -34.07154
D15: 45810 | E15: 45816 | F15: 0.036117509 | G15: 0.023377206 | H15: 0.15454698 | I15: -13547157 | J15: -0.006481411 | K15: -0.12581906 | L15: 0.34552894 | M15: -29956798 | N15: -0.13387846 | O15: -0.15925967 | P15: -0.081550067 | Q15: -1272589.1 | R15: 0.17073924 | S15: -0.69405147 | T15: 0.052581959
D16: 45817 | E16: 45823 | F16: -0.82449766 | G16: -0.20759496 | H16: -0.67331992 | I16: 642159.06 | J16: -3.9453407 | K16: -0.78893493 | L16: -0.83161992 | M16: 7375918.7 | N16: -0.72136768 | O16: -0.12781917 | P16: -0.11809078 | Q16: -1642743.2 | R16: 0.3075345 | S16: -0.8165114 | T16: -8.2385857
D17: 45824 | E17: 45830 | F17: -0.70361736 | G17: -0.077620823 | H17: -0.036353024 | I17: 2786589.4 | J17: -4.2284342 | K17: -0.4510488 | L17: -0.58382196 | M17: 4178521.4 | N17: 0.63885677 | O17: -0.054603139 | P17: -0.12854702 | Q17: -2011812.2 | R17: 0.21839619 | S17: -0.9637902 | T17: -5.6251895
D18: 45831 | E18: 45837 | F18: -0.028293474 | G18: 0.060115105 | H18: 0.0433282 | I18: -6503827.1 | J18: -4.1096978 | K18: -0.45392991 | L18: -0.52003414 | M18: 5997064.9 | N18: 0.38843333 | O18: 0.13013353 | P18: -0.018275175 | Q18: -1983985.8 | R18: 0.45246031 | S18: -1.1210774 | T18: -4.5082203
D19: Jun '25 | F19: =SUM(F14:F18) -> -2.1558375 | G19: =SUM(G14:G18) -> -0.12921584 | H19: =SUM(H14:H18) -> -0.4406194 | I19: =SUM(I14:I18) -> -27467600 | J19: =SUM(J14:J18) -> -36.731067 | K19: =SUM(K14:K18) -> -5.8318762 | L19: =SUM(L14:L18) -> -6.1523991 | M19: =SUM(M14:M18) -> 39397602 | ... T19: =SUM(T14:T18) -> -52.390953
D20: 45838 | E20: 45844 | F20: -0.70785484 | G20: -0.076128102 | H20: 0.005497867 | I20: 945649.86 | J20: -5.1983559 | K20: -0.54833831 | L20: -0.14775313 | M20: 12413692 | N20: 0.38044578 | O20: 0.11728553 | P20: -0.074319253 | Q20: -2425245 | R20: 0.36399764 | S20: -1.490766 | T20: -6.2495203
D21: 45845 | E21: 45851 | F21: 0.41943567 | G21: 0.19365254 | H21: 0.2355478 | I21: -17502425 | J21: -3.168997 | K21: -0.49035424 | L21: -1.3035203 | M21: -1552607.1 | N21: 0.19350401 | O21: -0.094049216 | P21: -0.26923925 | Q21: -2104634.4 | R21: 0.11989928 | S21: -0.79066995 | T21: -4.28402
D22: 45852 | E22: 45858 | F22: -0.242072 | G22: 0.038942788 | H22: 0.053365695 | I22: -2780825.4 | J22: -0.47399095 | K22: 0.14130156 | L22: -0.010629231 | M22: -14431105 | N22: 0.90554752 | O22: 0.21048329 | P22: 0.18900266 | Q22: -4636142.4 | R22: 0.17814792 | S22: -0.44164669 | T22: 0.81195134
D23: 45859 | E23: 45865 | F23: -0.45468025 | G23: -0.057169684 | H23: -0.024862522 | I23: 2135044.7 | J23: -3.3866339 | K23: -0.43611549 | L23: -0.51878295 | M23: 4699684.6 | N23: 0.20883354 | O23: -0.025612215 | P23: -0.074058586 | Q23: -1456785.6 | R23: 0.13122043 | S23: -1.0133636 | T23: -4.7690821
D24: 45866 | E24: 45872 | F24: 0.54421665 | G24: 0.12403124 | H24: 0.051163494 | I24: -5431187.6 | J24: 1.5928897 | K24: 0.86356688 | L24: 1.0668524 | M24: -22627688 | N24: 0.73626383 | O24: 0.11106158 | P24: 0.11932317 | Q24: -1999015.1 | R24: 0.085550935 | S24: -0.69163724 | T24: 5.2093689
D25: Jul '25 | F25: =SUM(F20:F24) -> -0.44095477 | G25: =SUM(G20:G24) -> 0.22332878 | H25: =SUM(H20:H24) -> 0.32071233 | I25: =SUM(I20:I24) -> -22633743 | J25: =SUM(J20:J24) -> -10.635088 | K25: =SUM(K20:K24) -> -0.4699396 | L25: =SUM(L20:L24) -> -0.91383325 | M25: =SUM(M20:M24) -> -21498023 | ... T25: =SUM(T20:T24) -> -9.2813021
D26: 45873 | E26: 45879 | F26: 0.55163016 | G26: 0.23970963 | H26: 0.94163604 | I26: -30674318 | J26: 4.4084567 | K26: 1.1386136 | L26: 3.4002306 | M26: -1.1345983e+08 | N26: 0.24587451 | O26: 0.019546055 | P26: -0.090928676 | Q26: -3395844.2 | R26: 0.11107735 | S26: -1.0250009 | T26: 10.854769
D27: 45880 | E27: 45886 | F27: -0.91133159 | G27: -0.072084205 | H27: -0.46614829 | I27: 819377.5 | J27: -4.9488606 | K27: -0.88419096 | L27: -2.2671394 | M27: 10750627 | N27: 0.18944418 | O27: -0.029417776 | P27: -0.3095162 | Q27: -796306.99 | R27: 0.13087049 | S27: -0.80215287 | T27: -9.6992449
D28: 45887 | E28: 45893 | F28: 0.21932312 | G28: 0.021714666 | H28: -0.036938232 | I28: -10318777 | J28: -5.5311608 | K28: -1.0598033 | L28: -1.9291401 | M28: 14589770 | N28: -0.96126752 | O28: -0.35136051 | P28: -1.5411998 | Q28: -1774307.8 | R28: 0.064563394 | S28: -1.4662573 | T28: -11.169832
D29: 45894 | E29: 45900 | F29: -0.69248032 | G29: -0.1423418 | H29: -0.099107611 | I29: 1077014.2 | J29: -3.9346659 | K29: -1.0935541 | L29: -2.7905492 | M29: 4700518 | N29: -0.87054103 | O29: -0.1763485 | P29: -0.72850412 | Q29: -1214606.5 | R29: 0.088496501 | S29: -1.6620904 | T29: -10.528093
D30: Aug '25 | F30: =SUM(F25:F29) -> -1.2738134 | G30: =SUM(G25:G29) -> 0.27032707 | H30: =SUM(H25:H29) -> 0.66015423 | I30: =SUM(I25:I29) -> -61730446 | J30: =SUM(J25:J29) -> -20.641319 | K30: =SUM(K25:K29) -> -2.3688743 | L30: =SUM(L25:L29) -> -4.5004312 | M30: =SUM(M25:M29) -> -1.0491694e+08 | ... T30: =SUM(T25:T29) -> -29.823703
D31: 45901 | E31: 45907 | F31: 0.64872447 | G31: 0.15530959 | H31: 0.031891385 | I31: -4752158.6 | J31: -5.2569019 | K31: -0.8464572 | L31: -0.43946012 | M31: 969666.79 | N31: -0.2859614 | O31: -0.16565876 | P31: -0.07842597 | Q31: -1809361.6 | R31: 0.28953167 | S31: -1.563793 | T31: -6.2369399
D32: 45908 | E32: 45914 | F32: 0.87406961 | G32: 0.20518989 | H32: 0.37636439 | I32: -24941592 | J32: 3.4161826 | K32: 0.74188155 | L32: 0.77694057 | M32: -65908994 | N32: -0.45022254 | O32: -0.14945985 | P32: -0.12304562 | Q32: -478622.94 | R32: 0.31304451 | S32: -0.99422014 | T32: 5.6679005
D33: 45915 | E33: 45921 | F33: -0.048095471 | G33: 0.003213547 | H33: 0.009749859 | I33: 221137.1 | J33: -8.1734312 | K33: -0.71443252 | L33: -1.2298446 | M33: 10641068 | N33: 0.00996239 | O33: 0.007843217 | P33: -0.040969271 | Q33: -2018935.6 | R33: 0.28131445 | S33: -0.56931405 | T33: -10.176004
D34: 45922 | E34: 45928 | F34: -0.46482927 | G34: -0.018989146 | H34: -0.056384898 | I34: -233192.8 | J34: -8.5673795 | K34: -1.366563 | L34: -1.9857335 | M34: 13227558 | N34: -0.94837271 | O34: -0.24752915 | P34: -0.24552685 | Q34: -1619137.7 | R34: 0.27699628 | S34: -1.3017995 | T34: -13.901308
D35: SEPTEMBER '25
D36: =E34+1 -> 45929 | E36: =D36+6 -> 45935 | F36: 0.14054507 | G36: 0.070833233 | H36: 0.25078197 | I36: -4458349.9 | J36: -2.054935 | K36: -0.40481795 | L36: -1.0601769 | M36: -7582384.4 | N36: 0.089369225 | O36: 0.0803721 | P36: -0.29405726 | Q36: -1638887.5 | R36: 0.26920707 | S36: -1.6644145 | T36: -3.1820854
D37: =E36+1 -> 45936 | E37: =D37+6 -> 45942 | F37: -0.12281364 | G37: -0.031533831 | H37: 0.059235699 | I37: -5156208 | J37: -2.527564 | K37: -0.27302363 | L37: -1.053784 | M37: -3171054.6 | N37: -0.48255538 | O37: -0.14137794 | P37: -0.16410006 | Q37: -720103.45 | R37: 0 | S37: -1.0369897 | T37: -4.7375168
D38: =E37+1 -> 45943 | E38: =D38+6 -> 45949 | F38: -0.56068094 | G38: -0.10129351 | H38: -0.19081267 | I38: 1046207.1 | J38: -1.2941206 | K38: -0.33800527 | L38: -0.43914299 | M38: -10240530 | N38: -0.16657772 | O38: -0.007984718 | P38: -0.002773262 | Q38: -266014.5 | R38: 0 | S38: -0.285698 | T38: -3.1013917
D39: =E38+1 -> 45950 | E39: =D39+6 -> 45956 | F39: 0.12434993 | G39: 0.08688961 | H39: 0.29179321 | I39: -7380741.6 | J39: -3.7326052 | K39: -0.20523457 | L39: 0.40456805 | M39: -5510308.5 | N39: -0.45738827 | O39: -0.13314037 | P39: -0.74003339 | Q39: -1499440 | R39: 0 | S39: -1.9143554 | T39: -4.360801
D40: =E39+1 -> 45957 | E40: =D40+6 -> 45963 | F40: 0.24960666 | G40: 0.072365149 | H40: -0.16116648 | I40: -15270157 | J40: -6.220484 | K40: -0.82334902 | L40: -1.0221576 | M40: -3156844 | N40: -0.38748454 | O40: -0.25123661 | P40: -0.71960868 | Q40: -887672.03 | R40: 0.18685679 | S40: -1.5366412 | T40: -9.2635151
D41: OCTOBER '25
D42: =E40+1 -> 45964 | E42: =D42+6 -> 45970 | F42: -0.38163927 | G42: -0.080987079 | H42: -0.026942323 | I42: 1154703.4 | J42: -8.3337207 | K42: -0.77296564 | L42: -0.8395971 | M42: 25345645 | N42: -0.39764974 | O42: -0.079746103 | P42: -0.047878637 | Q42: -631259.4 | R42: 0 | S42: -0.725327 | T42: -10.961127
D43: =E42+1 -> 45971 | E43: =D43+6 -> 45977 | F43: -0.056613815 | G43: -0.023821413 | H43: 0.043942558 | I43: -1757259.8 | J43: -4.7085497 | K43: -0.23971258 | L43: -0.10488992 | M43: 13819417 | N43: 0.2101525 | O43: 0.021256905 | P43: 0.01211887 | Q43: -784280.25 | R43: 0.36227116 | S43: -0.47823905 | T43: -4.8461166
D44: =E43+1 -> 45978 | E44: =D44+6 -> 45984 | F44: -0.34285956 | G44: 0.051920315 | H44: 0.040289431 | I44: 1526683.2 | J44: -0.64449607 | K44: 0.024978649 | L44: -0.17869931 | M44: -1427900.8 | N44: 0.29507718 | O44: -0.00358069 | P44: 0 | Q44: -550066.46 | R44: 0.18685679 | S44: -0.1646764 | T44: -0.75737006
D45: =E44+1 -> 45985 | E45: =D45+6 -> 45991 | F45: -0.30577522 | G45: 0.000550969 | H45: 0.016192423 | I45: 64564.529 | J45: -5.7244657 | K45: -0.2924905 | L45: -0.1514563 | M45: 13403075 | N45: -0.3085408 | O45: -0.098082535 | P45: -0.030888877 | Q45: -368458.69 | R45: 0.051895952 | S45: -0.40732786 | T45: -6.8949565
D46: NOVEMBER '25
D47: =E45+1 -> 45992 | E47: =D47+6 -> 45998 | F47: 0.61529023 | G47: 0.17207513 | H47: 0.14163909 | I47: -11205944 | J47: -4.2839542 | K47: -0.79761205 | L47: -0.4215855 | M47: 808975.67 | N47: -0.78768811 | O47: -0.097861884 | P47: -0.12080854 | Q47: -830954.18 | R47: -0.0075126714 | S47: -1.3472605 | T47: -5.5805058
D48: =E47+1 -> 45999 | E48: =D48+6 -> 46005 | F48: -0.26829528 | G48: -0.044615027 | H48: -0.002234662 | I48: 1033168.5 | J48: -8.5238448 | K48: -0.93210527 | L48: -0.35617479 | M48: 25345310 | N48: -0.65318803 | O48: -0.17699249 | P48: -0.12671849 | Q48: -845582.61 | R48: -0.16654215 | S48: -0.89966397 | T48: -11.084169
D49: =E48+1 -> 46006 | E49: =D49+6 -> 46012 | F49: -0.32382284 | G49: 0.003196377 | H49: 0 | I49: 5281789.9 | J49: -5.0143751 | K49: -0.33828149 | L49: -0.15974854 | M49: 11239359 | N49: -0.49231819 | O49: -0.10906542 | P49: -0.03307483 | Q49: -825455.28 | R49: -0.022827452 | S49: -0.81885931 | T49: -6.4674901
D50: =E49+1 -> 46013 | E50: =D50+6 -> 46019 | F50: -1.0390694 | G50: -0.1891613 | H50: -0.16353584 | I50: 5663088.7 | J50: -11.303095 | K50: -2.7914493 | L50: -2.7095356 | M50: 45771481 | N50: -0.28007847 | O50: -0.11071809 | P50: -0.1282093 | Q50: -1614368.2 | R50: -0.033687385 | S50: -1.142434 | T50: -18.714852
D51: DECEMBER '25
D52: =E50+1 -> 46020 | E52: =D52+6 -> 46026 | F52: 0.11162508 | G52: 0.062151854 | H52: 0.1449675 | I52: -6163544.4 | J52: -1.979647 | K52: -0.29005856 | L52: 0.099507874 | M52: -7063608.5 | N52: -1.2312174 | O52: -0.2551037 | P52: -0.28748433 | Q52: -1370960.7 | R52: 0.0088416125 | S52: -1.5378889 | T52: -3.6252586
D53: =E52+1 -> 46027 | E53: =D53+6 -> 46033 | F53: 0.15410226 | G53: 0.025 | H53: 0.01396026 | I53: -2523436.1 | J53: -1.487892 | K53: -0.20218903 | L53: 0.075117899 | M53: -15437474 | N53: -0.2069974 | O53: -0.16751703 | P53: -0.25921128 | Q53: -1725118.8 | R53: -0.05009535 | S53: -1.2136936 | T53: -2.0556263
D54: =E53+1 -> 46034 | E54: =D54+6 -> 46040 | F54: -0.21336906 | G54: -0.056186036 | H54: -0.040056401 | I54: 294146.05 | J54: 0.24395706 | K54: -0.19002787 | L54: -0.28960931 | M54: -8517075.9 | N54: -0.32993613 | O54: -0.093420697 | P54: -0.21678479 | Q54: -2714348.3 | R54: 0.16758448 | S54: -1.2430399 | T54: -1.1854332
D55: =E54+1 -> 46041 | E55: =D55+6 -> 46047 | F55: -0.26549876 | G55: -0.039862294 | H55: -0.000333331 | I55: -1047728 | J55: -2.7184429 | K55: -0.21485044 | L55: -0.035650643 | M55: 387479.54 | N55: 0.095966047 | O55: 0.0230823 | P55: 0.019150319 | Q55: -2139152.7 | R55: 0.18903813 | S55: -0.72423264 | T55: -3.1364397
D56: =E55+1 -> 46048 | E56: =D56+6 -> 46054 | F56: -0.48067892 | G56: -0.002362143 | H56: 0.021826153 | I56: 569347.32 | J56: -3.1233012 | K56: -0.55658525 | L56: -0.32895738 | M56: 6414619.8 | N56: 0.050466481 | O56: -0.054443311 | P56: -0.10289038 | Q56: -1242081.7 | R56: -0.048290949 | S56: -0.96682195 | T56: -4.5769259
D57: JANUARY '26
D58: =E56+1 -> 46055 | E58: =D58+6 -> 46061 | F58: -0.36077843 | G58: 0.034967715 | H58: 0.012997343 | I58: -303672.17 | J58: -2.6136224 | K58: -0.17193445 | L58: -0.11584567 | M58: -1088151.6 | N58: 0.20279058 | O58: -0.02212113 | P58: -0.085558588 | Q58: -1720100.4 | R58: 0.019880757 | S58: -0.59992534 | T58: -3.119105
D59: =E58+1 -> 46062 | E59: =D59+6 -> 46068 | F59: 0.14229682 | G59: 0.020673578 | H59: 0.007172573 | I59: -2643919.9 | J59: 2.2873038 | K59: 0.73695635 | L59: 0.64569239 | M59: -22268244 | N59: 0.80846668 | O59: 0.092241029 | P59: -0.018180292 | Q59: -2297423.9 | R59: -0.0098991184 | S59: -0.31131894 | T59: 4.7226229
D60: =E59+1 -> 46069 | E60: =D60+6 -> 46075 | F60: -0.43929392 | G60: -0.025 | H60: -0.000991113 | I60: 171367.89 | J60: -4.4412217 | K60: -0.23423319 | L60: 0.063301547 | M60: 7096800.4 | N60: -0.15394848 | O60: -0.020545579 | P60: 0.06192712 | Q60: -1898355.1 | R60: -0.0044822275 | S60: -0.44128648 | T60: -5.1900053
D61: =E60+1 -> 46076 | E61: =D61+6 -> 46082 | F61: 0.10288523 | G61: 0.093304622 | H61: 0.065737168 | I61: -3454815.9 | J61: -3.3116008 | K61: -0.026730352 | L61: -0.058143605 | M61: 2387155.9 | N61: 0.019903821 | O61: 0.040370289 | P61: 0 | Q61: -717468.75 | R61: 0.061640875 | S61: -0.2528885 | T61: -3.0742736
D62: FEBRUARY '26
D63: =E61+1 -> 46083 | E63: =D63+6 -> 46089 | F63: -0.7154064 | G63: -0.10501248 | H63: 0.011225817 | I63: 3014756.8 | J63: -9.5748765 | K63: -0.65855521 | L63: -0.34215364 | M63: 32320555 | N63: -0.48240003 | O63: -0.069775016 | P63: -0.097739129 | Q63: -457489.34 | R63: 0.07629905 | S63: -0.93268842 | T63: -12.034693
D64: =E63+1 -> 46090 | E64: =D64+6 -> 46096 | F64: -0.99355704 | G64: -0.07058417 | H64: -0.04129471 | I64: 7877073 | J64: -10.991934 | K64: -0.76114104 | L64: -0.29975924 | M64: 61358004 | N64: -0.33078236 | O64: -0.077609353 | P64: -0.12695458 | Q64: -1014047.2 | R64: 0.087262613 | S64: -0.46225752 | T64: -13.693617
D65: =E64+1 -> 46097 | E65: =D65+6 -> 46103 | F65: -0.60541721 | G65: -0.069278956 | H65: -0.036497094 | I65: 1445598.7 | J65: -8.3616721 | K65: -0.88490303 | L65: -0.54143523 | M65: 30252984 | N65: 1.1098805 | O65: 0.12142588 | P65: -0.17254591 | Q65: -1686205.2 | R65: 0.11648006 | S65: -0.92450292 | T65: -9.4404432
D66: =E65+1 -> 46104 | E66: =D66+6 -> 46110 | F66: -0.18476114 | G66: 0.058289753 | H66: 0.042644312 | I66: 633223.25 | J66: -1.8776698 | K66: 0.35616843 | L66: 0.424016 | M66: 1520101.4 | N66: 2.1238898 | O66: 0.25943124 | P66: 0.030714997 | Q66: -2703519.6 | R66: 0.083111226 | S66: -0.43794373 | T66: 1.2327236
D67: =E66+1 -> 46111 | E67: =D67+1 -> 46112 | F67: -0.093733828 | G67: -0.012251084 | H67: 0 | I67: -952251.08 | J67: -0.95991018 | K67: 0.058193484 | L67: 0.017973626 | M67: 4829789.7 | N67: 0.1822304 | O67: 0.023456732 | P67: -0.02827606 | Q67: -952416.31 | R67: 0.026885397 | S67: -0.10864673 | T67: -0.81231691
D68: MARCH '26 | F68: =SUM(F63:F67) -> -2.5928756 | G68: =SUM(G63:G67) -> -0.19883693 | H68: =SUM(H63:H67) -> -0.023921675 | I68: =SUM(I63:I67) -> 12018401 | J68: =SUM(J63:J67) -> -31.766063 | K68: =SUM(K63:K67) -> -1.8902374 | L68: =SUM(L63:L67) -> -0.74135848 | M68: =SUM(M63:M67) -> 1.3028143e+08 | ... T68: =SUM(T63:T67) -> -34.748346
D69: 2025-26 | F69: =SUM(F68,F62,F57,F51,F46,F41,F35,F30,F25,F19,F14,F8) -> -5.5240005 | G69: =SUM(G68,G62,G57,G51,G46,G41,G35,G30,G25,G19,G14,G8) -> 0.84086688 | H69: =SUM(H68,H62,H57,H51,H46,H41,H35,H30,H25,H19,H14,H8) -> 2.3948545 | I69: =SUM(I68,I62,I57,I51,I46,I41,I35,I30,I25,I19,I14,I8) -> -1.8536753e+08 | J69: =SUM(J68,J62,J57,J51,J46,J41,J35,J30,J25,J19,J14,J8) -> -119.66748 | K69: =SUM(K68,K62,K57,K51,K46,K41,K35,K30,K25,K19,K14,K8) -> -13.351715 | L69: =SUM(L68,L62,L57,L51,L46,L41,L35,L30,L25,L19,L14,L8) -> -15.73961 | M69: =SUM(M68,M62,M57,M51,M46,M41,M35,M30,M25,M19,M14,M8) -> -63193374 | ... T69: =SUM(T68,T62,T57,T51,T46,T41,T35,T30,T25,T19,T14,T8) -> -146.85299

Sheet APERC Data Apr' 25
D1: DSM DATA FY 2025-26 (Annexure-8)
D3: Period | F3: F<=49.90 | I3: Amount in Rs. | J3: 49.9 to 50.05 | M3: Amount in Rs. | N3: F>50.05 | Q3: Amount in Rs. | R3: Post Facto | S3: UD Energy with no incentive | T3: Net Energy(MU)(w/o Post Facto) | U3: Total Charges(Rs.Cr) (Including Postfacto and additional)
F4: Upto 250MW | G4: 250 to 350 MW | H4: >350MW | J4: Upto 250MW | K4: 250 to 350 MW | L4: >350MW | N4: Upto 250MW | O4: 250 to 350 MW | P4: >350MW
D5: From | E5: To | F5: Energy(MU) | G5: Energy(MU) | H5: Energy(MU) | J5: Energy(MU) | K5: Energy(MU) | L5: Energy(MU) | N5: Energy(MU) | O5: Energy(MU) | P5: Energy(MU) | R5: Energy(MU)
D6: 45748 | E6: 06-04.2025 | F6: 0.062250276 | G6: 0.11491648 | H6: 0.060991916 | I6: -5774460.7 | J6: -0.056870068 | K6: 0.42667108 | L6: 0.6468687 | M6: -21191572 | N6: -0.56316025 | O6: -0.063470972 | P6: -0.044276571 | Q6: -152388.54 | R6: 0.019979296 | S6: -0.74976212 | T6: 0.58392058 | U6: -2.7172554
D7: 45754 | E7: 45760 | F7: 0.11575954 | G7: 0.099320949 | H7: 0.46311109 | I7: -12448086 | J7: -2.1981094 | K7: -0.34536595 | L7: -0.47044492 | M7: -33444557 | N7: 1.5490202 | O7: 0.4346681 | P7: 0.45469229 | Q7: -2686692.7 | R7: 0.07876613 | S7: -1.0219767 | T7: 0.10265181 | U7: -4.8773391
D8: 45761 | E8: 45767 | F8: 0.87454463 | G8: 0.32922158 | H8: 1.1565191 | I8: -39120638 | J8: 3.9053398 | K8: 0.90650442 | L8: 1.4731631 | M8: -60400511 | N8: 1.3044945 | O8: 0.27673513 | P8: 0.38334122 | Q8: -3065368.9 | R8: 0.10569416 | S8: -0.29492065 | T8: 10.609863 | U8: -10.296305
D9: 45768 | E9: 45804 | F9: ='2025-26 With Postfacto'!F7 -> 0.52247294 | G9: ='2025-26 With Postfacto'!G7 -> 0.059297164 | H9: ='2025-26 With Postfacto'!H7 -> 0.12672852 | I9: ='2025-26 With Postfacto'!I7 -> -17365589 | J9: ='2025-26 With Postfacto'!J7 -> 2.8968111 | K9: ='2025-26 With Postfacto'!K7 -> 0.23354654 | L9: ='2025-26 With Postfacto'!L7 -> -0.51872243 | M9: ='2025-26 With Postfacto'!M7 -> -43223704 | ... T9: ='2025-26 With Postfacto'!T7 -> 2.1664221 | U9: -6.2757339
D10: April '25 | F10: =SUM(F6:F9) -> 1.5750274 | G10: =SUM(G6:G9) -> 0.60275617 | H10: =SUM(H6:H9) -> 1.8073506 | I10: =SUM(I6:I9) -> -74708774 | J10: =SUM(J6:J9) -> 4.5471714 | K10: =SUM(K6:K9) -> 1.2213561 | L10: =SUM(L6:L9) -> 1.1308644 | M10: =SUM(M6:M9) -> -1.5826034e+08 | ... U10: =SUM(U6:U9) -> -24.166633
D11: 45775 | E11: 45781 | F11: -0.086000729 | G11: -0.041169386 | H11: -0.030457991 | I11: -15758.407 | J11: -6.2072866 | K11: -0.99957389 | L11: -2.1143654 | M11: 25494036 | N11: 0.75259163 | O11: -0.006104152 | P11: -0.25505477 | Q11: -3144666 | R11: 0.17011442 | S11: -1.0242043 | T11: -8.9874213 | U11: 2.1744574
D12: 45782 | E12: 45788 | F12: -0.53990012 | G12: -0.023508859 | H12: -0.044022443 | I12: 2397277.4 | J12: -1.0332386 | K12: 0.15494293 | L12: 0.50075609 | M12: -3087944 | N12: 0.71851775 | O12: 0.089258171 | P12: 0.26367328 | Q12: -4623581.9 | R12: 0.17320584 | S12: -0.28757806 | T12: 0.086478169 | U12: -0.5806187
D13: 45789 | E13: 45795 | F13: 0.12025767 | G13: 0.045316569 | H13: 0.10623364 | I13: -7998063.2 | J13: -3.2851564 | K13: -0.7491605 | L13: -0.85499952 | M13: -8922638.7 | N13: -0.13140827 | O13: -0.040568877 | P13: -0.20586903 | Q13: -1577510.8 | R13: 0.18959787 | S13: -1.3636151 | T13: -4.9953547 | U13: -1.9065395
D14: 45796 | E14: 45802 | F14: -0.027795408 | G14: 0.060051167 | H14: 0.029651219 | I14: -4158444.1 | J14: -6.2278476 | K14: -1.2520305 | L14: -1.4763005 | M14: 13824086 | N14: -0.4162169 | O14: -0.22737217 | P14: -0.33133959 | Q14: -2095096 | R14: 0.12276583 | S14: -1.9893017 | T14: -9.8692003 | U14: 0.7217744
D15: 45803 | E15: 45809 | F15: -0.10210796 | G15: 0.031818143 | H15: 0.009773943 | I15: -1070376.7 | J15: -7.6990712 | K15: -1.1683065 | L15: -0.61853772 | M15: 24617316 | N15: -0.7720427 | O15: -0.14313706 | P15: 0.14110209 | Q15: -2175539.7 | R15: 0.17880144 | S15: -1.2682095 | T15: -10.320509 | U15: 2.0870488
D16: May '25 | F16: =SUM(F11:F15) -> -0.63554654 | G16: =SUM(G11:G15) -> 0.072507634 | H16: =SUM(H11:H15) -> 0.071178368 | I16: =SUM(I11:I15) -> -10845365 | J16: =SUM(J11:J15) -> -24.4526 | K16: =SUM(K11:K15) -> -4.0141285 | L16: =SUM(L11:L15) -> -4.5634471 | M16: =SUM(M11:M15) -> 51924855 | ... U16: =SUM(U11:U15) -> 2.4961224
D17: 45810 | E17: 45816 | F17: ='2025-26 With Postfacto'!F15 -> 0.036117509 | G17: ='2025-26 With Postfacto'!G15 -> 0.023377206 | H17: ='2025-26 With Postfacto'!H15 -> 0.15454698 | I17: ='2025-26 With Postfacto'!I15 -> -13547157 | J17: ='2025-26 With Postfacto'!J15 -> -0.006481411 | K17: ='2025-26 With Postfacto'!K15 -> -0.12581906 | L17: ='2025-26 With Postfacto'!L15 -> 0.34552894 | M17: ='2025-26 With Postfacto'!M15 -> -29956798 | ... T17: ='2025-26 With Postfacto'!T15 -> 0.052581959 | U17: -4.5288038
D18: 45817 | E18: 45823 | F18: ='2025-26 With Postfacto'!F16 -> -0.82449766 | G18: ='2025-26 With Postfacto'!G16 -> -0.20759496 | H18: ='2025-26 With Postfacto'!H16 -> -0.67331992 | I18: ='2025-26 With Postfacto'!I16 -> 642159.06 | J18: ='2025-26 With Postfacto'!J16 -> -3.9453407 | K18: ='2025-26 With Postfacto'!K16 -> -0.78893493 | L18: ='2025-26 With Postfacto'!L16 -> -0.83161992 | M18: ='2025-26 With Postfacto'!M16 -> 7375918.7 | ... T18: ='2025-26 With Postfacto'!T16 -> -8.2385857 | U18: 0.5479208
D19: 45824 | E19: 45830 | F19: ='2025-26 With Postfacto'!F17 -> -0.70361736 | G19: ='2025-26 With Postfacto'!G17 -> -0.077620823 | H19: ='2025-26 With Postfacto'!H17 -> -0.036353024 | I19: ='2025-26 With Postfacto'!I17 -> 2786589.4 | J19: ='2025-26 With Postfacto'!J17 -> -4.2284342 | K19: ='2025-26 With Postfacto'!K17 -> -0.4510488 | L19: ='2025-26 With Postfacto'!L17 -> -0.58382196 | M19: ='2025-26 With Postfacto'!M17 -> 4178521.4 | ... T19: ='2025-26 With Postfacto'!T17 -> -5.6251895 | U19: 0.4231385
D20: 45831 | E20: 45837 | F20: ='2025-26 With Postfacto'!F18 -> -0.028293474 | G20: ='2025-26 With Postfacto'!G18 -> 0.060115105 | H20: ='2025-26 With Postfacto'!H18 -> 0.0433282 | I20: ='2025-26 With Postfacto'!I18 -> -6503827.1 | J20: ='2025-26 With Postfacto'!J18 -> -4.1096978 | K20: ='2025-26 With Postfacto'!K18 -> -0.45392991 | L20: ='2025-26 With Postfacto'!L18 -> -0.52003414 | M20: ='2025-26 With Postfacto'!M18 -> 5997064.9 | ... T20: ='2025-26 With Postfacto'!T18 -> -4.5082203 | U20: -0.4072177
D21: Jun '25 | F21: =SUM(F17:F20) -> -1.520291 | G21: =SUM(G17:G20) -> -0.20172347 | H21: =SUM(H17:H20) -> -0.51179777 | I21: =SUM(I17:I20) -> -16622235 | J21: =SUM(J17:J20) -> -12.289954 | K21: =SUM(K17:K20) -> -1.8197327 | L21: =SUM(L17:L20) -> -1.5899471 | M21: =SUM(M17:M20) -> -12405293 | ... U21: =SUM(U17:U20) -> -3.9649622
D22: 45838 | E22: 45844 | F22: ='2025-26 With Postfacto'!F20 -> -0.70785484 | G22: ='2025-26 With Postfacto'!G20 -> -0.076128102 | H22: ='2025-26 With Postfacto'!H20 -> 0.005497867 | I22: ='2025-26 With Postfacto'!I20 -> 945649.86 | J22: ='2025-26 With Postfacto'!J20 -> -5.1983559 | K22: ='2025-26 With Postfacto'!K20 -> -0.54833831 | L22: ='2025-26 With Postfacto'!L20 -> -0.14775313 | M22: ='2025-26 With Postfacto'!M20 -> 12413692 | ... T22: ='2025-26 With Postfacto'!T20 -> -6.2495203 | U22: 0.9666298
D23: 45845 | E23: 45851 | F23: ='2025-26 With Postfacto'!F21 -> 0.41943567 | G23: ='2025-26 With Postfacto'!G21 -> 0.19365254 | H23: ='2025-26 With Postfacto'!H21 -> 0.2355478 | I23: ='2025-26 With Postfacto'!I21 -> -17502425 | J23: ='2025-26 With Postfacto'!J21 -> -3.168997 | K23: ='2025-26 With Postfacto'!K21 -> -0.49035424 | L23: ='2025-26 With Postfacto'!L21 -> -1.3035203 | M23: ='2025-26 With Postfacto'!M21 -> -1552607.1 | ... T23: ='2025-26 With Postfacto'!T21 -> -4.28402 | U23: -2.1562035
D24: 45852 | E24: 45858 | F24: ='2025-26 With Postfacto'!F22 -> -0.242072 | G24: ='2025-26 With Postfacto'!G22 -> 0.038942788 | H24: ='2025-26 With Postfacto'!H22 -> 0.053365695 | I24: ='2025-26 With Postfacto'!I22 -> -2780825.4 | J24: ='2025-26 With Postfacto'!J22 -> -0.47399095 | K24: ='2025-26 With Postfacto'!K22 -> 0.14130156 | L24: ='2025-26 With Postfacto'!L22 -> -0.010629231 | M24: ='2025-26 With Postfacto'!M22 -> -14431105 | ... T24: ='2025-26 With Postfacto'!T22 -> 0.81195134 | U24: -2.2450299
D25: 45859 | E25: 45865 | F25: ='2025-26 With Postfacto'!F23 -> -0.45468025 | G25: ='2025-26 With Postfacto'!G23 -> -0.057169684 | H25: ='2025-26 With Postfacto'!H23 -> -0.024862522 | I25: ='2025-26 With Postfacto'!I23 -> 2135044.7 | J25: ='2025-26 With Postfacto'!J23 -> -3.3866339 | K25: ='2025-26 With Postfacto'!K23 -> -0.43611549 | L25: ='2025-26 With Postfacto'!L23 -> -0.51878295 | M25: ='2025-26 With Postfacto'!M23 -> 4699684.6 | ... T25: ='2025-26 With Postfacto'!T23 -> -4.7690821 | U25: 0.4879808
D26: 45866 | E26: 45872 | F26: ='2025-26 With Postfacto'!F24 -> 0.54421665 | G26: ='2025-26 With Postfacto'!G24 -> 0.12403124 | H26: ='2025-26 With Postfacto'!H24 -> 0.051163494 | I26: ='2025-26 With Postfacto'!I24 -> -5431187.6 | J26: ='2025-26 With Postfacto'!J24 -> 1.5928897 | K26: ='2025-26 With Postfacto'!K24 -> 0.86356688 | L26: ='2025-26 With Postfacto'!L24 -> 1.0668524 | M26: ='2025-26 With Postfacto'!M24 -> -22627688 | ... T26: ='2025-26 With Postfacto'!T24 -> 5.2093689 | U26: -3.039405
D27: Jul '25 | F27: =SUM(F22:F26) -> -0.44095477 | G27: =SUM(G22:G26) -> 0.22332878 | H27: =SUM(H22:H26) -> 0.32071233 | I27: =SUM(I22:I26) -> -22633743 | J27: =SUM(J22:J26) -> -10.635088 | K27: =SUM(K22:K26) -> -0.4699396 | L27: =SUM(L22:L26) -> -0.91383325 | M27: =SUM(M22:M26) -> -21498023 | ... U27: =SUM(U22:U26) -> -5.9860278
D28: 45873 | E28: 45879 | F28: ='2025-26 With Postfacto'!F26 -> 0.55163016 | G28: ='2025-26 With Postfacto'!G26 -> 0.23970963 | H28: ='2025-26 With Postfacto'!H26 -> 0.94163604 | I28: ='2025-26 With Postfacto'!I26 -> -30674318 | J28: ='2025-26 With Postfacto'!J26 -> 4.4084567 | K28: ='2025-26 With Postfacto'!K26 -> 1.1386136 | L28: ='2025-26 With Postfacto'!L26 -> 3.4002306 | M28: ='2025-26 With Postfacto'!M26 -> -1.1345983e+08 | ... T28: ='2025-26 With Postfacto'!T26 -> 10.854769 | U28: -14.795351
D29: 45880 | E29: 45886 | F29: -0.91133159 | G29: -0.072084205 | H29: -0.46614829 | I29: 819377.5 | J29: -4.9488606 | K29: -0.88419096 | L29: -2.2671394 | M29: 10750627 | N29: 0.18944418 | O29: -0.029417776 | P29: -0.3095162 | Q29: -796306.99 | R29: 0.13087049 | S29: -0.80215287 | T29: -9.6992449 | U29: 1.0280611
D30: 45887 | E30: 45893 | F30: ='2025-26 With Postfacto'!F28 -> 0.21932312 | G30: ='2025-26 With Postfacto'!G28 -> 0.021714666 | H30: ='2025-26 With Postfacto'!H28 -> -0.036938232 | I30: ='2025-26 With Postfacto'!I28 -> -10318777 | J30: ='2025-26 With Postfacto'!J28 -> -5.5311608 | K30: ='2025-26 With Postfacto'!K28 -> -1.0598033 | L30: ='2025-26 With Postfacto'!L28 -> -1.9291401 | M30: ='2025-26 With Postfacto'!M28 -> 14589770 | ... T30: ='2025-26 With Postfacto'!T28 -> -11.169832 | U30: 0.2314342
D31: 45894 | E31: 45900 | F31: ='2025-26 With Postfacto'!F29 -> -0.69248032 | G31: ='2025-26 With Postfacto'!G29 -> -0.1423418 | H31: ='2025-26 With Postfacto'!H29 -> -0.099107611 | I31: ='2025-26 With Postfacto'!I29 -> 1077014.2 | J31: ='2025-26 With Postfacto'!J29 -> -3.9346659 | K31: ='2025-26 With Postfacto'!K29 -> -1.0935541 | L31: ='2025-26 With Postfacto'!L29 -> -2.7905492 | M31: ='2025-26 With Postfacto'!M29 -> 4700518 | ... T31: ='2025-26 With Postfacto'!T29 -> -10.528093 | U31: 0.4298131
D32: Aug '25 | F32: =SUM(F28:F31) -> -0.83285862 | G32: =SUM(G28:G31) -> 0.046998285 | H32: =SUM(H28:H31) -> 0.3394419 | I32: =SUM(I28:I31) -> -39096703 | J32: =SUM(J28:J31) -> -10.006231 | K32: =SUM(K28:K31) -> -1.8989347 | L32: =SUM(L28:L31) -> -3.586598 | M32: =SUM(M28:M31) -> -83418915 | ... U32: =SUM(U28:U31) -> -13.106043
D33: 45901 | E33: 45907 | F33: ='2025-26 With Postfacto'!F31 -> 0.64872447 | G33: ='2025-26 With Postfacto'!G31 -> 0.15530959 | H33: ='2025-26 With Postfacto'!H31 -> 0.031891385 | I33: ='2025-26 With Postfacto'!I31 -> -4752158.6 | J33: ='2025-26 With Postfacto'!J31 -> -5.2569019 | K33: ='2025-26 With Postfacto'!K31 -> -0.8464572 | L33: ='2025-26 With Postfacto'!L31 -> -0.43946012 | M33: ='2025-26 With Postfacto'!M31 -> 969666.79 | ... T33: ='2025-26 With Postfacto'!T31 -> -6.2369399 | U33: -0.6391952
D34: 45908 | E34: 45914 | F34: ='2025-26 With Postfacto'!F32 -> 0.87406961 | G34: ='2025-26 With Postfacto'!G32 -> 0.20518989 | H34: ='2025-26 With Postfacto'!H32 -> 0.37636439 | I34: ='2025-26 With Postfacto'!I32 -> -24941592 | J34: ='2025-26 With Postfacto'!J32 -> 3.4161826 | K34: ='2025-26 With Postfacto'!K32 -> 0.74188155 | L34: ='2025-26 With Postfacto'!L32 -> 0.77694057 | M34: ='2025-26 With Postfacto'!M32 -> -65908994 | ... T34: ='2025-26 With Postfacto'!T32 -> 5.6679005 | U34: -9.2203691
D35: 45915 | E35: 45921 | F35: ='2025-26 With Postfacto'!F33 -> -0.048095471 | G35: ='2025-26 With Postfacto'!G33 -> 0.003213547 | H35: ='2025-26 With Postfacto'!H33 -> 0.009749859 | I35: ='2025-26 With Postfacto'!I33 -> 221137.1 | J35: ='2025-26 With Postfacto'!J33 -> -8.1734312 | K35: ='2025-26 With Postfacto'!K33 -> -0.71443252 | L35: ='2025-26 With Postfacto'!L33 -> -1.2298446 | M35: ='2025-26 With Postfacto'!M33 -> 10641068 | ... T35: ='2025-26 With Postfacto'!T33 -> -10.176004 | U35: 0.806193
D36: 45922 | E36: 45928 | F36: ='2025-26 With Postfacto'!F34 -> -0.46482927 | G36: ='2025-26 With Postfacto'!G34 -> -0.018989146 | H36: ='2025-26 With Postfacto'!H34 -> -0.056384898 | I36: ='2025-26 With Postfacto'!I34 -> -233192.8 | J36: ='2025-26 With Postfacto'!J34 -> -8.5673795 | K36: ='2025-26 With Postfacto'!K34 -> -1.366563 | L36: ='2025-26 With Postfacto'!L34 -> -1.9857335 | M36: ='2025-26 With Postfacto'!M34 -> 13227558 | ... T36: ='2025-26 With Postfacto'!T34 -> -13.901308 | U36: 1.0589895
D37: SEPTEMBER '25 | F37: =SUM(F33:F36) -> 1.0098694 | G37: =SUM(G33:G36) -> 0.34472387 | H37: =SUM(H33:H36) -> 0.36162074 | I37: =SUM(I33:I36) -> -29705806 | J37: =SUM(J33:J36) -> -18.58153 | K37: =SUM(K33:K36) -> -2.1855712 | L37: =SUM(L33:L36) -> -2.8780977 | M37: =SUM(M33:M36) -> -41070700 | ... U37: =SUM(U33:U36) -> -7.9943818
D38: =E36+1 -> 45929 | E38: =D38+6 -> 45935 | F38: ='2025-26 With Postfacto'!F36 -> 0.14054507 | G38: ='2025-26 With Postfacto'!G36 -> 0.070833233 | H38: ='2025-26 With Postfacto'!H36 -> 0.25078197 | I38: ='2025-26 With Postfacto'!I36 -> -4458349.9 | J38: ='2025-26 With Postfacto'!J36 -> -2.054935 | K38: ='2025-26 With Postfacto'!K36 -> -0.40481795 | L38: ='2025-26 With Postfacto'!L36 -> -1.0601769 | M38: ='2025-26 With Postfacto'!M36 -> -7582384.4 | ... T38: ='2025-26 With Postfacto'!T36 -> -3.1820854 | U38: -1.4450255
D39: =E38+1 -> 45936 | E39: =D39+6 -> 45942 | F39: ='2025-26 With Postfacto'!F37 -> -0.12281364 | G39: ='2025-26 With Postfacto'!G37 -> -0.031533831 | H39: ='2025-26 With Postfacto'!H37 -> 0.059235699 | I39: ='2025-26 With Postfacto'!I37 -> -5156208 | J39: ='2025-26 With Postfacto'!J37 -> -2.527564 | K39: ='2025-26 With Postfacto'!K37 -> -0.27302363 | L39: ='2025-26 With Postfacto'!L37 -> -1.053784 | M39: ='2025-26 With Postfacto'!M37 -> -3171054.6 | ... T39: ='2025-26 With Postfacto'!T37 -> -4.7375168 | U39: -0.9788557
D40: =E39+1 -> 45943 | E40: =D40+6 -> 45949 | F40: ='2025-26 With Postfacto'!F38 -> -0.56068094 | G40: ='2025-26 With Postfacto'!G38 -> -0.10129351 | H40: ='2025-26 With Postfacto'!H38 -> -0.19081267 | I40: ='2025-26 With Postfacto'!I38 -> 1046207.1 | J40: ='2025-26 With Postfacto'!J38 -> -1.2941206 | K40: ='2025-26 With Postfacto'!K38 -> -0.33800527 | L40: ='2025-26 With Postfacto'!L38 -> -0.43914299 | M40: ='2025-26 With Postfacto'!M38 -> -10240530 | ... T40: ='2025-26 With Postfacto'!T38 -> -3.1013917 | U40: -1.0202044
D41: =E40+1 -> 45950 | E41: =D41+6 -> 45956 | F41: ='2025-26 With Postfacto'!F39 -> 0.12434993 | G41: ='2025-26 With Postfacto'!G39 -> 0.08688961 | H41: ='2025-26 With Postfacto'!H39 -> 0.29179321 | I41: ='2025-26 With Postfacto'!I39 -> -7380741.6 | J41: ='2025-26 With Postfacto'!J39 -> -3.7326052 | K41: ='2025-26 With Postfacto'!K39 -> -0.20523457 | L41: ='2025-26 With Postfacto'!L39 -> 0.40456805 | M41: ='2025-26 With Postfacto'!M39 -> -5510308.5 | ... T41: ='2025-26 With Postfacto'!T39 -> -4.360801 | U41: -1.5000385
D42: =E41+1 -> 45957 | E42: =D42+6 -> 45963 | F42: ='2025-26 With Postfacto'!F40 -> 0.24960666 | G42: ='2025-26 With Postfacto'!G40 -> 0.072365149 | H42: ='2025-26 With Postfacto'!H40 -> -0.16116648 | I42: ='2025-26 With Postfacto'!I40 -> -15270157 | J42: ='2025-26 With Postfacto'!J40 -> -6.220484 | K42: ='2025-26 With Postfacto'!K40 -> -0.82334902 | L42: ='2025-26 With Postfacto'!L40 -> -1.0221576 | M42: ='2025-26 With Postfacto'!M40 -> -3156844 | ... T42: ='2025-26 With Postfacto'!T40 -> -9.2635151 | U42: -1.9934201
D43: OCTOBER '25 | F43: =SUM(F38:F42) -> -0.16899291 | G43: =SUM(G38:G42) -> 0.097260648 | H43: =SUM(H38:H42) -> 0.24983174 | I43: =SUM(I38:I42) -> -31219249 | J43: =SUM(J38:J42) -> -15.829709 | K43: =SUM(K38:K42) -> -2.0444304 | L43: =SUM(L38:L42) -> -3.1706934 | M43: =SUM(M38:M42) -> -29661122 | ... U43: =SUM(U38:U42) -> -6.9375442
D44: =E42+1 -> 45964 | E44: =D44+6 -> 45970 | F44: ='2025-26 With Postfacto'!F42 -> -0.38163927 | G44: ='2025-26 With Postfacto'!G42 -> -0.080987079 | H44: ='2025-26 With Postfacto'!H42 -> -0.026942323 | I44: ='2025-26 With Postfacto'!I42 -> 1154703.4 | J44: ='2025-26 With Postfacto'!J42 -> -8.3337207 | K44: ='2025-26 With Postfacto'!K42 -> -0.77296564 | L44: ='2025-26 With Postfacto'!L42 -> -0.8395971 | M44: ='2025-26 With Postfacto'!M42 -> 25345645 | ... T44: ='2025-26 With Postfacto'!T42 -> -10.961127 | U44: 2.5246301
D45: =E44+1 -> 45971 | E45: =D45+6 -> 45977 | F45: ='2025-26 With Postfacto'!F43 -> -0.056613815 | G45: ='2025-26 With Postfacto'!G43 -> -0.023821413 | H45: ='2025-26 With Postfacto'!H43 -> 0.043942558 | I45: ='2025-26 With Postfacto'!I43 -> -1757259.8 | J45: ='2025-26 With Postfacto'!J43 -> -4.7085497 | K45: ='2025-26 With Postfacto'!K43 -> -0.23971258 | L45: ='2025-26 With Postfacto'!L43 -> -0.10488992 | M45: ='2025-26 With Postfacto'!M43 -> 13819417 | ... T45: ='2025-26 With Postfacto'!T43 -> -4.8461166 | U45: 1.0352435
D46: =E45+1 -> 45978 | E46: =D46+6 -> 45984 | F46: ='2025-26 With Postfacto'!F44 -> -0.34285956 | G46: ='2025-26 With Postfacto'!G44 -> 0.051920315 | H46: ='2025-26 With Postfacto'!H44 -> 0.040289431 | I46: ='2025-26 With Postfacto'!I44 -> 1526683.2 | J46: ='2025-26 With Postfacto'!J44 -> -0.64449607 | K46: ='2025-26 With Postfacto'!K44 -> 0.024978649 | L46: ='2025-26 With Postfacto'!L44 -> -0.17869931 | M46: ='2025-26 With Postfacto'!M44 -> -1427900.8 | ... T46: ='2025-26 With Postfacto'!T44 -> -0.75737006 | U46: -0.0885703
D47: =E46+1 -> 45985 | E47: =D47+6 -> 45991 | F47: ='2025-26 With Postfacto'!F45 -> -0.30577522 | G47: ='2025-26 With Postfacto'!G45 -> 0.000550969 | H47: ='2025-26 With Postfacto'!H45 -> 0.016192423 | I47: ='2025-26 With Postfacto'!I45 -> 64564.529 | J47: ='2025-26 With Postfacto'!J45 -> -5.7244657 | K47: ='2025-26 With Postfacto'!K45 -> -0.2924905 | L47: ='2025-26 With Postfacto'!L45 -> -0.1514563 | M47: ='2025-26 With Postfacto'!M45 -> 13403075 | ... T47: ='2025-26 With Postfacto'!T45 -> -6.8949565 | U47: 1.3004286
D48: NOVEMBER '25 | F48: =SUM(F44:F47) -> -1.0868879 | G48: =SUM(G44:G47) -> -0.052337208 | H48: =SUM(H44:H47) -> 0.073482089 | I48: =SUM(I44:I47) -> 988691.4 | J48: =SUM(J44:J47) -> -19.411232 | K48: =SUM(K44:K47) -> -1.2801901 | L48: =SUM(L44:L47) -> -1.2746426 | M48: =SUM(M44:M47) -> 51140237 | ... U48: =SUM(U44:U47) -> 4.7717319
D49: =E47+1 -> 45992 | E49: =D49+6 -> 45998 | F49: ='2025-26 With Postfacto'!F47 -> 0.61529023 | G49: ='2025-26 With Postfacto'!G47 -> 0.17207513 | H49: ='2025-26 With Postfacto'!H47 -> 0.14163909 | I49: ='2025-26 With Postfacto'!I47 -> -11205944 | J49: ='2025-26 With Postfacto'!J47 -> -4.2839542 | K49: ='2025-26 With Postfacto'!K47 -> -0.79761205 | L49: ='2025-26 With Postfacto'!L47 -> -0.4215855 | M49: ='2025-26 With Postfacto'!M47 -> 808975.67 | ... T49: ='2025-26 With Postfacto'!T47 -> -5.5805058 | U49: -1.115031
D50: =E49+1 -> 45999 | E50: =D50+6 -> 46005 | F50: ='2025-26 With Postfacto'!F48 -> -0.26829528 | G50: ='2025-26 With Postfacto'!G48 -> -0.044615027 | H50: ='2025-26 With Postfacto'!H48 -> -0.002234662 | I50: ='2025-26 With Postfacto'!I48 -> 1033168.5 | J50: ='2025-26 With Postfacto'!J48 -> -8.5238448 | K50: ='2025-26 With Postfacto'!K48 -> -0.93210527 | L50: ='2025-26 With Postfacto'!L48 -> -0.35617479 | M50: ='2025-26 With Postfacto'!M48 -> 25345310 | ... T50: ='2025-26 With Postfacto'!T48 -> -11.084169 | U50: 2.6166198
D51: =E50+1 -> 46006 | E51: =D51+6 -> 46012 | F51: ='2025-26 With Postfacto'!F49 -> -0.32382284 | G51: ='2025-26 With Postfacto'!G49 -> 0.003196377 | H51: ='2025-26 With Postfacto'!H49 -> 0 | I51: ='2025-26 With Postfacto'!I49 -> 5281789.9 | J51: ='2025-26 With Postfacto'!J49 -> -5.0143751 | K51: ='2025-26 With Postfacto'!K49 -> -0.33828149 | L51: ='2025-26 With Postfacto'!L49 -> -0.15974854 | M51: ='2025-26 With Postfacto'!M49 -> 11239359 | ... T51: ='2025-26 With Postfacto'!T49 -> -6.4674901 | U51: 1.5834586
D52: =E51+1 -> 46013 | E52: =D52+6 -> 46019 | F52: ='2025-26 With Postfacto'!F50 -> -1.0390694 | G52: ='2025-26 With Postfacto'!G50 -> -0.1891613 | H52: ='2025-26 With Postfacto'!H50 -> -0.16353584 | I52: ='2025-26 With Postfacto'!I50 -> 5663088.7 | J52: ='2025-26 With Postfacto'!J50 -> -11.303095 | K52: ='2025-26 With Postfacto'!K50 -> -2.7914493 | L52: ='2025-26 With Postfacto'!L50 -> -2.7095356 | M52: ='2025-26 With Postfacto'!M50 -> 45771481 | ... T52: ='2025-26 With Postfacto'!T50 -> -18.714852 | U52: 4.9997312
D53: DECEMBER '25 | F53: =SUM(F49:F52) -> -1.0158973 | G53: =SUM(G49:G52) -> -0.058504811 | H53: =SUM(H49:H52) -> -0.024131408 | I53: =SUM(I49:I52) -> 772102.62 | J53: =SUM(J49:J52) -> -29.125269 | K53: =SUM(K49:K52) -> -4.8594481 | L53: =SUM(L49:L52) -> -3.6470444 | M53: =SUM(M49:M52) -> 83165126 | ... U53: =SUM(U49:U52) -> 8.0847786
D54: =E52+1 -> 46020 | E54: =D54+6 -> 46026 | F54: ='2025-26 With Postfacto'!F52 -> 0.11162508 | G54: ='2025-26 With Postfacto'!G52 -> 0.062151854 | H54: ='2025-26 With Postfacto'!H52 -> 0.1449675 | I54: ='2025-26 With Postfacto'!I52 -> -6163544.4 | J54: ='2025-26 With Postfacto'!J52 -> -1.979647 | K54: ='2025-26 With Postfacto'!K52 -> -0.29005856 | L54: ='2025-26 With Postfacto'!L52 -> 0.099507874 | M54: ='2025-26 With Postfacto'!M52 -> -7063608.5 | ... T54: ='2025-26 With Postfacto'!T52 -> -3.6252586 | U54: -1.4571173
D55: =E54+1 -> 46027 | E55: =D55+6 -> 46033 | F55: ='2025-26 With Postfacto'!F53 -> 0.15410226 | G55: ='2025-26 With Postfacto'!G53 -> 0.025 | H55: ='2025-26 With Postfacto'!H53 -> 0.01396026 | I55: ='2025-26 With Postfacto'!I53 -> -2523436.1 | J55: ='2025-26 With Postfacto'!J53 -> -1.487892 | K55: ='2025-26 With Postfacto'!K53 -> -0.20218903 | L55: ='2025-26 With Postfacto'!L53 -> 0.075117899 | M55: ='2025-26 With Postfacto'!M53 -> -15437474 | ... T55: ='2025-26 With Postfacto'!T53 -> -2.0556263 | U55: -1.9485388
D56: =E55+1 -> 46034 | E56: =D56+6 -> 46040 | F56: ='2025-26 With Postfacto'!F54 -> -0.21336906 | G56: ='2025-26 With Postfacto'!G54 -> -0.056186036 | H56: ='2025-26 With Postfacto'!H54 -> -0.040056401 | I56: ='2025-26 With Postfacto'!I54 -> 294146.05 | J56: ='2025-26 With Postfacto'!J54 -> 0.24395706 | K56: ='2025-26 With Postfacto'!K54 -> -0.19002787 | L56: ='2025-26 With Postfacto'!L54 -> -0.28960931 | M56: ='2025-26 With Postfacto'!M54 -> -8517075.9 | ... T56: ='2025-26 With Postfacto'!T54 -> -1.1854332 | U56: -1.147742
D57: =E56+1 -> 46041 | E57: =D57+6 -> 46047 | F57: ='2025-26 With Postfacto'!F55 -> -0.26549876 | G57: ='2025-26 With Postfacto'!G55 -> -0.039862294 | H57: ='2025-26 With Postfacto'!H55 -> -0.000333331 | I57: ='2025-26 With Postfacto'!I55 -> -1047728 | J57: ='2025-26 With Postfacto'!J55 -> -2.7184429 | K57: ='2025-26 With Postfacto'!K55 -> -0.21485044 | L57: ='2025-26 With Postfacto'!L55 -> -0.035650643 | M57: ='2025-26 With Postfacto'!M55 -> 387479.54 | ... T57: ='2025-26 With Postfacto'!T55 -> -3.1364397 | U57: -0.3397102
D58: =E57+1 -> 46048 | E58: =D58+6 -> 46054 | F58: ='2025-26 With Postfacto'!F56 -> -0.48067892 | G58: ='2025-26 With Postfacto'!G56 -> -0.002362143 | H58: ='2025-26 With Postfacto'!H56 -> 0.021826153 | I58: ='2025-26 With Postfacto'!I56 -> 569347.32 | J58: ='2025-26 With Postfacto'!J56 -> -3.1233012 | K58: ='2025-26 With Postfacto'!K56 -> -0.55658525 | L58: ='2025-26 With Postfacto'!L56 -> -0.32895738 | M58: ='2025-26 With Postfacto'!M56 -> 6414619.8 | ... T58: ='2025-26 With Postfacto'!T56 -> -4.5769259 | U58: 0.5945793
D59: JANUARY '26 | F59: =SUM(F54:F58) -> -0.6938194 | G59: =SUM(G54:G58) -> -0.011258619 | H59: =SUM(H54:H58) -> 0.14036418 | I59: =SUM(I54:I58) -> -8871215.1 | J59: =SUM(J54:J58) -> -9.0653259 | K59: =SUM(K54:K58) -> -1.4537111 | L59: =SUM(L54:L58) -> -0.47959156 | M59: =SUM(M54:M58) -> -24216059 | ... U59: =SUM(U54:U58) -> -4.298529
D60: =E58+1 -> 46055 | E60: =D60+6 -> 46061 | F60: ='2025-26 With Postfacto'!F58 -> -0.36077843 | G60: ='2025-26 With Postfacto'!G58 -> 0.034967715 | H60: ='2025-26 With Postfacto'!H58 -> 0.012997343 | I60: ='2025-26 With Postfacto'!I58 -> -303672.17 | J60: ='2025-26 With Postfacto'!J58 -> -2.6136224 | K60: ='2025-26 With Postfacto'!K58 -> -0.17193445 | L60: ='2025-26 With Postfacto'!L58 -> -0.11584567 | M60: ='2025-26 With Postfacto'!M58 -> -1088151.6 | ... T60: ='2025-26 With Postfacto'!T58 -> -3.119105 | U60: -0.3124291
D61: =E60+1 -> 46062 | E61: =D61+6 -> 46068 | F61: ='2025-26 With Postfacto'!F59 -> 0.14229682 | G61: ='2025-26 With Postfacto'!G59 -> 0.020673578 | H61: ='2025-26 With Postfacto'!H59 -> 0.007172573 | I61: ='2025-26 With Postfacto'!I59 -> -2643919.9 | J61: ='2025-26 With Postfacto'!J59 -> 2.2873038 | K61: ='2025-26 With Postfacto'!K59 -> 0.73695635 | L61: ='2025-26 With Postfacto'!L59 -> 0.64569239 | M61: ='2025-26 With Postfacto'!M59 -> -22268244 | ... T61: ='2025-26 With Postfacto'!T59 -> 4.7226229 | U61: -2.7115588
D62: =E61+1 -> 46069 | E62: =D62+6 -> 46075 | F62: ='2025-26 With Postfacto'!F60 -> -0.43929392 | G62: ='2025-26 With Postfacto'!G60 -> -0.025 | H62: ='2025-26 With Postfacto'!H60 -> -0.000991113 | I62: ='2025-26 With Postfacto'!I60 -> 171367.89 | J62: ='2025-26 With Postfacto'!J60 -> -4.4412217 | K62: ='2025-26 With Postfacto'!K60 -> -0.23423319 | L62: ='2025-26 With Postfacto'!L60 -> 0.063301547 | M62: ='2025-26 With Postfacto'!M60 -> 7096800.4 | ... T62: ='2025-26 With Postfacto'!T60 -> -5.1900053 | U62: 0.5459852
D63: =E62+1 -> 46076 | E63: =D63+6 -> 46082 | F63: ='2025-26 With Postfacto'!F61 -> 0.10288523 | G63: ='2025-26 With Postfacto'!G61 -> 0.093304622 | H63: ='2025-26 With Postfacto'!H61 -> 0.065737168 | I63: ='2025-26 With Postfacto'!I61 -> -3454815.9 | J63: ='2025-26 With Postfacto'!J61 -> -3.3116008 | K63: ='2025-26 With Postfacto'!K61 -> -0.026730352 | L63: ='2025-26 With Postfacto'!L61 -> -0.058143605 | M63: ='2025-26 With Postfacto'!M61 -> 2387155.9 | ... T63: ='2025-26 With Postfacto'!T61 -> -3.0742736 | U63: -0.1913149
D64: FEBRUARY '26 | F64: =SUM(F60:F63) -> -0.55489029 | G64: =SUM(G60:G63) -> 0.12394592 | H64: =SUM(H60:H63) -> 0.084915971 | I64: =SUM(I60:I63) -> -6231040.2 | J64: =SUM(J60:J63) -> -8.079141 | K64: =SUM(K60:K63) -> 0.30405835 | L64: =SUM(L60:L63) -> 0.53500465 | M64: =SUM(M60:M63) -> -13872439 | ... U64: =SUM(U60:U63) -> -2.6693176
D65: =E63+1 -> 46083 | E65: =D65+6 -> 46089 | F65: ='2025-26 With Postfacto'!F63 -> -0.7154064 | G65: ='2025-26 With Postfacto'!G63 -> -0.10501248 | H65: ='2025-26 With Postfacto'!H63 -> 0.011225817 | I65: ='2025-26 With Postfacto'!I63 -> 3014756.8 | J65: ='2025-26 With Postfacto'!J63 -> -9.5748765 | K65: ='2025-26 With Postfacto'!K63 -> -0.65855521 | L65: ='2025-26 With Postfacto'!L63 -> -0.34215364 | M65: ='2025-26 With Postfacto'!M63 -> 32320555 | ... T65: ='2025-26 With Postfacto'!T63 -> -12.034693 | U65: 3.4686007
D66: =E65+1 -> 46090 | E66: =D66+6 -> 46096 | F66: ='2025-26 With Postfacto'!F64 -> -0.99355704 | G66: ='2025-26 With Postfacto'!G64 -> -0.07058417 | H66: ='2025-26 With Postfacto'!H64 -> -0.04129471 | I66: ='2025-26 With Postfacto'!I64 -> 7877073 | J66: ='2025-26 With Postfacto'!J64 -> -10.991934 | K66: ='2025-26 With Postfacto'!K64 -> -0.76114104 | L66: ='2025-26 With Postfacto'!L64 -> -0.29975924 | M66: ='2025-26 With Postfacto'!M64 -> 61358004 | ... T66: ='2025-26 With Postfacto'!T64 -> -13.693617 | U66: 6.7987044
D67: =E66+1 -> 46097 | E67: =D67+6 -> 46103 | F67: ='2025-26 With Postfacto'!F65 -> -0.60541721 | G67: ='2025-26 With Postfacto'!G65 -> -0.069278956 | H67: ='2025-26 With Postfacto'!H65 -> -0.036497094 | I67: ='2025-26 With Postfacto'!I65 -> 1445598.7 | J67: ='2025-26 With Postfacto'!J65 -> -8.3616721 | K67: ='2025-26 With Postfacto'!K65 -> -0.88490303 | L67: ='2025-26 With Postfacto'!L65 -> -0.54143523 | M67: ='2025-26 With Postfacto'!M65 -> 30252984 | ... T67: ='2025-26 With Postfacto'!T65 -> -9.4404432 | U67: 2.9675075
D68: =E67+1 -> 46104 | E68: =D68+6 -> 46110 | F68: ='2025-26 With Postfacto'!F66 -> -0.18476114 | G68: ='2025-26 With Postfacto'!G66 -> 0.058289753 | H68: ='2025-26 With Postfacto'!H66 -> 0.042644312 | I68: ='2025-26 With Postfacto'!I66 -> 633223.25 | J68: ='2025-26 With Postfacto'!J66 -> -1.8776698 | K68: ='2025-26 With Postfacto'!K66 -> 0.35616843 | L68: ='2025-26 With Postfacto'!L66 -> 0.424016 | M68: ='2025-26 With Postfacto'!M66 -> 1520101.4 | ... T68: ='2025-26 With Postfacto'!T66 -> 1.2327236 | U68: -0.0768818
D69: =E68+1 -> 46111 | E69: 46112 | F69: ='2025-26 With Postfacto'!F67 -> -0.093733828 | G69: ='2025-26 With Postfacto'!G67 -> -0.012251084 | H69: ='2025-26 With Postfacto'!H67 -> 0 | I69: ='2025-26 With Postfacto'!I67 -> -952251.08 | J69: ='2025-26 With Postfacto'!J67 -> -0.95991018 | K69: ='2025-26 With Postfacto'!K67 -> 0.058193484 | L69: ='2025-26 With Postfacto'!L67 -> 0.017973626 | M69: ='2025-26 With Postfacto'!M67 -> 4829789.7 | ... T69: ='2025-26 With Postfacto'!T67 -> -0.81231691 | U69: 0.2855039
D70: MARCH '26 | F70: =SUM(F65:F69) -> -2.5928756 | G70: =SUM(G65:G69) -> -0.19883693 | H70: =SUM(H65:H69) -> -0.023921675 | I70: =SUM(I65:I69) -> 12018401 | J70: =SUM(J65:J69) -> -31.766063 | K70: =SUM(K65:K69) -> -1.8902374 | L70: =SUM(L65:L69) -> -0.74135848 | M70: =SUM(M65:M69) -> 1.3028143e+08 | ... U70: =SUM(U65:U69) -> 13.443435
D71: 2025-26 | F71: =SUM(F70,F64,F59,F53,F48,F43,F37,F32,F27,F21,F16,F10) -> -6.9581176 | G71: =SUM(G70,G64,G59,G53,G48,G43,G37,G32,G27,G21,G16,G10) -> 0.98886026 | H71: =SUM(H70,H64,H59,H53,H48,H43,H37,H32,H27,H21,H16,H10) -> 2.8890471 | I71: =SUM(I70,I64,I59,I53,I48,I43,I37,I32,I27,I21,I16,I10) -> -2.2615494e+08 | J71: =SUM(J70,J64,J59,J53,J48,J43,J37,J32,J27,J21,J16,J10) -> -184.69497 | K71: =SUM(K70,K64,K59,K53,K48,K43,K37,K32,K27,K21,K16,K10) -> -20.390909 | L71: =SUM(L70,L64,L59,L53,L48,L43,L37,L32,L27,L21,L16,L10) -> -21.179384 | M71: =SUM(M70,M64,M59,M53,M48,M43,M37,M32,M27,M21,M16,M10) -> -67891243 | ... U71: =SUM(U70,U64,U59,U53,U48,U43,U37,U32,U27,U21,U16,U10) -> -40.327371
E75: Note: 1.The above DSM charges shown, are as per the CERC(Deviation Settlement Mechanism) Regulations,2024, applicable from 16.09.2024.
E76: 2. The net energy in Negative (-ve) signs depicts Under drawn energy and vice-versa
E77: 3.The negative(-ve) Charges in Rs crs depicts that the charges are payable by APDiscoms and vice versa.

Sheet Sheet1
