Workbook

Sheet 04-25
A1: FPPCA FORMAT for the month of APRIL, 2025 FY 25-26 (APEPDCL) (Annexure-1)
A2: S.No. | B2: Generating station/ Stage/Source | C2: Plant capacity (MW) | D2: Discom's share (%) | E2: Energy (MU) | H2: Cost Components (Rs.Millions) | Z2: 10
H3: Fixed (A) | K3: Variable (B) | N3: Incentive (C) | Q3: Income Tax (D) | T3: Others (E) | W3: Total F=(A+B+C+D+E)
E4: TO (a) | F4: Actual (b) | G4: Variance (c)= (b-a) | H4: TO (d) | I4: Actual (e) | J4: Variance (f)= (e-d) | K4: TO (g) | L4: Actual (h) | M4: Variance (i)= (h-g) | N4: TO (j) | O4: Actual (k) | P4: Variance (l)= (k-j) | Q4: TO (m) | R4: Actual (n) | S4: Variance (o)= (n-m) | T4: TO (p) | U4: Actual (q) | V4: Variance (r)= (q-p) | W4: TO (s) | X4: Actual (t) | Y4: Variance (u)= (t-s) | Z4: Avg as per Tariff Order | AA4: Actual
A5: 1 | B5: Dr. NTTPS | C5: 1260 | D5: 0.3622 | E5: 237.07 | F5: 232.10026 | G5: =F5-E5 -> -4.9697389 | H5: 239.375 | I5: 242.77012 | J5: =I5-H5 -> 3.3951217 | K5: 1002.8061 | L5: 990.39081 | M5: =L5-K5 -> -12.415292 | O5: 0 | P5: =O5-N5 -> 0 | R5: 0 | S5: =R5-Q5 -> 0 | U5: 0 | V5: =U5-T5 -> 0 | W5: =T5+Q5+N5+K5+H5 -> 1242.1811 | X5: =U5+R5+O5+L5+I5 -> 1233.1609 | Y5: =X5-W5 -> -9.0201704 | Z5: =IFERROR(W5/E5,0) -> 5.2397229 | AA5: =IFERROR(X5/F5,0) -> 5.3130527
A6: =A5+1 -> 2 | B6: Dr. NTTPS-IV | C6: 500 | D6: 0.3622 | E6: 100.52 | F6: 99.813497 | G6: =F6-E6 -> -0.7065028 | H6: 86.4 | I6: 87.613442 | J6: =I6-H6 -> 1.2134417 | K6: 396.0488 | L6: 399.41471 | M6: =L6-K6 -> 3.3659102 | O6: 0 | P6: =O6-N6 -> 0 | R6: 0 | S6: =R6-Q6 -> 0 | U6: 0 | V6: =U6-T6 -> 0 | W6: =T6+Q6+N6+K6+H6 -> 482.4488 | X6: =U6+R6+O6+L6+I6 -> 487.02815 | Y6: =X6-W6 -> 4.5793519 | Z6: =IFERROR(W6/E6,0) -> 4.7995304 | AA6: =IFERROR(X6/F6,0) -> 4.8793817
A7: =A6+1 -> 3 | B7: Dr. NTTPS-V | C7: 800 | D7: 0.3622 | E7: 155.36 | F7: 125.88814 | G7: =F7-E7 -> -29.471862 | H7: 324.79167 | I7: 284.99603 | J7: =I7-H7 -> -39.795641 | K7: 518.9024 | L7: 401.05823 | M7: =L7-K7 -> -117.84417 | O7: 0 | P7: =O7-N7 -> 0 | R7: 0 | S7: =R7-Q7 -> 0 | U7: 0 | V7: =U7-T7 -> 0 | W7: =T7+Q7+N7+K7+H7 -> 843.69407 | X7: =U7+R7+O7+L7+I7 -> 686.05425 | Y7: =X7-W7 -> -157.63982 | Z7: =IFERROR(W7/E7,0) -> 5.4305746 | AA7: =IFERROR(X7/F7,0) -> 5.4497132
A8: =A7+1 -> 4 | B8: Dr.M.V.R.RTPP Stage-I | C8: 420 | D8: 0.3622 | E8: 70.12 | F8: 58.475771 | G8: =F8-E8 -> -11.644229 | H8: 79.408333 | I8: 68.634755 | J8: =I8-H8 -> -10.773578 | K8: 308.528 | L8: 272.39858 | M8: =L8-K8 -> -36.129423 | O8: 0 | P8: =O8-N8 -> 0 | R8: 0 | S8: =R8-Q8 -> 0 | U8: 0 | V8: =U8-T8 -> 0 | W8: =T8+Q8+N8+K8+H8 -> 387.93633 | X8: =U8+R8+O8+L8+I8 -> 341.03333 | Y8: =X8-W8 -> -46.903001 | Z8: =IFERROR(W8/E8,0) -> 5.5324634 | AA8: =IFERROR(X8/F8,0) -> 5.8320451
A9: =A8+1 -> 5 | B9: Dr.M.V.R.RTPP Stage-II | C9: 420 | D9: 0.3622 | E9: 74.15 | F9: 76.19688 | G9: =F9-E9 -> 2.0468803 | H9: 87.775 | I9: 83.49155 | J9: =I9-H9 -> -4.28345 | K9: 326.26 | L9: 354.94909 | M9: =L9-K9 -> 28.689091 | O9: 0 | P9: =O9-N9 -> 0 | R9: 0 | S9: =R9-Q9 -> 0 | U9: 0 | V9: =U9-T9 -> 0 | W9: =T9+Q9+N9+K9+H9 -> 414.035 | X9: =U9+R9+O9+L9+I9 -> 438.44064 | Y9: =X9-W9 -> 24.405641 | Z9: =IFERROR(W9/E9,0) -> 5.5837492 | AA9: =IFERROR(X9/F9,0) -> 5.7540498
A10: =A9+1 -> 6 | B10: Dr.M.V.R.RTPP Stage-III | C10: 210 | D10: 0.3622 | E10: 39.89 | F10: 37.466656 | G10: =F10-E10 -> -2.4233436 | H10: 47.258333 | I10: 51.560836 | J10: =I10-H10 -> 4.3025025 | K10: 175.516 | L10: 174.5315 | M10: =L10-K10 -> -0.98450186 | O10: 0 | P10: =O10-N10 -> 0 | R10: 0 | S10: =R10-Q10 -> 0 | U10: 0 | V10: =U10-T10 -> 0 | W10: =T10+Q10+N10+K10+H10 -> 222.77433 | X10: =U10+R10+O10+L10+I10 -> 226.09233 | Y10: =X10-W10 -> 3.3180006 | Z10: =IFERROR(W10/E10,0) -> 5.5847163 | AA10: =IFERROR(X10/F10,0) -> 6.0344946
A11: =A10+1 -> 7 | B11: Dr.M.V.R.RTPP Stage-IV | C11: 600 | D11: 0.3622 | E11: 107.45 | F11: 105.54001 | G11: =F11-E11 -> -1.9099866 | H11: 184.25833 | I11: 211.76603 | J11: =I11-H11 -> 27.507698 | K11: 440.545 | L11: 459.55712 | M11: =L11-K11 -> 19.012125 | O11: 0 | P11: =O11-N11 -> 0 | R11: 0 | S11: =R11-Q11 -> 0 | U11: 0 | V11: =U11-T11 -> 0 | W11: =T11+Q11+N11+K11+H11 -> 624.80333 | X11: =U11+R11+O11+L11+I11 -> 671.32316 | Y11: =X11-W11 -> 46.519823 | Z11: =IFERROR(W11/E11,0) -> 5.8148286 | AA11: =IFERROR(X11/F11,0) -> 6.3608402
A12: =A11+1 -> 8 | B12: GENCO THERMAL TOTAL | C12: =SUM(C5:C11) -> 4210 | D12: 0.3622 | E12: =SUM(E5:E11) -> 784.56 | F12: =SUM(F5:F11) -> 735.48122 | G12: =SUM(G5:G11) -> -49.078783 | H12: =SUM(H5:H11) -> 1049.2667 | I12: =SUM(I5:I11) -> 1030.8328 | J12: =SUM(J5:J11) -> -18.433905 | K12: =SUM(K5:K11) -> 3168.6063 | L12: =SUM(L5:L11) -> 3052.3 | ... Y12: =SUM(Y5:Y11) -> -134.74017 | Z12: =IFERROR(W12/E12,0) -> 5.3760999 | AA12: =IFERROR(X12/F12,0) -> 5.551648
A13: =A12+1 -> 9 | B13: Srisailam RCPH | C13: 770 | D13: 0.3622 | E13: 0 | F13: 0.47476754 | G13: =F13-E13 -> 0.47476754 | H13: 70.591667 | I13: 67.496751 | J13: =I13-H13 -> -3.0949158 | K13: 0 | L13: 0 | M13: =L13-K13 -> 0 | O13: 0 | P13: =O13-N13 -> 0 | R13: 0 | S13: =R13-Q13 -> 0 | U13: 0 | V13: =U13-T13 -> 0 | W13: =T13+Q13+N13+K13+H13 -> 70.591667 | X13: =U13+R13+O13+L13+I13 -> 67.496751 | Y13: =X13-W13 -> -3.0949158 | Z13: =IFERROR(W13/E13,0) -> 0 | AA13: =IFERROR(X13/F13,0) -> 142.168
A14: =A13+1 -> 10 | B14: NSRCPH | C14: 90 | D14: 0.3622 | E14: 0 | F14: -0.014284307 | G14: =F14-E14 -> -0.014284307 | H14: 8.3 | I14: 7.9245692 | J14: =I14-H14 -> -0.37543083 | K14: 0 | L14: 0 | M14: =L14-K14 -> 0 | O14: 0 | P14: =O14-N14 -> 0 | R14: 0 | S14: =R14-Q14 -> 0 | U14: 0 | V14: =U14-T14 -> 0 | W14: =T14+Q14+N14+K14+H14 -> 8.3 | X14: =U14+R14+O14+L14+I14 -> 7.9245692 | Y14: =X14-W14 -> -0.37543083 | Z14: =IFERROR(W14/E14,0) -> 0 | AA14: =IFERROR(X14/F14,0) -> -554.77449
A15: =A14+1 -> 11 | B15: NSTPDC PH | C15: 50 | D15: 0.3622 | E15: 0.38 | F15: -0.03477265 | G15: =F15-E15 -> -0.41477265 | H15: 16.233333 | I15: 15.492734 | J15: =I15-H15 -> -0.74059917 | K15: 0 | L15: 0 | M15: =L15-K15 -> 0 | O15: 0 | P15: =O15-N15 -> 0 | R15: 0 | S15: =R15-Q15 -> 0 | U15: 0 | V15: =U15-T15 -> 0 | W15: =T15+Q15+N15+K15+H15 -> 16.233333 | X15: =U15+R15+O15+L15+I15 -> 15.492734 | Y15: =X15-W15 -> -0.74059917 | Z15: =IFERROR(W15/E15,0) -> 42.719298 | AA15: =IFERROR(X15/F15,0) -> -445.54367
A16: =A15+1 -> 12 | B16: Upper Sileru | C16: 725 | D16: 0.3622 | E16: 19.99 | F16: 19.589856 | G16: =F16-E16 -> -0.4001437 | H16: 27.856408 | I16: 26.611625 | J16: =I16-H16 -> -1.2447832 | K16: 0 | L16: 0 | M16: =L16-K16 -> 0 | O16: 0 | P16: =O16-N16 -> 0 | R16: 0 | S16: =R16-Q16 -> 0 | U16: 0 | V16: =U16-T16 -> 0 | W16: =T16+Q16+N16+K16+H16 -> 27.856408 | X16: =U16+R16+O16+L16+I16 -> 26.611625 | Y16: =X16-W16 -> -1.2447832 | Z16: =IFERROR(W16/E16,0) -> 1.3935172 | AA16: =IFERROR(X16/F16,0) -> 1.358439
A17: =A16+1 -> 13 | B17: Lower Sileru | D17: 0.3622 | E17: 38.08 | F17: 38.914919 | G17: =F17-E17 -> 0.83491943 | H17: 53.398463 | I17: 51.005615 | J17: =I17-H17 -> -2.3928477 | K17: 0 | L17: 0 | M17: =L17-K17 -> 0 | O17: 0 | P17: =O17-N17 -> 0 | R17: 0 | S17: =R17-Q17 -> 0 | U17: 0 | V17: =U17-T17 -> 0 | W17: =T17+Q17+N17+K17+H17 -> 53.398463 | X17: =U17+R17+O17+L17+I17 -> 51.005615 | Y17: =X17-W17 -> -2.3928477 | Z17: =IFERROR(W17/E17,0) -> 1.4022705 | AA17: =IFERROR(X17/F17,0) -> 1.3106956
A18: =A17+1 -> 14 | B18: Donkarayi | D18: 0.3622 | E18: 3.81 | F18: 4.8963778 | G18: =F18-E18 -> 1.0863778 | H18: 2.9034625 | I18: 2.7720443 | J18: =I18-H18 -> -0.13141822 | K18: 0 | L18: 0 | M18: =L18-K18 -> 0 | O18: 0 | P18: =O18-N18 -> 0 | R18: 0 | S18: =R18-Q18 -> 0 | U18: 0 | V18: =U18-T18 -> 0 | W18: =T18+Q18+N18+K18+H18 -> 2.9034625 | X18: =U18+R18+O18+L18+I18 -> 2.7720443 | Y18: =X18-W18 -> -0.13141822 | Z18: =IFERROR(W18/E18,0) -> 0.76206365 | AA18: =IFERROR(X18/F18,0) -> 0.56614183
A19: =A18+1 -> 15 | B19: PABRHES | C19: 20 | D19: 0.3622 | E19: 0 | F19: -0.010060639 | G19: =F19-E19 -> -0.010060639 | H19: 4.575 | I19: 4.3791225 | J19: =I19-H19 -> -0.1958775 | K19: 0 | L19: 0 | M19: =L19-K19 -> 0 | O19: 0 | P19: =O19-N19 -> 0 | R19: 0 | S19: =R19-Q19 -> 0 | U19: 0 | V19: =U19-T19 -> 0 | W19: =T19+Q19+N19+K19+H19 -> 4.575 | X19: =U19+R19+O19+L19+I19 -> 4.3791225 | Y19: =X19-W19 -> -0.1958775 | Z19: =IFERROR(W19/E19,0) -> 0 | AA19: =IFERROR(X19/F19,0) -> -435.27281
A20: =A19+1 -> 16 | B20: Minihydel(Chettipet) | C20: 1 | D20: 0.3622 | E20: 0.06 | F20: 0.10111217 | G20: =F20-E20 -> 0.041112172 | H20: 0.81666667 | I20: 0.7716925 | J20: =I20-H20 -> -0.044974167 | K20: 0 | L20: 0 | M20: =L20-K20 -> 0 | O20: 0 | P20: =O20-N20 -> 0 | R20: 0 | S20: =R20-Q20 -> 0 | U20: 0 | V20: =U20-T20 -> 0 | W20: =T20+Q20+N20+K20+H20 -> 0.81666667 | X20: =U20+R20+O20+L20+I20 -> 0.7716925 | Y20: =X20-W20 -> -0.044974167 | Z20: =IFERROR(W20/E20,0) -> 13.611111 | AA20: =IFERROR(X20/F20,0) -> 7.6320435
A21: =A20+1 -> 17 | B21: Machkund HES (AP Share) | C21: 117.6 | D21: 0.3622 | E21: 7.08 | F21: 8.4552209 | G21: =F21-E21 -> 1.3752209 | H21: 12.342687 | I21: 11.778414 | J21: =I21-H21 -> -0.56427291 | K21: 0 | L21: 0 | M21: =L21-K21 -> 0 | O21: 0 | P21: =O21-N21 -> 0 | R21: 0 | S21: =R21-Q21 -> 0 | U21: 0 | V21: =U21-T21 -> 0 | W21: =T21+Q21+N21+K21+H21 -> 12.342687 | X21: =U21+R21+O21+L21+I21 -> 11.778414 | Y21: =X21-W21 -> -0.56427291 | Z21: =IFERROR(W21/E21,0) -> 1.7433174 | AA21: =IFERROR(X21/F21,0) -> 1.3930345
A22: =A21+1 -> 18 | B22: Tungabhadra HES (AP Share) | D22: 0.3622 | E22: 0 | F22: 1.2888194 | G22: =F22-E22 -> 1.2888194 | H22: 11.84898 | I22: 11.307278 | J22: =I22-H22 -> -0.54170163 | K22: 0 | L22: 0 | M22: =L22-K22 -> 0 | O22: 0 | P22: =O22-N22 -> 0 | R22: 0 | S22: =R22-Q22 -> 0 | U22: 0 | V22: =U22-T22 -> 0 | W22: =T22+Q22+N22+K22+H22 -> 11.84898 | X22: =U22+R22+O22+L22+I22 -> 11.307278 | Y22: =X22-W22 -> -0.54170163 | Z22: =IFERROR(W22/E22,0) -> 0 | AA22: =IFERROR(X22/F22,0) -> 8.7733607
A23: =A22+1 -> 19 | B23: GENCO HYDEL(INCLUDING INTERSTATE)TOTAL | C23: =SUM(C13:C22) -> 1773.6 | D23: 0.3622 | E23: =SUM(E13:E22) -> 69.4 | F23: =SUM(F13:F22) -> 73.661956 | G23: =SUM(G13:G22) -> 4.2619559 | H23: =SUM(H13:H22) -> 208.86667 | I23: =SUM(I13:I22) -> 199.53985 | J23: =SUM(J13:J22) -> -9.3268212 | K23: =SUM(K13:K22) -> 0 | L23: =SUM(L13:L22) -> 0 | ... Y23: =SUM(Y13:Y22) -> -9.3268212 | Z23: =IFERROR(W23/E23,0) -> 3.0096061 | AA23: =IFERROR(X23/F23,0) -> 2.7088589
A24: =A23+1 -> 20 | B24: NTPC(SR) Ramagundam I & II | C24: 2100 | D24: 0.3622 | E24: 65.78 | F24: 61.495424 | G24: =F24-E24 -> -4.2845759 | H24: 48.7 | I24: 38.448634 | J24: =I24-H24 -> -10.251366 | K24: 262.4622 | L24: 222.67493 | M24: =L24-K24 -> -39.787268 | O24: 0 | P24: =O24-N24 -> 0 | R24: 0 | S24: =R24-Q24 -> 0 | U24: 0 | V24: =U24-T24 -> 0 | W24: =T24+Q24+N24+K24+H24 -> 311.1622 | X24: =U24+R24+O24+L24+I24 -> 261.12357 | Y24: =X24-W24 -> -50.038634 | Z24: =IFERROR(W24/E24,0) -> 4.7303466 | AA24: =IFERROR(X24/F24,0) -> 4.2462276
A25: =A24+1 -> 21 | B25: NTPC(SR) Simhadri Stage-I | C25: 1000 | D25: 0.3622 | E25: 107.84 | F25: 114.42309 | G25: =F25-E25 -> 6.5830878 | H25: 96.741667 | I25: 222.61078 | J25: =I25-H25 -> 125.86911 | K25: 392.5376 | L25: 444.96681 | M25: =L25-K25 -> 52.429214 | O25: 0 | P25: =O25-N25 -> 0 | R25: 0 | S25: =R25-Q25 -> 0 | U25: 13.301573 | V25: =U25-T25 -> 13.301573 | W25: =T25+Q25+N25+K25+H25 -> 489.27927 | X25: =U25+R25+O25+L25+I25 -> 680.87917 | Y25: =X25-W25 -> 191.5999 | Z25: =IFERROR(W25/E25,0) -> 4.5370852 | AA25: =IFERROR(X25/F25,0) -> 5.9505401
A26: =A25+1 -> 22 | B26: NTPC(SR) Simhadri Stage-II | C26: 1000 | D26: 0.3622 | E26: 50.46 | F26: 49.321403 | G26: =F26-E26 -> -1.1385967 | H26: 63.708333 | I26: 70.671136 | J26: =I26-H26 -> 6.9628028 | K26: 183.6744 | L26: 189.59782 | M26: =L26-K26 -> 5.9234206 | O26: 0 | P26: =O26-N26 -> 0 | R26: 0 | S26: =R26-Q26 -> 0 | U26: 0 | V26: =U26-T26 -> 0 | W26: =T26+Q26+N26+K26+H26 -> 247.38273 | X26: =U26+R26+O26+L26+I26 -> 260.26896 | Y26: =X26-W26 -> 12.886223 | Z26: =IFERROR(W26/E26,0) -> 4.9025512 | AA26: =IFERROR(X26/F26,0) -> 5.2769982
A27: =A26+1 -> 23 | B27: NTPC(SR) Talcher Stage-II | C27: 2000 | D27: 0.3622 | E27: 42.53 | F27: 43.457563 | G27: =F27-E27 -> 0.92756301 | H27: 32.758333 | I27: 37.393403 | J27: =I27-H27 -> 4.6350692 | K27: 74.4275 | L27: 70.270879 | M27: =L27-K27 -> -4.1566209 | O27: 0 | P27: =O27-N27 -> 0 | R27: 0 | S27: =R27-Q27 -> 0 | U27: 0 | V27: =U27-T27 -> 0 | W27: =T27+Q27+N27+K27+H27 -> 107.18583 | X27: =U27+R27+O27+L27+I27 -> 107.66428 | Y27: =X27-W27 -> 0.47844832 | Z27: =IFERROR(W27/E27,0) -> 2.5202406 | AA27: =IFERROR(X27/F27,0) -> 2.4774579
A28: =A27+1 -> 24 | B28: NTPC(SR) Ramagundam III | C28: 500 | D28: 0.3622 | E28: 16.1 | F28: 16.016182 | G28: =F28-E28 -> -0.083817823 | H28: 13.566667 | I28: 13.693615 | J28: =I28-H28 -> 0.12694869 | K28: 64.239 | L28: 56.96956 | M28: =L28-K28 -> -7.2694397 | O28: 0 | P28: =O28-N28 -> 0 | R28: 0 | S28: =R28-Q28 -> 0 | U28: 0 | V28: =U28-T28 -> 0 | W28: =T28+Q28+N28+K28+H28 -> 77.805667 | X28: =U28+R28+O28+L28+I28 -> 70.663176 | Y28: =X28-W28 -> -7.1424911 | Z28: =IFERROR(W28/E28,0) -> 4.8326501 | AA28: =IFERROR(X28/F28,0) -> 4.4119863
A29: =A28+1 -> 25 | B29: NTPC Kudgi Stage-I | C29: 2400 | D29: 0.3622 | E29: 0 | F29: 34.768799 | G29: =F29-E29 -> 34.768799 | H29: 0 | I29: 125.08228 | J29: =I29-H29 -> 125.08228 | K29: 0 | L29: 158.83357 | M29: =L29-K29 -> 158.83357 | O29: 0 | P29: =O29-N29 -> 0 | R29: 0 | S29: =R29-Q29 -> 0 | U29: 0 | V29: =U29-T29 -> 0 | W29: =T29+Q29+N29+K29+H29 -> 0 | X29: =U29+R29+O29+L29+I29 -> 283.91585 | Y29: =X29-W29 -> 283.91585 | Z29: =IFERROR(W29/E29,0) -> 0 | AA29: =IFERROR(X29/F29,0) -> 8.1658227
A30: 26 | B30: NTPC Telangana STPS - I | D30: 0.3622 | E30: 0 | F30: 0.20575777 | G30: =F30-E30 -> 0.20575777 | H30: 0 | I30: 0.072554343 | J30: =I30-H30 -> 0.072554343 | K30: 0 | L30: 0.73787749 | M30: =L30-K30 -> 0.73787749 | O30: 0 | P30: =O30-N30 -> 0 | R30: 0 | S30: =R30-Q30 -> 0 | U30: 0 | V30: =U30-T30 -> 0 | W30: =T30+Q30+N30+K30+H30 -> 0 | X30: =U30+R30+O30+L30+I30 -> 0.81043184 | Y30: =X30-W30 -> 0.81043184 | Z30: =IFERROR(W30/E30,0) -> 0 | AA30: =IFERROR(X30/F30,0) -> 3.9387667
A31: 27 | B31: NTECL Valluru | C31: 1500 | D31: 0.3622 | E31: 0 | F31: 18.167467 | G31: =F31-E31 -> 18.167467 | H31: 0 | I31: 28.227019 | J31: =I31-H31 -> 28.227019 | K31: 0 | L31: 74.09788 | M31: =L31-K31 -> 74.09788 | O31: 0 | P31: =O31-N31 -> 0 | R31: 0 | S31: =R31-Q31 -> 0 | U31: 1.1134444 | V31: =U31-T31 -> 1.1134444 | W31: =T31+Q31+N31+K31+H31 -> 0 | X31: =U31+R31+O31+L31+I31 -> 103.43834 | Y31: =X31-W31 -> 103.43834 | Z31: =IFERROR(W31/E31,0) -> 0 | AA31: =IFERROR(X31/F31,0) -> 5.6936028
A32: =A31+1 -> 28 | B32: NLC Stage-I | C32: 630 | D32: 0.3622 | E32: 9.71 | F32: 3.3315423 | G32: =F32-E32 -> -6.3784577 | H32: 8.5416667 | I32: 3.1253926 | J32: =I32-H32 -> -5.4162741 | K32: 31.4604 | L32: 10.844933 | M32: =L32-K32 -> -20.615467 | O32: 0 | P32: =O32-N32 -> 0 | R32: 0 | S32: =R32-Q32 -> 0 | U32: 0.81015737 | V32: =U32-T32 -> 0.81015737 | W32: =T32+Q32+N32+K32+H32 -> 40.002067 | X32: =U32+R32+O32+L32+I32 -> 14.780483 | Y32: =X32-W32 -> -25.221584 | Z32: =IFERROR(W32/E32,0) -> 4.1196773 | AA32: =IFERROR(X32/F32,0) -> 4.4365287
A33: =A32+1 -> 29 | B33: NLC Stage-II | C33: 840 | D33: 0.3622 | E33: 17.84 | F33: 7.9166736 | G33: =F33-E33 -> -9.9233264 | H33: 16.225 | I33: 7.5783848 | J33: =I33-H33 -> -8.6466152 | K33: 57.8016 | L33: 25.768723 | M33: =L33-K33 -> -32.032877 | O33: 0 | P33: =O33-N33 -> 0 | R33: 0 | S33: =R33-Q33 -> 0 | U33: 0 | V33: =U33-T33 -> 0 | W33: =T33+Q33+N33+K33+H33 -> 74.0266 | X33: =U33+R33+O33+L33+I33 -> 33.347107 | Y33: =X33-W33 -> -40.679493 | Z33: =IFERROR(W33/E33,0) -> 4.1494731 | AA33: =IFERROR(X33/F33,0) -> 4.2122625
A34: =A33+1 -> 30 | B34: NPC(MAPS) | C34: 440 | D34: 0.3622 | E34: 2.46 | F34: 1.8249643 | G34: =F34-E34 -> -0.63503575 | H34: 0 | I34: 0 | J34: =I34-H34 -> 0 | K34: 6.2976 | L34: 4.7739568 | M34: =L34-K34 -> -1.5236432 | O34: 0 | P34: =O34-N34 -> 0 | R34: 0 | S34: =R34-Q34 -> 0 | U34: 0.048193777 | V34: =U34-T34 -> 0.048193777 | W34: =T34+Q34+N34+K34+H34 -> 6.2976 | X34: =U34+R34+O34+L34+I34 -> 4.8221506 | Y34: =X34-W34 -> -1.4754494 | Z34: =IFERROR(W34/E34,0) -> 2.56 | AA34: =IFERROR(X34/F34,0) -> 2.6423261
A35: =A34+1 -> 31 | B35: NPC(KAIGA unit I,II,III,IV) | C35: 880 | D35: 0.3622 | E35: 17.9 | F35: 21.176768 | G35: =F35-E35 -> 3.2767681 | H35: 0 | I35: 0 | J35: =I35-H35 -> 0 | K35: 63.187 | L35: 75.179018 | M35: =L35-K35 -> 11.992018 | O35: 0 | P35: =O35-N35 -> 0 | R35: 0 | S35: =R35-Q35 -> 0 | U35: 0 | V35: =U35-T35 -> 0 | W35: =T35+Q35+N35+K35+H35 -> 63.187 | X35: =U35+R35+O35+L35+I35 -> 75.179018 | Y35: =X35-W35 -> 11.992018 | Z35: =IFERROR(W35/E35,0) -> 3.53 | AA35: =IFERROR(X35/F35,0) -> 3.5500704
A36: =A35+1 -> 32 | B36: NTPL(NLC TamilNadu) | C36: 1000 | D36: 0.3622 | E36: 0 | F36: 22.4666 | G36: =F36-E36 -> 22.4666 | H36: 0 | I36: 45.647323 | J36: =I36-H36 -> 45.647323 | K36: 0 | L36: 92.746213 | M36: =L36-K36 -> 92.746213 | O36: 0 | P36: =O36-N36 -> 0 | R36: 0 | S36: =R36-Q36 -> 0 | U36: 1.4305881 | V36: =U36-T36 -> 1.4305881 | W36: =T36+Q36+N36+K36+H36 -> 0 | X36: =U36+R36+O36+L36+I36 -> 139.82412 | Y36: =X36-W36 -> 139.82412 | Z36: =IFERROR(W36/E36,0) -> 0 | AA36: =IFERROR(X36/F36,0) -> 6.2236442
A37: =A36+1 -> 33 | B37: NLC NNTPS | C37: 1000 | D37: 0.3622 | E37: 0 | F37: 11.748046 | G37: =F37-E37 -> 11.748046 | H37: 0 | I37: 22.199835 | J37: =I37-H37 -> 22.199835 | K37: 0 | L37: 32.72778 | M37: =L37-K37 -> 32.72778 | O37: 0 | P37: =O37-N37 -> 0 | R37: 0 | S37: =R37-Q37 -> 0 | U37: 0 | V37: =U37-T37 -> 0 | W37: =T37+Q37+N37+K37+H37 -> 0 | X37: =U37+R37+O37+L37+I37 -> 54.927615 | Y37: =X37-W37 -> 54.927615 | Z37: =IFERROR(W37/E37,0) -> 0 | AA37: =IFERROR(X37/F37,0) -> 4.6754682
A38: =A37+1 -> 34 | B38: KKNPP Unit-I | C38: 1000 | D38: 0.3622 | E38: 0 | F38: 0.061588871 | G38: =F38-E38 -> 0.061588871 | H38: 0 | I38: 0 | J38: =I38-H38 -> 0 | K38: 0 | L38: 49.740353 | M38: =L38-K38 -> 49.740353 | O38: 0 | P38: =O38-N38 -> 0 | R38: 0 | S38: =R38-Q38 -> 0 | U38: 0 | V38: =U38-T38 -> 0 | W38: =T38+Q38+N38+K38+H38 -> 0 | X38: =U38+R38+O38+L38+I38 -> 49.740353 | Y38: =X38-W38 -> 49.740353 | Z38: =IFERROR(W38/E38,0) -> 0 | AA38: =IFERROR(X38/F38,0) -> 807.61917
A39: =A38+1 -> 35 | B39: NLC TPS- I Expn. | C39: 630 | D39: 0.3622 | E39: 0 | F39: 0.060017222 | G39: =F39-E39 -> 0.060017222 | H39: 0 | I39: 0.079305816 | J39: =I39-H39 -> 0.079305816 | K39: 0 | L39: 0.17432775 | M39: =L39-K39 -> 0.17432775 | O39: 0 | P39: =O39-N39 -> 0 | R39: 0 | S39: =R39-Q39 -> 0 | U39: 0 | V39: =U39-T39 -> 0 | W39: =T39+Q39+N39+K39+H39 -> 0 | X39: =U39+R39+O39+L39+I39 -> 0.25363357 | Y39: =X39-W39 -> 0.25363357 | Z39: =IFERROR(W39/E39,0) -> 0 | AA39: =IFERROR(X39/F39,0) -> 4.2260131
A40: =A39+1 -> 36 | B40: NLC TPS- II Expn. | C40: 840 | D40: 0.3622 | E40: 0 | F40: 0.003514455 | G40: =F40-E40 -> 0.003514455 | H40: 0 | I40: 0.024172756 | J40: =I40-H40 -> 0.024172756 | K40: 0 | L40: 0.014845876 | M40: =L40-K40 -> 0.014845876 | O40: 0 | P40: =O40-N40 -> 0 | R40: 0 | S40: =R40-Q40 -> 0 | U40: 0 | V40: =U40-T40 -> 0 | W40: =T40+Q40+N40+K40+H40 -> 0 | X40: =U40+R40+O40+L40+I40 -> 0.039018632 | Y40: =X40-W40 -> 0.039018632 | Z40: =IFERROR(W40/E40,0) -> 0 | AA40: =IFERROR(X40/F40,0) -> 11.102328
...

Sheet 05-25
A1: FPPCA FORMAT for the month of MAY, 2025 FY 25-26 (APEPDCL)
A2: S.No. | B2: Generating station/ Stage/Source | C2: Plant capacity (MW) | D2: Discom's share (%) | E2: Energy (MU) | H2: Cost Components (Rs.Millions) | Z2: 10
H3: Fixed (A) | K3: Variable (B) | N3: Incentive (C) | Q3: Income Tax (D) | T3: Others (E) | W3: Total F=(A+B+C+D+E)
E4: TO (a) | F4: Actual (b) | G4: Variance (c)= (b-a) | H4: TO (d) | I4: Actual (e) | J4: Variance (f)= (e-d) | K4: TO (g) | L4: Actual (h) | M4: Variance (i)= (h-g) | N4: TO (j) | O4: Actual (k) | P4: Variance (l)= (k-j) | Q4: TO (m) | R4: Actual (n) | S4: Variance (o)= (n-m) | T4: TO (p) | U4: Actual (q) | V4: Variance (r)= (q-p) | W4: TO (s) | X4: Actual (t) | Y4: Variance (u)= (t-s) | Z4: Avg as per Tariff Order | AA4: Actual
A5: 1 | B5: Dr. NTTPS | C5: 1260 | D5: 0.3622 | E5: 205.55 | F5: 214.28493 | G5: =F5-E5 -> 8.7349332 | H5: 239.375 | I5: 221.22608 | J5: =I5-H5 -> -18.148915 | K5: 869.4765 | L5: 914.90154 | M5: =L5-K5 -> 45.425044 | O5: 0 | P5: =O5-N5 -> 0 | R5: 0 | S5: =R5-Q5 -> 0 | U5: 0 | V5: =U5-T5 -> 0 | W5: =T5+Q5+N5+K5+H5 -> 1108.8515 | X5: =U5+R5+O5+L5+I5 -> 1136.1276 | Y5: =X5-W5 -> 27.276129 | Z5: =IFERROR(W5/E5,0) -> 5.3945585 | AA5: =IFERROR(X5/F5,0) -> 5.3019483
A6: =A5+1 -> 2 | B6: Dr. NTTPS-IV | C6: 500 | D6: 0.3622 | E6: 103.51 | F6: 92.682492 | G6: =F6-E6 -> -10.827508 | H6: 86.4 | I6: 90.558233 | J6: =I6-H6 -> 4.1582333 | K6: 407.8294 | L6: 371.94628 | M6: =L6-K6 -> -35.883122 | O6: 0 | P6: =O6-N6 -> 0 | R6: 0 | S6: =R6-Q6 -> 0 | U6: 0 | V6: =U6-T6 -> 0 | W6: =T6+Q6+N6+K6+H6 -> 494.2294 | X6: =U6+R6+O6+L6+I6 -> 462.50451 | Y6: =X6-W6 -> -31.724889 | Z6: =IFERROR(W6/E6,0) -> 4.774702 | AA6: =IFERROR(X6/F6,0) -> 4.9902037
A7: =A6+1 -> 3 | B7: Dr. NTTPS-V | C7: 800 | D7: 0.3622 | E7: 169.34 | F7: 39.30106 | G7: =F7-E7 -> -130.03894 | H7: 324.79167 | I7: 84.00188 | J7: =I7-H7 -> -240.78979 | K7: 565.5956 | L7: 125.8637 | M7: =L7-K7 -> -439.7319 | O7: 0 | P7: =O7-N7 -> 0 | R7: 0 | S7: =R7-Q7 -> 0 | U7: 0 | V7: =U7-T7 -> 0 | W7: =T7+Q7+N7+K7+H7 -> 890.38727 | X7: =U7+R7+O7+L7+I7 -> 209.86558 | Y7: =X7-W7 -> -680.52169 | Z7: =IFERROR(W7/E7,0) -> 5.2579855 | AA7: =IFERROR(X7/F7,0) -> 5.339947
A8: =A7+1 -> 4 | B8: Dr.M.V.R.RTPP Stage-I | C8: 420 | D8: 0.3622 | E8: 52.67 | F8: 63.544203 | G8: =F8-E8 -> 10.874203 | H8: 79.408333 | I8: 70.593952 | J8: =I8-H8 -> -8.8143809 | K8: 231.748 | L8: 307.33537 | M8: =L8-K8 -> 75.587373 | O8: 0 | P8: =O8-N8 -> 0 | R8: 0 | S8: =R8-Q8 -> 0 | U8: 0 | V8: =U8-T8 -> 0 | W8: =T8+Q8+N8+K8+H8 -> 311.15633 | X8: =U8+R8+O8+L8+I8 -> 377.92933 | Y8: =X8-W8 -> 66.772992 | Z8: =IFERROR(W8/E8,0) -> 5.9076577 | AA8: =IFERROR(X8/F8,0) -> 5.9475028
A9: =A8+1 -> 5 | B9: Dr.M.V.R.RTPP Stage-II | C9: 420 | D9: 0.3622 | E9: 54.35 | F9: 58.217726 | G9: =F9-E9 -> 3.867726 | H9: 87.775 | I9: 82.036846 | J9: =I9-H9 -> -5.7381539 | K9: 239.14 | L9: 281.57355 | M9: =L9-K9 -> 42.433545 | O9: 0 | P9: =O9-N9 -> 0 | R9: 0 | S9: =R9-Q9 -> 0 | U9: 0 | V9: =U9-T9 -> 0 | W9: =T9+Q9+N9+K9+H9 -> 326.915 | X9: =U9+R9+O9+L9+I9 -> 363.61039 | Y9: =X9-W9 -> 36.695392 | Z9: =IFERROR(W9/E9,0) -> 6.0149954 | AA9: =IFERROR(X9/F9,0) -> 6.245699
A10: =A9+1 -> 6 | B10: Dr.M.V.R.RTPP Stage-III | C10: 210 | D10: 0.3622 | E10: 30.86 | F10: 36.73976 | G10: =F10-E10 -> 5.8797604 | H10: 47.258333 | I10: 53.293857 | J10: =I10-H10 -> 6.0355233 | K10: 135.784 | L10: 177.69407 | M10: =L10-K10 -> 41.910068 | O10: 0 | P10: =O10-N10 -> 0 | R10: 0 | S10: =R10-Q10 -> 0 | U10: 0 | V10: =U10-T10 -> 0 | W10: =T10+Q10+N10+K10+H10 -> 183.04233 | X10: =U10+R10+O10+L10+I10 -> 230.98792 | Y10: =X10-W10 -> 47.945592 | Z10: =IFERROR(W10/E10,0) -> 5.9313783 | AA10: =IFERROR(X10/F10,0) -> 6.2871375
A11: =A10+1 -> 7 | B11: Dr.M.V.R.RTPP Stage-IV | C11: 600 | D11: 0.3622 | E11: 105.92 | F11: 96.051181 | G11: =F11-E11 -> -9.8688188 | H11: 184.25833 | I11: 190.88763 | J11: =I11-H11 -> 6.6292979 | K11: 434.272 | L11: 435.15824 | M11: =L11-K11 -> 0.88623907 | O11: 0 | P11: =O11-N11 -> 0 | R11: 0 | S11: =R11-Q11 -> 0 | U11: 0 | V11: =U11-T11 -> 0 | W11: =T11+Q11+N11+K11+H11 -> 618.53033 | X11: =U11+R11+O11+L11+I11 -> 626.04587 | Y11: =X11-W11 -> 7.515537 | Z11: =IFERROR(W11/E11,0) -> 5.8395991 | AA11: =IFERROR(X11/F11,0) -> 6.5178362
A12: =A11+1 -> 8 | B12: GENCO THERMAL TOTAL | C12: =SUM(C5:C11) -> 4210 | D12: 0.3622 | E12: =SUM(E5:E11) -> 722.2 | F12: =SUM(F5:F11) -> 600.82136 | G12: =SUM(G5:G11) -> -121.37864 | H12: =SUM(H5:H11) -> 1049.2667 | I12: =SUM(I5:I11) -> 792.59848 | J12: =SUM(J5:J11) -> -256.66818 | K12: =SUM(K5:K11) -> 2883.8455 | L12: =SUM(L5:L11) -> 2614.4727 | ... Y12: =SUM(Y5:Y11) -> -526.04094 | Z12: =IFERROR(W12/E12,0) -> 5.4460152 | AA12: =IFERROR(X12/F12,0) -> 5.6706893
A13: =A12+1 -> 9 | B13: Srisailam RCPH | C13: 770 | D13: 0.3622 | E13: 0 | F13: 0.02598544 | G13: =F13-E13 -> 0.02598544 | H13: 70.591667 | I13: 69.765397 | J13: =I13-H13 -> -0.82627 | K13: 0 | L13: 0 | M13: =L13-K13 -> 0 | O13: 0 | P13: =O13-N13 -> 0 | R13: 0 | S13: =R13-Q13 -> 0 | U13: 0 | V13: =U13-T13 -> 0 | W13: =T13+Q13+N13+K13+H13 -> 70.591667 | X13: =U13+R13+O13+L13+I13 -> 69.765397 | Y13: =X13-W13 -> -0.82627 | Z13: =IFERROR(W13/E13,0) -> 0 | AA13: =IFERROR(X13/F13,0) -> 2684.788
A14: =A13+1 -> 10 | B14: NSRCPH | C14: 90 | D14: 0.3622 | E14: 0 | F14: -0.014897806 | G14: =F14-E14 -> -0.014897806 | H14: 8.3 | I14: 8.1909233 | J14: =I14-H14 -> -0.10907667 | K14: 0 | L14: 0 | M14: =L14-K14 -> 0 | O14: 0 | P14: =O14-N14 -> 0 | R14: 0 | S14: =R14-Q14 -> 0 | U14: 0 | V14: =U14-T14 -> 0 | W14: =T14+Q14+N14+K14+H14 -> 8.3 | X14: =U14+R14+O14+L14+I14 -> 8.1909233 | Y14: =X14-W14 -> -0.10907667 | Z14: =IFERROR(W14/E14,0) -> 0 | AA14: =IFERROR(X14/F14,0) -> -549.80734
A15: =A14+1 -> 11 | B15: NSTPDC PH | C15: 50 | D15: 0.3622 | E15: 0 | F15: -0.03521104 | G15: =F15-E15 -> -0.03521104 | H15: 16.233333 | I15: 16.013463 | J15: =I15-H15 -> -0.21987 | K15: 0 | L15: 0 | M15: =L15-K15 -> 0 | O15: 0 | P15: =O15-N15 -> 0 | R15: 0 | S15: =R15-Q15 -> 0 | U15: 0 | V15: =U15-T15 -> 0 | W15: =T15+Q15+N15+K15+H15 -> 16.233333 | X15: =U15+R15+O15+L15+I15 -> 16.013463 | Y15: =X15-W15 -> -0.21987 | Z15: =IFERROR(W15/E15,0) -> 0 | AA15: =IFERROR(X15/F15,0) -> -454.7853
A16: =A15+1 -> 12 | B16: Upper Sileru | C16: 725 | D16: 0.3622 | E16: 10.24 | F16: 7.1859255 | G16: =F16-E16 -> -3.0540745 | H16: 27.856408 | I16: 27.506073 | J16: =I16-H16 -> -0.35033495 | K16: 0 | L16: 0 | M16: =L16-K16 -> 0 | O16: 0 | P16: =O16-N16 -> 0 | R16: 0 | S16: =R16-Q16 -> 0 | U16: 0 | V16: =U16-T16 -> 0 | W16: =T16+Q16+N16+K16+H16 -> 27.856408 | X16: =U16+R16+O16+L16+I16 -> 27.506073 | Y16: =X16-W16 -> -0.35033495 | Z16: =IFERROR(W16/E16,0) -> 2.7203524 | AA16: =IFERROR(X16/F16,0) -> 3.8277704
A17: =A16+1 -> 13 | B17: Lower Sileru | D17: 0.3622 | E17: 32.34 | F17: 39.302916 | G17: =F17-E17 -> 6.9629157 | H17: 53.398463 | I17: 52.719974 | J17: =I17-H17 -> -0.67848852 | K17: 0 | L17: 0 | M17: =L17-K17 -> 0 | O17: 0 | P17: =O17-N17 -> 0 | R17: 0 | S17: =R17-Q17 -> 0 | U17: 0 | V17: =U17-T17 -> 0 | W17: =T17+Q17+N17+K17+H17 -> 53.398463 | X17: =U17+R17+O17+L17+I17 -> 52.719974 | Y17: =X17-W17 -> -0.67848852 | Z17: =IFERROR(W17/E17,0) -> 1.6511584 | AA17: =IFERROR(X17/F17,0) -> 1.3413756
A18: =A17+1 -> 14 | B18: Donkarayi | D18: 0.3622 | E18: 3.01 | F18: 4.4244932 | G18: =F18-E18 -> 1.4144932 | H18: 2.9034625 | I18: 2.865216 | J18: =I18-H18 -> -0.038246523 | K18: 0 | L18: 0 | M18: =L18-K18 -> 0 | O18: 0 | P18: =O18-N18 -> 0 | R18: 0 | S18: =R18-Q18 -> 0 | U18: 0 | V18: =U18-T18 -> 0 | W18: =T18+Q18+N18+K18+H18 -> 2.9034625 | X18: =U18+R18+O18+L18+I18 -> 2.865216 | Y18: =X18-W18 -> -0.038246523 | Z18: =IFERROR(W18/E18,0) -> 0.96460548 | AA18: =IFERROR(X18/F18,0) -> 0.6475806
A19: =A18+1 -> 15 | B19: PABRHES | C19: 20 | D19: 0.3622 | E19: 0 | F19: -0.0086935904 | G19: =F19-E19 -> -0.0086935904 | H19: 4.575 | I19: 4.52631 | J19: =I19-H19 -> -0.04869 | K19: 0 | L19: 0 | M19: =L19-K19 -> 0 | O19: 0 | P19: =O19-N19 -> 0 | R19: 0 | S19: =R19-Q19 -> 0 | U19: 0 | V19: =U19-T19 -> 0 | W19: =T19+Q19+N19+K19+H19 -> 4.575 | X19: =U19+R19+O19+L19+I19 -> 4.52631 | Y19: =X19-W19 -> -0.04869 | Z19: =IFERROR(W19/E19,0) -> 0 | AA19: =IFERROR(X19/F19,0) -> -520.6491
A20: =A19+1 -> 16 | B20: Minihydel(Chettipet) | C20: 1 | D20: 0.3622 | E20: 0.04 | F20: -0.00042284 | G20: =F20-E20 -> -0.04042284 | H20: 0.81666667 | I20: 0.79763 | J20: =I20-H20 -> -0.019036667 | K20: 0 | L20: 0 | M20: =L20-K20 -> 0 | O20: 0 | P20: =O20-N20 -> 0 | R20: 0 | S20: =R20-Q20 -> 0 | U20: 0 | V20: =U20-T20 -> 0 | W20: =T20+Q20+N20+K20+H20 -> 0.81666667 | X20: =U20+R20+O20+L20+I20 -> 0.79763 | Y20: =X20-W20 -> -0.019036667 | Z20: =IFERROR(W20/E20,0) -> 20.416667 | AA20: =IFERROR(X20/F20,0) -> -1886.3636
A21: =A20+1 -> 17 | B21: Machkund HES (AP Share) | C21: 117.6 | D21: 0.3622 | E21: 7.93 | F21: 11.627485 | G21: =F21-E21 -> 3.697485 | H21: 12.342687 | I21: 12.174301 | J21: =I21-H21 -> -0.16838644 | K21: 0 | L21: 0 | M21: =L21-K21 -> 0 | O21: 0 | P21: =O21-N21 -> 0 | R21: 0 | S21: =R21-Q21 -> 0 | U21: 0 | V21: =U21-T21 -> 0 | W21: =T21+Q21+N21+K21+H21 -> 12.342687 | X21: =U21+R21+O21+L21+I21 -> 12.174301 | Y21: =X21-W21 -> -0.16838644 | Z21: =IFERROR(W21/E21,0) -> 1.5564549 | AA21: =IFERROR(X21/F21,0) -> 1.0470279
A22: =A21+1 -> 18 | B22: Tungabhadra HES (AP Share) | D22: 0.3622 | E22: 0 | F22: -0.05373912 | G22: =F22-E22 -> -0.05373912 | H22: 11.84898 | I22: 11.687329 | J22: =I22-H22 -> -0.16165061 | K22: 0 | L22: 0 | M22: =L22-K22 -> 0 | O22: 0 | P22: =O22-N22 -> 0 | R22: 0 | S22: =R22-Q22 -> 0 | U22: 0 | V22: =U22-T22 -> 0 | W22: =T22+Q22+N22+K22+H22 -> 11.84898 | X22: =U22+R22+O22+L22+I22 -> 11.687329 | Y22: =X22-W22 -> -0.16165061 | Z22: =IFERROR(W22/E22,0) -> 0 | AA22: =IFERROR(X22/F22,0) -> -217.4827
A23: =A22+1 -> 19 | B23: GENCO HYDEL(INCLUDING INTERSTATE)TOTAL | C23: =SUM(C13:C22) -> 1773.6 | D23: 0.3622 | E23: =SUM(E13:E22) -> 53.56 | F23: =SUM(F13:F22) -> 62.45384 | G23: =SUM(G13:G22) -> 8.8938405 | H23: =SUM(H13:H22) -> 208.86667 | I23: =SUM(I13:I22) -> 206.24662 | J23: =SUM(J13:J22) -> -2.6200504 | K23: =SUM(K13:K22) -> 0 | L23: =SUM(L13:L22) -> 0 | ... Y23: =SUM(Y13:Y22) -> -2.6200504 | Z23: =IFERROR(W23/E23,0) -> 3.8996764 | AA23: =IFERROR(X23/F23,0) -> 3.3023848
A24: =A23+1 -> 20 | B24: NTPC(SR) Ramagundam I & II | C24: 2100 | D24: 0.3622 | E24: 66.91 | F24: 50.669755 | G24: =F24-E24 -> -16.240245 | H24: 48.7 | I24: 50.42893 | J24: =I24-H24 -> 1.7289301 | K24: 266.9709 | L24: 186.66738 | M24: =L24-K24 -> -80.303522 | O24: 0 | P24: =O24-N24 -> 0 | R24: 0 | S24: =R24-Q24 -> 0 | U24: 0 | V24: =U24-T24 -> 0 | W24: =T24+Q24+N24+K24+H24 -> 315.6709 | X24: =U24+R24+O24+L24+I24 -> 237.09631 | Y24: =X24-W24 -> -78.574591 | Z24: =IFERROR(W24/E24,0) -> 4.7178434 | AA24: =IFERROR(X24/F24,0) -> 4.6792472
A25: =A24+1 -> 21 | B25: NTPC(SR) Simhadri Stage-I | C25: 1000 | D25: 0.3622 | E25: 116.65 | F25: 102.23015 | G25: =F25-E25 -> -14.419851 | H25: 96.741667 | I25: 109.71325 | J25: =I25-H25 -> 12.971582 | K25: 424.606 | L25: 375.67416 | M25: =L25-K25 -> -48.931836 | O25: 0 | P25: =O25-N25 -> 0 | R25: 0 | S25: =R25-Q25 -> 0 | U25: 13.909614 | V25: =U25-T25 -> 13.909614 | W25: =T25+Q25+N25+K25+H25 -> 521.34767 | X25: =U25+R25+O25+L25+I25 -> 499.29703 | Y25: =X25-W25 -> -22.05064 | Z25: =IFERROR(W25/E25,0) -> 4.4693328 | AA25: =IFERROR(X25/F25,0) -> 4.8840487
A26: =A25+1 -> 22 | B26: NTPC(SR) Simhadri Stage-II | C26: 1000 | D26: 0.3622 | E26: 54.78 | F26: 43.020474 | G26: =F26-E26 -> -11.759526 | H26: 63.708333 | I26: 72.365449 | J26: =I26-H26 -> 8.6571158 | K26: 199.3992 | L26: 156.29863 | M26: =L26-K26 -> -43.100572 | O26: 0 | P26: =O26-N26 -> 0 | R26: 0 | S26: =R26-Q26 -> 0 | U26: 0 | V26: =U26-T26 -> 0 | W26: =T26+Q26+N26+K26+H26 -> 263.10753 | X26: =U26+R26+O26+L26+I26 -> 228.66408 | Y26: =X26-W26 -> -34.443456 | Z26: =IFERROR(W26/E26,0) -> 4.8029853 | AA26: =IFERROR(X26/F26,0) -> 5.3152384
A27: =A26+1 -> 23 | B27: NTPC(SR) Talcher Stage-II | C27: 2000 | D27: 0.3622 | E27: 46.36 | F27: 42.626248 | G27: =F27-E27 -> -3.7337522 | H27: 32.758333 | I27: 36.074277 | J27: =I27-H27 -> 3.3159438 | K27: 81.13 | L27: 70.034925 | M27: =L27-K27 -> -11.095075 | O27: 0 | P27: =O27-N27 -> 0 | R27: 0 | S27: =R27-Q27 -> 0 | U27: 0 | V27: =U27-T27 -> 0 | W27: =T27+Q27+N27+K27+H27 -> 113.88833 | X27: =U27+R27+O27+L27+I27 -> 106.1092 | Y27: =X27-W27 -> -7.7791309 | Z27: =IFERROR(W27/E27,0) -> 2.4566077 | AA27: =IFERROR(X27/F27,0) -> 2.4892926
A28: =A27+1 -> 24 | B28: NTPC(SR) Ramagundam III | C28: 500 | D28: 0.3622 | E28: 16.5 | F28: 13.871668 | G28: =F28-E28 -> -2.6283321 | H28: 13.566667 | I28: 13.398164 | J28: =I28-H28 -> -0.1685023 | K28: 65.835 | L28: 50.159951 | M28: =L28-K28 -> -15.675049 | O28: 0 | P28: =O28-N28 -> 0 | R28: 0 | S28: =R28-Q28 -> 0 | U28: 0 | V28: =U28-T28 -> 0 | W28: =T28+Q28+N28+K28+H28 -> 79.401667 | X28: =U28+R28+O28+L28+I28 -> 63.558116 | Y28: =X28-W28 -> -15.843551 | Z28: =IFERROR(W28/E28,0) -> 4.8122222 | AA28: =IFERROR(X28/F28,0) -> 4.5818654
A29: =A28+1 -> 25 | B29: NTPC Kudgi Stage-I | C29: 2400 | D29: 0.3622 | E29: 0 | F29: 25.121826 | G29: =F29-E29 -> 25.121826 | H29: 0 | I29: 76.397951 | J29: =I29-H29 -> 76.397951 | K29: 0 | L29: 119.3682 | M29: =L29-K29 -> 119.3682 | O29: 0 | P29: =O29-N29 -> 0 | R29: 0 | S29: =R29-Q29 -> 0 | U29: 0 | V29: =U29-T29 -> 0 | W29: =T29+Q29+N29+K29+H29 -> 0 | X29: =U29+R29+O29+L29+I29 -> 195.76615 | Y29: =X29-W29 -> 195.76615 | Z29: =IFERROR(W29/E29,0) -> 0 | AA29: =IFERROR(X29/F29,0) -> 7.7926721
A30: 26 | B30: NTPC Telangana STPS - I | D30: 0.3622 | E30: 0 | F30: 0.23964572 | G30: =F30-E30 -> 0.23964572 | H30: 0 | I30: 1.1043224 | J30: =I30-H30 -> 1.1043224 | K30: 0 | L30: 0.85593118 | M30: =L30-K30 -> 0.85593118 | O30: 0 | P30: =O30-N30 -> 0 | R30: 0 | S30: =R30-Q30 -> 0 | U30: 0 | V30: =U30-T30 -> 0 | W30: =T30+Q30+N30+K30+H30 -> 0 | X30: =U30+R30+O30+L30+I30 -> 1.9602536 | Y30: =X30-W30 -> 1.9602536 | Z30: =IFERROR(W30/E30,0) -> 0 | AA30: =IFERROR(X30/F30,0) -> 8.1797978
A31: 27 | B31: NTECL Valluru | C31: 1500 | D31: 0.3622 | E31: 0 | F31: 14.145548 | G31: =F31-E31 -> 14.145548 | H31: 0 | I31: 35.207514 | J31: =I31-H31 -> 35.207514 | K31: 0 | L31: 52.964729 | M31: =L31-K31 -> 52.964729 | O31: 0 | P31: =O31-N31 -> 0 | R31: 0 | S31: =R31-Q31 -> 0 | U31: 1.2026874 | V31: =U31-T31 -> 1.2026874 | W31: =T31+Q31+N31+K31+H31 -> 0 | X31: =U31+R31+O31+L31+I31 -> 89.37493 | Y31: =X31-W31 -> 89.37493 | Z31: =IFERROR(W31/E31,0) -> 0 | AA31: =IFERROR(X31/F31,0) -> 6.3182373
A32: =A31+1 -> 28 | B32: NLC Stage-I | C32: 630 | D32: 0.3622 | E32: 10.58 | F32: 2.2381356 | G32: =F32-E32 -> -8.3418644 | H32: 8.5416667 | I32: 2.2606268 | J32: =I32-H32 -> -6.2810399 | K32: 34.2792 | L32: 7.2560355 | M32: =L32-K32 -> -27.023165 | O32: 0 | P32: =O32-N32 -> 0 | R32: 0 | S32: =R32-Q32 -> 0 | U32: 0.7494224 | V32: =U32-T32 -> 0.7494224 | W32: =T32+Q32+N32+K32+H32 -> 42.820867 | X32: =U32+R32+O32+L32+I32 -> 10.266085 | Y32: =X32-W32 -> -32.554782 | Z32: =IFERROR(W32/E32,0) -> 4.0473409 | AA32: =IFERROR(X32/F32,0) -> 4.5868914
A33: =A32+1 -> 29 | B33: NLC Stage-II | C33: 840 | D33: 0.3622 | E33: 19.45 | F33: 5.0956668 | G33: =F33-E33 -> -14.354333 | H33: 16.225 | I33: 5.2090321 | J33: =I33-H33 -> -11.015968 | K33: 63.018 | L33: 16.520152 | M33: =L33-K33 -> -46.497848 | O33: 0 | P33: =O33-N33 -> 0 | R33: 0 | S33: =R33-Q33 -> 0 | U33: 0 | V33: =U33-T33 -> 0 | W33: =T33+Q33+N33+K33+H33 -> 79.243 | X33: =U33+R33+O33+L33+I33 -> 21.729184 | Y33: =X33-W33 -> -57.513816 | Z33: =IFERROR(W33/E33,0) -> 4.0741902 | AA33: =IFERROR(X33/F33,0) -> 4.2642475
A34: =A33+1 -> 30 | B34: NPC(MAPS) | C34: 440 | D34: 0.3622 | E34: 2.69 | F34: 1.961717 | G34: =F34-E34 -> -0.72828302 | H34: 0 | I34: 0 | J34: =I34-H34 -> 0 | K34: 6.8864 | L34: 5.0921787 | M34: =L34-K34 -> -1.7942213 | O34: 0 | P34: =O34-N34 -> 0 | R34: 0 | S34: =R34-Q34 -> 0 | U34: 0 | V34: =U34-T34 -> 0 | W34: =T34+Q34+N34+K34+H34 -> 6.8864 | X34: =U34+R34+O34+L34+I34 -> 5.0921787 | Y34: =X34-W34 -> -1.7942213 | Z34: =IFERROR(W34/E34,0) -> 2.56 | AA34: =IFERROR(X34/F34,0) -> 2.5957764
A35: =A34+1 -> 31 | B35: NPC(KAIGA unit I,II,III,IV) | C35: 880 | D35: 0.3622 | E35: 19.51 | F35: 22.648137 | G35: =F35-E35 -> 3.1381369 | H35: 0 | I35: 0 | J35: =I35-H35 -> 0 | K35: 68.8703 | L35: 80.401309 | M35: =L35-K35 -> 11.531009 | O35: 0 | P35: =O35-N35 -> 0 | R35: 0 | S35: =R35-Q35 -> 0 | U35: 0 | V35: =U35-T35 -> 0 | W35: =T35+Q35+N35+K35+H35 -> 68.8703 | X35: =U35+R35+O35+L35+I35 -> 80.401309 | Y35: =X35-W35 -> 11.531009 | Z35: =IFERROR(W35/E35,0) -> 3.53 | AA35: =IFERROR(X35/F35,0) -> 3.5500187
A36: =A35+1 -> 32 | B36: NTPL(NLC TamilNadu) | C36: 1000 | D36: 0.3622 | E36: 0 | F36: 6.7515382 | G36: =F36-E36 -> 6.7515382 | H36: 0 | I36: 30.578057 | J36: =I36-H36 -> 30.578057 | K36: 0 | L36: -30.436041 | M36: =L36-K36 -> -30.436041 | O36: 0 | P36: =O36-N36 -> 0 | R36: 0 | S36: =R36-Q36 -> 0 | U36: 1.5231616 | V36: =U36-T36 -> 1.5231616 | W36: =T36+Q36+N36+K36+H36 -> 0 | X36: =U36+R36+O36+L36+I36 -> 1.6651774 | Y36: =X36-W36 -> 1.6651774 | Z36: =IFERROR(W36/E36,0) -> 0 | AA36: =IFERROR(X36/F36,0) -> 0.24663674
A37: =A36+1 -> 33 | B37: NLC NNTPS | C37: 1000 | D37: 0.3622 | E37: 0 | F37: 10.017787 | G37: =F37-E37 -> 10.017787 | H37: 0 | I37: 22.49156 | J37: =I37-H37 -> 22.49156 | K37: 0 | L37: 27.582002 | M37: =L37-K37 -> 27.582002 | O37: 0 | P37: =O37-N37 -> 0 | R37: 0 | S37: =R37-Q37 -> 0 | U37: 0 | V37: =U37-T37 -> 0 | W37: =T37+Q37+N37+K37+H37 -> 0 | X37: =U37+R37+O37+L37+I37 -> 50.073562 | Y37: =X37-W37 -> 50.073562 | Z37: =IFERROR(W37/E37,0) -> 0 | AA37: =IFERROR(X37/F37,0) -> 4.9984655
A38: =A37+1 -> 34 | B38: KKNPP Unit-I | C38: 1000 | D38: 0.3622 | E38: 0 | F38: 0.061655454 | G38: =F38-E38 -> 0.061655454 | H38: 0 | I38: 0 | J38: =I38-H38 -> 0 | K38: 0 | L38: 0.28137234 | M38: =L38-K38 -> 0.28137234 | O38: 0 | P38: =O38-N38 -> 0 | R38: 0 | S38: =R38-Q38 -> 0 | U38: 0.04377701 | V38: =U38-T38 -> 0.04377701 | W38: =T38+Q38+N38+K38+H38 -> 0 | X38: =U38+R38+O38+L38+I38 -> 0.32514935 | Y38: =X38-W38 -> 0.32514935 | Z38: =IFERROR(W38/E38,0) -> 0 | AA38: =IFERROR(X38/F38,0) -> 5.2736511
A39: =A38+1 -> 35 | B39: NLC TPS- I Expn. | C39: 630 | D39: 0.3622 | E39: 0 | F39: 0.051342386 | G39: =F39-E39 -> 0.051342386 | H39: 0 | I39: 0.045214281 | J39: =I39-H39 -> 0.045214281 | K39: 0 | L39: 0.15039266 | M39: =L39-K39 -> 0.15039266 | O39: 0 | P39: =O39-N39 -> 0 | R39: 0 | S39: =R39-Q39 -> 0 | U39: 0 | V39: =U39-T39 -> 0 | W39: =T39+Q39+N39+K39+H39 -> 0 | X39: =U39+R39+O39+L39+I39 -> 0.19560694 | Y39: =X39-W39 -> 0.19560694 | Z39: =IFERROR(W39/E39,0) -> 0 | AA39: =IFERROR(X39/F39,0) -> 3.8098529
A40: =A39+1 -> 36 | B40: NLC TPS- II Expn. | C40: 840 | D40: 0.3622 | E40: 0 | F40: 0.024450915 | G40: =F40-E40 -> 0.024450915 | H40: 0 | I40: 0.061620858 | J40: =I40-H40 -> 0.061620858 | K40: 0 | L40: 0.078995353 | M40: =L40-K40 -> 0.078995353 | O40: 0 | P40: =O40-N40 -> 0 | R40: 0 | S40: =R40-Q40 -> 0 | U40: 0 | V40: =U40-T40 -> 0 | W40: =T40+Q40+N40+K40+H40 -> 0 | X40: =U40+R40+O40+L40+I40 -> 0.14061621 | Y40: =X40-W40 -> 0.14061621 | Z40: =IFERROR(W40/E40,0) -> 0 | AA40: =IFERROR(X40/F40,0) -> 5.750959
...

Sheet 06-25
A1: FPPCA FORMAT for the month of JUNE, 2025 FY 25-26 (APEPDCL)
A2: S.No. | B2: Generating station/ Stage/Source | C2: Plant capacity (MW) | D2: Discom's share (%) | E2: Energy (MU) | H2: Cost Components (Rs.Millions) | Z2: 10
H3: Fixed (A) | K3: Variable (B) | N3: Incentive (C) | Q3: Income Tax (D) | T3: Others (E) | W3: Total F=(A+B+C+D+E)
E4: TO (a) | F4: Actual (b) | G4: Variance (c)= (b-a) | H4: TO (d) | I4: Actual (e) | J4: Variance (f)= (e-d) | K4: TO (g) | L4: Actual (h) | M4: Variance (i)= (h-g) | N4: TO (j) | O4: Actual (k) | P4: Variance (l)= (k-j) | Q4: TO (m) | R4: Actual (n) | S4: Variance (o)= (n-m) | T4: TO (p) | U4: Actual (q) | V4: Variance (r)= (q-p) | W4: TO (s) | X4: Actual (t) | Y4: Variance (u)= (t-s) | Z4: Avg as per Tariff Order | AA4: Actual
A5: 1 | B5: Dr. NTTPS | C5: 1260 | D5: 0.3622 | E5: 187.19 | F5: 189.48538 | G5: =F5-E5 -> 2.2953832 | H5: 239.375 | I5: 203.46088 | J5: =I5-H5 -> -35.91412 | K5: 791.8137 | L5: 808.8277 | M5: =L5-K5 -> 17.014002 | O5: 0 | P5: =O5-N5 -> 0 | R5: 0 | S5: =R5-Q5 -> 0 | U5: 0 | V5: =U5-T5 -> 0 | W5: =T5+Q5+N5+K5+H5 -> 1031.1887 | X5: =U5+R5+O5+L5+I5 -> 1012.2886 | Y5: =X5-W5 -> -18.900118 | Z5: =IFERROR(W5/E5,0) -> 5.5087809 | AA5: =IFERROR(X5/F5,0) -> 5.3423043
A6: =A5+1 -> 2 | B6: Dr. NTTPS-IV | C6: 500 | D6: 0.3622 | E6: 92.05 | F6: 91.267305 | G6: =F6-E6 -> -0.7826952 | H6: 86.4 | I6: 86.883133 | J6: =I6-H6 -> 0.48313333 | K6: 362.677 | L6: 365.16902 | M6: =L6-K6 -> 2.4920231 | O6: 0 | P6: =O6-N6 -> 0 | R6: 0 | S6: =R6-Q6 -> 0 | U6: 0 | V6: =U6-T6 -> 0 | W6: =T6+Q6+N6+K6+H6 -> 449.077 | X6: =U6+R6+O6+L6+I6 -> 452.05216 | Y6: =X6-W6 -> 2.9751565 | Z6: =IFERROR(W6/E6,0) -> 4.8786203 | AA6: =IFERROR(X6/F6,0) -> 4.9530569
A7: =A6+1 -> 3 | B7: Dr. NTTPS-V | C7: 800 | D7: 0.3622 | E7: 175.66 | F7: 126.18617 | G7: =F7-E7 -> -49.473835 | H7: 324.79167 | I7: 300.51055 | J7: =I7-H7 -> -24.281116 | K7: 586.7044 | L7: 401.41482 | M7: =L7-K7 -> -185.28958 | O7: 0 | P7: =O7-N7 -> 0 | R7: 0 | S7: =R7-Q7 -> 0 | U7: 0 | V7: =U7-T7 -> 0 | W7: =T7+Q7+N7+K7+H7 -> 911.49607 | X7: =U7+R7+O7+L7+I7 -> 701.92537 | Y7: =X7-W7 -> -209.5707 | Z7: =IFERROR(W7/E7,0) -> 5.1889791 | AA7: =IFERROR(X7/F7,0) -> 5.5626175
A8: =A7+1 -> 4 | B8: Dr.M.V.R.RTPP Stage-I | C8: 420 | D8: 0.3622 | E8: 23.48 | F8: 56.326529 | G8: =F8-E8 -> 32.846529 | H8: 79.408333 | I8: 69.612214 | J8: =I8-H8 -> -9.7961198 | K8: 103.312 | L8: 272.51418 | M8: =L8-K8 -> 169.20218 | O8: 0 | P8: =O8-N8 -> 0 | R8: 0 | S8: =R8-Q8 -> 0 | U8: 0 | V8: =U8-T8 -> 0 | W8: =T8+Q8+N8+K8+H8 -> 182.72033 | X8: =U8+R8+O8+L8+I8 -> 342.12639 | Y8: =X8-W8 -> 159.40606 | Z8: =IFERROR(W8/E8,0) -> 7.7819563 | AA8: =IFERROR(X8/F8,0) -> 6.0739832
A9: =A8+1 -> 5 | B9: Dr.M.V.R.RTPP Stage-II | C9: 420 | D9: 0.3622 | E9: 49.64 | F9: 68.715922 | G9: =F9-E9 -> 19.075922 | H9: 87.775 | I9: 82.7956 | J9: =I9-H9 -> -4.9794 | K9: 218.416 | L9: 332.45548 | M9: =L9-K9 -> 114.03948 | O9: 0 | P9: =O9-N9 -> 0 | R9: 0 | S9: =R9-Q9 -> 0 | U9: 0 | V9: =U9-T9 -> 0 | W9: =T9+Q9+N9+K9+H9 -> 306.191 | X9: =U9+R9+O9+L9+I9 -> 415.25108 | Y9: =X9-W9 -> 109.06008 | Z9: =IFERROR(W9/E9,0) -> 6.1682313 | AA9: =IFERROR(X9/F9,0) -> 6.043011
A10: =A9+1 -> 6 | B10: Dr.M.V.R.RTPP Stage-III | C10: 210 | D10: 0.3622 | E10: 27.75 | F10: 35.711383 | G10: =F10-E10 -> 7.9613834 | H10: 47.258333 | I10: 51.131047 | J10: =I10-H10 -> 3.8727133 | K10: 122.1 | L10: 172.77575 | M10: =L10-K10 -> 50.67575 | O10: 0 | P10: =O10-N10 -> 0 | R10: 0 | S10: =R10-Q10 -> 0 | U10: 0 | V10: =U10-T10 -> 0 | W10: =T10+Q10+N10+K10+H10 -> 169.35833 | X10: =U10+R10+O10+L10+I10 -> 223.9068 | Y10: =X10-W10 -> 54.548463 | Z10: =IFERROR(W10/E10,0) -> 6.103003 | AA10: =IFERROR(X10/F10,0) -> 6.2698998
A11: =A10+1 -> 7 | B11: Dr.M.V.R.RTPP Stage-IV | C11: 600 | D11: 0.3622 | E11: 93.31 | F11: 95.104669 | G11: =F11-E11 -> 1.7946688 | H11: 184.25833 | I11: 180.48706 | J11: =I11-H11 -> -3.7712699 | K11: 382.571 | L11: 420.15889 | M11: =L11-K11 -> 37.58789 | O11: 0 | P11: =O11-N11 -> 0 | R11: 0 | S11: =R11-Q11 -> 0 | U11: 0 | V11: =U11-T11 -> 0 | W11: =T11+Q11+N11+K11+H11 -> 566.82933 | X11: =U11+R11+O11+L11+I11 -> 600.64595 | Y11: =X11-W11 -> 33.81662 | Z11: =IFERROR(W11/E11,0) -> 6.0746901 | AA11: =IFERROR(X11/F11,0) -> 6.3156306
A12: =A11+1 -> 8 | B12: GENCO THERMAL TOTAL | C12: =SUM(C5:C11) -> 4210 | D12: 0.3622 | E12: =SUM(E5:E11) -> 649.08 | F12: =SUM(F5:F11) -> 662.79736 | G12: =SUM(G5:G11) -> 13.717357 | H12: =SUM(H5:H11) -> 1049.2667 | I12: =SUM(I5:I11) -> 974.88049 | J12: =SUM(J5:J11) -> -74.386179 | K12: =SUM(K5:K11) -> 2567.5941 | L12: =SUM(L5:L11) -> 2773.3158 | ... Y12: =SUM(Y5:Y11) -> 131.33556 | Z12: =IFERROR(W12/E12,0) -> 5.5722881 | AA12: =IFERROR(X12/F12,0) -> 5.6551166
A13: =A12+1 -> 9 | B13: Srisailam RCPH | C13: 770 | D13: 0.3622 | E13: 0.43 | F13: 4.9906385 | G13: =F13-E13 -> 4.5606385 | H13: 70.591667 | I13: 66.934127 | J13: =I13-H13 -> -3.65754 | K13: 0 | L13: 0 | M13: =L13-K13 -> 0 | O13: 0 | P13: =O13-N13 -> 0 | R13: 0 | S13: =R13-Q13 -> 0 | U13: 0 | V13: =U13-T13 -> 0 | W13: =T13+Q13+N13+K13+H13 -> 70.591667 | X13: =U13+R13+O13+L13+I13 -> 66.934127 | Y13: =X13-W13 -> -3.65754 | Z13: =IFERROR(W13/E13,0) -> 164.16667 | AA13: =IFERROR(X13/F13,0) -> 13.411937
A14: =A13+1 -> 10 | B14: NSRCPH | C14: 90 | D14: 0.3622 | E14: 0 | F14: -0.014524819 | G14: =F14-E14 -> -0.014524819 | H14: 8.3 | I14: 7.8585133 | J14: =I14-H14 -> -0.44148667 | K14: 0 | L14: 0 | M14: =L14-K14 -> 0 | O14: 0 | P14: =O14-N14 -> 0 | R14: 0 | S14: =R14-Q14 -> 0 | U14: 0 | V14: =U14-T14 -> 0 | W14: =T14+Q14+N14+K14+H14 -> 8.3 | X14: =U14+R14+O14+L14+I14 -> 7.8585133 | Y14: =X14-W14 -> -0.44148667 | Z14: =IFERROR(W14/E14,0) -> 0 | AA14: =IFERROR(X14/F14,0) -> -541.04035
A15: =A14+1 -> 11 | B15: NSTPDC PH | C15: 50 | D15: 0.3622 | E15: 0 | F15: -0.01508392 | G15: =F15-E15 -> -0.01508392 | H15: 16.233333 | I15: 15.363593 | J15: =I15-H15 -> -0.86974 | K15: 0 | L15: 0 | M15: =L15-K15 -> 0 | O15: 0 | P15: =O15-N15 -> 0 | R15: 0 | S15: =R15-Q15 -> 0 | U15: 0 | V15: =U15-T15 -> 0 | W15: =T15+Q15+N15+K15+H15 -> 16.233333 | X15: =U15+R15+O15+L15+I15 -> 15.363593 | Y15: =X15-W15 -> -0.86974 | Z15: =IFERROR(W15/E15,0) -> 0 | AA15: =IFERROR(X15/F15,0) -> -1018.5412
A16: =A15+1 -> 12 | B16: Upper Sileru | C16: 725 | D16: 0.3622 | E16: 11.47 | F16: 10.151083 | G16: =F16-E16 -> -1.3189168 | H16: 27.856408 | I16: 26.389802 | J16: =I16-H16 -> -1.4666064 | K16: 0 | L16: 0 | M16: =L16-K16 -> 0 | O16: 0 | P16: =O16-N16 -> 0 | R16: 0 | S16: =R16-Q16 -> 0 | U16: 0 | V16: =U16-T16 -> 0 | W16: =T16+Q16+N16+K16+H16 -> 27.856408 | X16: =U16+R16+O16+L16+I16 -> 26.389802 | Y16: =X16-W16 -> -1.4666064 | Z16: =IFERROR(W16/E16,0) -> 2.4286319 | AA16: =IFERROR(X16/F16,0) -> 2.5997031
A17: =A16+1 -> 13 | B17: Lower Sileru | D17: 0.3622 | E17: 24.45 | F17: 37.479044 | G17: =F17-E17 -> 13.029044 | H17: 53.398463 | I17: 50.580454 | J17: =I17-H17 -> -2.8180088 | K17: 0 | L17: 0 | M17: =L17-K17 -> 0 | O17: 0 | P17: =O17-N17 -> 0 | R17: 0 | S17: =R17-Q17 -> 0 | U17: 0 | V17: =U17-T17 -> 0 | W17: =T17+Q17+N17+K17+H17 -> 53.398463 | X17: =U17+R17+O17+L17+I17 -> 50.580454 | Y17: =X17-W17 -> -2.8180088 | Z17: =IFERROR(W17/E17,0) -> 2.1839862 | AA17: =IFERROR(X17/F17,0) -> 1.3495663
A18: =A17+1 -> 14 | B18: Donkarayi | D18: 0.3622 | E18: 2.6 | F18: 2.0605026 | G18: =F18-E18 -> -0.53949744 | H18: 2.9034625 | I18: 2.7489377 | J18: =I18-H18 -> -0.1545248 | K18: 0 | L18: 0 | M18: =L18-K18 -> 0 | O18: 0 | P18: =O18-N18 -> 0 | R18: 0 | S18: =R18-Q18 -> 0 | U18: 0 | V18: =U18-T18 -> 0 | W18: =T18+Q18+N18+K18+H18 -> 2.9034625 | X18: =U18+R18+O18+L18+I18 -> 2.7489377 | Y18: =X18-W18 -> -0.1545248 | Z18: =IFERROR(W18/E18,0) -> 1.1167163 | AA18: =IFERROR(X18/F18,0) -> 1.3341103
A19: =A18+1 -> 15 | B19: PABRHES | C19: 20 | D19: 0.3622 | E19: 0 | F19: -0.008596728 | G19: =F19-E19 -> -0.008596728 | H19: 4.575 | I19: 4.34262 | J19: =I19-H19 -> -0.23238 | K19: 0 | L19: 0 | M19: =L19-K19 -> 0 | O19: 0 | P19: =O19-N19 -> 0 | R19: 0 | S19: =R19-Q19 -> 0 | U19: 0 | V19: =U19-T19 -> 0 | W19: =T19+Q19+N19+K19+H19 -> 4.575 | X19: =U19+R19+O19+L19+I19 -> 4.34262 | Y19: =X19-W19 -> -0.23238 | Z19: =IFERROR(W19/E19,0) -> 0 | AA19: =IFERROR(X19/F19,0) -> -505.14801
A20: =A19+1 -> 16 | B20: Minihydel(Chettipet) | C20: 1 | D20: 0.3622 | E20: 0.13 | F20: 0 | G20: =F20-E20 -> -0.13 | H20: 0.81666667 | I20: 0.60023393 | J20: =I20-H20 -> -0.21643273 | K20: 0 | L20: 0 | M20: =L20-K20 -> 0 | O20: 0 | P20: =O20-N20 -> 0 | R20: 0 | S20: =R20-Q20 -> 0 | U20: 0 | V20: =U20-T20 -> 0 | W20: =T20+Q20+N20+K20+H20 -> 0.81666667 | X20: =U20+R20+O20+L20+I20 -> 0.60023393 | Y20: =X20-W20 -> -0.21643273 | Z20: =IFERROR(W20/E20,0) -> 6.2820513 | AA20: =IFERROR(X20/F20,0) -> 0
A21: =A20+1 -> 17 | B21: Machkund HES (AP Share) | C21: 117.6 | D21: 0.3622 | E21: 9.46 | F21: 12.441911 | G21: =F21-E21 -> 2.9819106 | H21: 12.342687 | I21: 11.680234 | J21: =I21-H21 -> -0.66245275 | K21: 0 | L21: 0 | M21: =L21-K21 -> 0 | O21: 0 | P21: =O21-N21 -> 0 | R21: 0 | S21: =R21-Q21 -> 0 | U21: 0 | V21: =U21-T21 -> 0 | W21: =T21+Q21+N21+K21+H21 -> 12.342687 | X21: =U21+R21+O21+L21+I21 -> 11.680234 | Y21: =X21-W21 -> -0.66245275 | Z21: =IFERROR(W21/E21,0) -> 1.3047238 | AA21: =IFERROR(X21/F21,0) -> 0.93878141
A22: =A21+1 -> 18 | B22: Tungabhadra HES (AP Share) | D22: 0.3622 | E22: 0 | F22: -0.0556888 | G22: =F22-E22 -> -0.0556888 | H22: 11.84898 | I22: 11.213025 | J22: =I22-H22 -> -0.63595429 | K22: 0 | L22: 0 | M22: =L22-K22 -> 0 | O22: 0 | P22: =O22-N22 -> 0 | R22: 0 | S22: =R22-Q22 -> 0 | U22: 0 | V22: =U22-T22 -> 0 | W22: =T22+Q22+N22+K22+H22 -> 11.84898 | X22: =U22+R22+O22+L22+I22 -> 11.213025 | Y22: =X22-W22 -> -0.63595429 | Z22: =IFERROR(W22/E22,0) -> 0 | AA22: =IFERROR(X22/F22,0) -> -201.35153
A23: =A22+1 -> 19 | B23: GENCO HYDEL(INCLUDING INTERSTATE)TOTAL | C23: =SUM(C13:C22) -> 1773.6 | D23: 0.3622 | E23: =SUM(E13:E22) -> 48.54 | F23: =SUM(F13:F22) -> 67.029285 | G23: =SUM(G13:G22) -> 18.489285 | H23: =SUM(H13:H22) -> 208.86667 | I23: =SUM(I13:I22) -> 197.71154 | J23: =SUM(J13:J22) -> -11.155126 | K23: =SUM(K13:K22) -> 0 | L23: =SUM(L13:L22) -> 0 | ... Y23: =SUM(Y13:Y22) -> -11.155126 | Z23: =IFERROR(W23/E23,0) -> 4.3029804 | AA23: =IFERROR(X23/F23,0) -> 2.9496293
A24: =A23+1 -> 20 | B24: NTPC(SR) Ramagundam I & II | C24: 2100 | D24: 0.3622 | E24: 46.89 | F24: 40.825672 | G24: =F24-E24 -> -6.0643276 | H24: 48.7 | I24: 52.39095 | J24: =I24-H24 -> 3.6909502 | K24: 187.0911 | L24: 155.99489 | M24: =L24-K24 -> -31.096205 | O24: 0 | P24: =O24-N24 -> 0 | R24: 0 | S24: =R24-Q24 -> 0 | U24: 0 | V24: =U24-T24 -> 0 | W24: =T24+Q24+N24+K24+H24 -> 235.7911 | X24: =U24+R24+O24+L24+I24 -> 208.38584 | Y24: =X24-W24 -> -27.405255 | Z24: =IFERROR(W24/E24,0) -> 5.028601 | AA24: =IFERROR(X24/F24,0) -> 5.1042844
A25: =A24+1 -> 21 | B25: NTPC(SR) Simhadri Stage-I | C25: 1000 | D25: 0.3622 | E25: 115.79 | F25: 84.959957 | G25: =F25-E25 -> -30.830043 | H25: 96.741667 | I25: 108.38412 | J25: =I25-H25 -> 11.64245 | K25: 421.4756 | L25: 296.385 | M25: =L25-K25 -> -125.0906 | O25: 0 | P25: =O25-N25 -> 0 | R25: 0 | S25: =R25-Q25 -> 0 | U25: 17.549546 | V25: =U25-T25 -> 17.549546 | W25: =T25+Q25+N25+K25+H25 -> 518.21727 | X25: =U25+R25+O25+L25+I25 -> 422.31866 | Y25: =X25-W25 -> -95.898604 | Z25: =IFERROR(W25/E25,0) -> 4.4754924 | AA25: =IFERROR(X25/F25,0) -> 4.9707966
A26: =A25+1 -> 22 | B26: NTPC(SR) Simhadri Stage-II | C26: 1000 | D26: 0.3622 | E26: 39.58 | F26: 27.55655 | G26: =F26-E26 -> -12.02345 | H26: 63.708333 | I26: 71.052323 | J26: =I26-H26 -> 7.3439894 | K26: 144.0712 | L26: 96.212604 | M26: =L26-K26 -> -47.858596 | O26: 0 | P26: =O26-N26 -> 0 | R26: 0 | S26: =R26-Q26 -> 0 | U26: 0 | V26: =U26-T26 -> 0 | W26: =T26+Q26+N26+K26+H26 -> 207.77953 | X26: =U26+R26+O26+L26+I26 -> 167.26493 | Y26: =X26-W26 -> -40.514607 | Z26: =IFERROR(W26/E26,0) -> 5.2496092 | AA26: =IFERROR(X26/F26,0) -> 6.069879
A27: =A26+1 -> 23 | B27: NTPC(SR) Talcher Stage-II | C27: 2000 | D27: 0.3622 | E27: 41.62 | F27: 34.417369 | G27: =F27-E27 -> -7.2026307 | H27: 32.758333 | I27: 28.842976 | J27: =I27-H27 -> -3.9153572 | K27: 72.835 | L27: 62.613769 | M27: =L27-K27 -> -10.221231 | O27: 0 | P27: =O27-N27 -> 0 | R27: 0 | S27: =R27-Q27 -> 0 | U27: 0 | V27: =U27-T27 -> 0 | W27: =T27+Q27+N27+K27+H27 -> 105.59333 | X27: =U27+R27+O27+L27+I27 -> 91.456745 | Y27: =X27-W27 -> -14.136588 | Z27: =IFERROR(W27/E27,0) -> 2.5370815 | AA27: =IFERROR(X27/F27,0) -> 2.6572846
A28: =A27+1 -> 24 | B28: NTPC(SR) Ramagundam III | C28: 500 | D28: 0.3622 | E28: 18.57 | F28: 12.094375 | G28: =F28-E28 -> -6.4756252 | H28: 13.566667 | I28: 13.367041 | J28: =I28-H28 -> -0.19962536 | K28: 74.0943 | L28: 45.353906 | M28: =L28-K28 -> -28.740394 | O28: 0 | P28: =O28-N28 -> 0 | R28: 0 | S28: =R28-Q28 -> 0 | U28: 0 | V28: =U28-T28 -> 0 | W28: =T28+Q28+N28+K28+H28 -> 87.660967 | X28: =U28+R28+O28+L28+I28 -> 58.720947 | Y28: =X28-W28 -> -28.940019 | Z28: =IFERROR(W28/E28,0) -> 4.720569 | AA28: =IFERROR(X28/F28,0) -> 4.855228
A29: =A28+1 -> 25 | B29: NTPC Kudgi Stage-I | C29: 2400 | D29: 0.3622 | E29: 0 | F29: 22.307767 | G29: =F29-E29 -> 22.307767 | H29: 0 | I29: 74.460784 | J29: =I29-H29 -> 74.460784 | K29: 0 | L29: 103.50804 | M29: =L29-K29 -> 103.50804 | O29: 0 | P29: =O29-N29 -> 0 | R29: 0 | S29: =R29-Q29 -> 0 | U29: 0 | V29: =U29-T29 -> 0 | W29: =T29+Q29+N29+K29+H29 -> 0 | X29: =U29+R29+O29+L29+I29 -> 177.96882 | Y29: =X29-W29 -> 177.96882 | Z29: =IFERROR(W29/E29,0) -> 0 | AA29: =IFERROR(X29/F29,0) -> 7.977886
A30: 26 | B30: NTPC Telangana STPS - I | D30: 0.3622 | E30: 0 | F30: 0.16598803 | G30: =F30-E30 -> 0.16598803 | H30: 0 | I30: -0.81734968 | J30: =I30-H30 -> -0.81734968 | K30: 0 | L30: 0.60038022 | M30: =L30-K30 -> 0.60038022 | O30: 0 | P30: =O30-N30 -> 0 | R30: 0 | S30: =R30-Q30 -> 0 | U30: 0 | V30: =U30-T30 -> 0 | W30: =T30+Q30+N30+K30+H30 -> 0 | X30: =U30+R30+O30+L30+I30 -> -0.21696947 | Y30: =X30-W30 -> -0.21696947 | Z30: =IFERROR(W30/E30,0) -> 0 | AA30: =IFERROR(X30/F30,0) -> -1.3071392
A31: 27 | B31: NTECL Valluru | C31: 1500 | D31: 0.3622 | E31: 0 | F31: 11.479559 | G31: =F31-E31 -> 11.479559 | H31: 0 | I31: 32.342586 | J31: =I31-H31 -> 32.342586 | K31: 0 | L31: 44.250485 | M31: =L31-K31 -> 44.250485 | O31: 0 | P31: =O31-N31 -> 0 | R31: 0 | S31: =R31-Q31 -> 0 | U31: 1.1210709 | V31: =U31-T31 -> 1.1210709 | W31: =T31+Q31+N31+K31+H31 -> 0 | X31: =U31+R31+O31+L31+I31 -> 77.714143 | Y31: =X31-W31 -> 77.714143 | Z31: =IFERROR(W31/E31,0) -> 0 | AA31: =IFERROR(X31/F31,0) -> 6.7697844
A32: =A31+1 -> 28 | B32: NLC Stage-I | C32: 630 | D32: 0.3622 | E32: 11.04 | F32: 6.1271208 | G32: =F32-E32 -> -4.9128792 | H32: 8.5416667 | I32: 6.7324049 | J32: =I32-H32 -> -1.8092618 | K32: 35.7696 | L32: 19.855851 | M32: =L32-K32 -> -15.913749 | O32: 0 | P32: =O32-N32 -> 0 | R32: 0 | S32: =R32-Q32 -> 0 | U32: 0.76616024 | V32: =U32-T32 -> 0.76616024 | W32: =T32+Q32+N32+K32+H32 -> 44.311267 | X32: =U32+R32+O32+L32+I32 -> 27.354416 | Y32: =X32-W32 -> -16.956851 | Z32: =IFERROR(W32/E32,0) -> 4.0137017 | AA32: =IFERROR(X32/F32,0) -> 4.4644813
A33: =A32+1 -> 29 | B33: NLC Stage-II | C33: 840 | D33: 0.3622 | E33: 20.27 | F33: 5.1261725 | G33: =F33-E33 -> -15.143828 | H33: 16.225 | I33: 6.0176591 | J33: =I33-H33 -> -10.207341 | K33: 65.6748 | L33: 16.609036 | M33: =L33-K33 -> -49.065764 | O33: 0 | P33: =O33-N33 -> 0 | R33: 0 | S33: =R33-Q33 -> 0 | U33: 0 | V33: =U33-T33 -> 0 | W33: =T33+Q33+N33+K33+H33 -> 81.8998 | X33: =U33+R33+O33+L33+I33 -> 22.626695 | Y33: =X33-W33 -> -59.273105 | Z33: =IFERROR(W33/E33,0) -> 4.040444 | AA33: =IFERROR(X33/F33,0) -> 4.4139551
A34: =A33+1 -> 30 | B34: NPC(MAPS) | C34: 440 | D34: 0.3622 | E34: 0 | F34: 1.2612588 | G34: =F34-E34 -> 1.2612588 | H34: 0 | I34: 0 | J34: =I34-H34 -> 0 | K34: 0 | L34: 3.2832903 | M34: =L34-K34 -> 3.2832903 | O34: 0 | P34: =O34-N34 -> 0 | R34: 0 | S34: =R34-Q34 -> 0 | U34: 0.040664994 | V34: =U34-T34 -> 0.040664994 | W34: =T34+Q34+N34+K34+H34 -> 0 | X34: =U34+R34+O34+L34+I34 -> 3.3239553 | Y34: =X34-W34 -> 3.3239553 | Z34: =IFERROR(W34/E34,0) -> 0 | AA34: =IFERROR(X34/F34,0) -> 2.635427
A35: =A34+1 -> 31 | B35: NPC(KAIGA unit I,II,III,IV) | C35: 880 | D35: 0.3622 | E35: 13.41 | F35: 16.386743 | G35: =F35-E35 -> 2.9767429 | H35: 0 | I35: 0 | J35: =I35-H35 -> 0 | K35: 47.3373 | L35: 56.40799 | M35: =L35-K35 -> 9.0706899 | O35: 0 | P35: =O35-N35 -> 0 | R35: 0 | S35: =R35-Q35 -> 0 | U35: 0 | V35: =U35-T35 -> 0 | W35: =T35+Q35+N35+K35+H35 -> 47.3373 | X35: =U35+R35+O35+L35+I35 -> 56.40799 | Y35: =X35-W35 -> 9.0706899 | Z35: =IFERROR(W35/E35,0) -> 3.53 | AA35: =IFERROR(X35/F35,0) -> 3.4422942
A36: =A35+1 -> 32 | B36: NTPL(NLC TamilNadu) | C36: 1000 | D36: 0.3622 | E36: 0 | F36: 17.701466 | G36: =F36-E36 -> 17.701466 | H36: 0 | I36: 55.45915 | J36: =I36-H36 -> 55.45915 | K36: 0 | L36: 72.165977 | M36: =L36-K36 -> 72.165977 | O36: 0 | P36: =O36-N36 -> 0 | R36: 0 | S36: =R36-Q36 -> 0 | U36: 1.7479261 | V36: =U36-T36 -> 1.7479261 | W36: =T36+Q36+N36+K36+H36 -> 0 | X36: =U36+R36+O36+L36+I36 -> 129.37305 | Y36: =X36-W36 -> 129.37305 | Z36: =IFERROR(W36/E36,0) -> 0 | AA36: =IFERROR(X36/F36,0) -> 7.3086067
A37: =A36+1 -> 33 | B37: NLC NNTPS | C37: 1000 | D37: 0.3622 | E37: 0 | F37: 8.5724204 | G37: =F37-E37 -> 8.5724204 | H37: 0 | I37: 21.489036 | J37: =I37-H37 -> 21.489036 | K37: 0 | L37: 25.649433 | M37: =L37-K37 -> 25.649433 | O37: 0 | P37: =O37-N37 -> 0 | R37: 0 | S37: =R37-Q37 -> 0 | U37: 0 | V37: =U37-T37 -> 0 | W37: =T37+Q37+N37+K37+H37 -> 0 | X37: =U37+R37+O37+L37+I37 -> 47.138469 | Y37: =X37-W37 -> 47.138469 | Z37: =IFERROR(W37/E37,0) -> 0 | AA37: =IFERROR(X37/F37,0) -> 5.4988517
A38: =A37+1 -> 34 | B38: KKNPP Unit-I | C38: 1000 | D38: 0.3622 | E38: 0 | F38: 0.14233984 | G38: =F38-E38 -> 0.14233984 | H38: 0 | I38: 0 | J38: =I38-H38 -> 0 | K38: 0 | L38: 0.64957371 | M38: =L38-K38 -> 0.64957371 | O38: 0 | P38: =O38-N38 -> 0 | R38: 0 | S38: =R38-Q38 -> 0 | U38: 0 | V38: =U38-T38 -> 0 | W38: =T38+Q38+N38+K38+H38 -> 0 | X38: =U38+R38+O38+L38+I38 -> 0.64957371 | Y38: =X38-W38 -> 0.64957371 | Z38: =IFERROR(W38/E38,0) -> 0 | AA38: =IFERROR(X38/F38,0) -> 4.5635413
A39: =A38+1 -> 35 | B39: NLC TPS- I Expn. | C39: 630 | D39: 0.3622 | E39: 0 | F39: 0.10926032 | G39: =F39-E39 -> 0.10926032 | H39: 0 | I39: 0.11598797 | J39: =I39-H39 -> 0.11598797 | K39: 0 | L39: 0.32958291 | M39: =L39-K39 -> 0.32958291 | O39: 0 | P39: =O39-N39 -> 0 | R39: 0 | S39: =R39-Q39 -> 0 | U39: 0 | V39: =U39-T39 -> 0 | W39: =T39+Q39+N39+K39+H39 -> 0 | X39: =U39+R39+O39+L39+I39 -> 0.44557088 | Y39: =X39-W39 -> 0.44557088 | Z39: =IFERROR(W39/E39,0) -> 0 | AA39: =IFERROR(X39/F39,0) -> 4.0780668
A40: =A39+1 -> 36 | B40: NLC TPS- II Expn. | C40: 840 | D40: 0.3622 | E40: 0 | F40: 0.042184819 | G40: =F40-E40 -> 0.042184819 | H40: 0 | I40: 0.12726624 | J40: =I40-H40 -> 0.12726624 | K40: 0 | L40: 0.13393783 | M40: =L40-K40 -> 0.13393783 | O40: 0 | P40: =O40-N40 -> 0 | R40: 0 | S40: =R40-Q40 -> 0 | U40: 0 | V40: =U40-T40 -> 0 | W40: =T40+Q40+N40+K40+H40 -> 0 | X40: =U40+R40+O40+L40+I40 -> 0.26120408 | Y40: =X40-W40 -> 0.26120408 | Z40: =IFERROR(W40/E40,0) -> 0 | AA40: =IFERROR(X40/F40,0) -> 6.1918975
...

Sheet 07-25
A1: FPPCA FORMAT for the month of JULY, 2025 FY 25-26 (APEPDCL)
A2: S.No. | B2: Generating station/ Stage/Source | C2: Plant capacity (MW) | D2: Discom's share (%) | E2: Energy (MU) | H2: Cost Components (Rs.Millions) | Z2: 10
H3: Fixed (A) | K3: Variable (B) | N3: Incentive (C) | Q3: Income Tax (D) | T3: Others (E) | W3: Total F=(A+B+C+D+E)
E4: TO (a) | F4: Actual (b) | G4: Variance (c)= (b-a) | H4: TO (d) | I4: Actual (e) | J4: Variance (f)= (e-d) | K4: TO (g) | L4: Actual (h) | M4: Variance (i)= (h-g) | N4: TO (j) | O4: Actual (k) | P4: Variance (l)= (k-j) | Q4: TO (m) | R4: Actual (n) | S4: Variance (o)= (n-m) | T4: TO (p) | U4: Actual (q) | V4: Variance (r)= (q-p) | W4: TO (s) | X4: Actual (t) | Y4: Variance (u)= (t-s) | Z4: Avg as per Tariff Order | AA4: Actual
A5: 1 | B5: Dr. NTTPS | C5: 1260 | D5: 0.3622 | E5: 160.48 | F5: 183.82858 | G5: =F5-E5 -> 23.348585 | H5: 239.375 | I5: 185.60093 | J5: =I5-H5 -> -53.774068 | K5: 678.8304 | L5: 781.87715 | M5: =L5-K5 -> 103.04675 | O5: 0 | P5: =O5-N5 -> 0 | R5: 0 | S5: =R5-Q5 -> 0 | U5: 0 | V5: =U5-T5 -> 0 | W5: =T5+Q5+N5+K5+H5 -> 918.2054 | X5: =U5+R5+O5+L5+I5 -> 967.47809 | Y5: =X5-W5 -> 49.272687 | Z5: =IFERROR(W5/E5,0) -> 5.7216189 | AA5: =IFERROR(X5/F5,0) -> 5.2629361
A6: =A5+1 -> 2 | B6: Dr. NTTPS-IV | C6: 500 | D6: 0.3622 | E6: 99.58 | F6: 15.665236 | G6: =F6-E6 -> -83.914764 | H6: 86.4 | I6: 19.17919 | J6: =I6-H6 -> -67.22081 | K6: 392.3452 | L6: 62.643493 | M6: =L6-K6 -> -329.70171 | O6: 0 | P6: =O6-N6 -> 0 | R6: 0 | S6: =R6-Q6 -> 0 | U6: 0 | V6: =U6-T6 -> 0 | W6: =T6+Q6+N6+K6+H6 -> 478.7452 | X6: =U6+R6+O6+L6+I6 -> 81.822682 | Y6: =X6-W6 -> -396.92252 | Z6: =IFERROR(W6/E6,0) -> 4.8076441 | AA6: =IFERROR(X6/F6,0) -> 5.2232014
A7: =A6+1 -> 3 | B7: Dr. NTTPS-V | C7: 800 | D7: 0.3622 | E7: 171.2 | F7: 115.45328 | G7: =F7-E7 -> -55.74672 | H7: 324.79167 | I7: 253.17626 | J7: =I7-H7 -> -71.615411 | K7: 571.808 | L7: 367.37401 | M7: =L7-K7 -> -204.43399 | O7: 0 | P7: =O7-N7 -> 0 | R7: 0 | S7: =R7-Q7 -> 0 | U7: 0 | V7: =U7-T7 -> 0 | W7: =T7+Q7+N7+K7+H7 -> 896.59967 | X7: =U7+R7+O7+L7+I7 -> 620.55027 | Y7: =X7-W7 -> -276.0494 | Z7: =IFERROR(W7/E7,0) -> 5.2371476 | AA7: =IFERROR(X7/F7,0) -> 5.3749037
A8: =A7+1 -> 4 | B8: Dr.M.V.R.RTPP Stage-I | C8: 420 | D8: 0.3622 | E8: 28.54 | F8: 63.04469 | G8: =F8-E8 -> 34.50469 | H8: 79.408333 | I8: 85.456892 | J8: =I8-H8 -> 6.0485592 | K8: 125.576 | L8: 299.23959 | M8: =L8-K8 -> 173.66359 | O8: 0 | P8: =O8-N8 -> 0 | R8: 0 | S8: =R8-Q8 -> 0 | U8: 0 | V8: =U8-T8 -> 0 | W8: =T8+Q8+N8+K8+H8 -> 204.98433 | X8: =U8+R8+O8+L8+I8 -> 384.69648 | Y8: =X8-W8 -> 179.71215 | Z8: =IFERROR(W8/E8,0) -> 7.1823523 | AA8: =IFERROR(X8/F8,0) -> 6.1019648
