Workbook
Name arr: '1|ARR'!$L$24
Name distcost: '1.3|Dist Cost'!$C$4
Name index: Index!$F$17
Name notes: Notes!$D$52
Name OLE_LINK3: '1.1|Trans Cost'!$C$2

Sheet Index
C2: Company Name | D2: APEPDCL
C3: Filing Date (dd/mm/yy) | D3: 30/11/2023
C4: Multi Year Tariff Period | D4: FY2025-29 | F4: FY2024-25
C5: Year | D5: FY2024-25
C6: Commission' s Regulations | D6: Reg-4/2005
C7: Business type | D7: Retail Supply of Electricity
B9: S. No. | C9: Title | D9: Form No.
B12: 1 | C12: Aggregate Revenue Requirement for Retail Supply Business | D12: Form 1
B13: 2 | C13: Transmission Cost | D13: Form 1.1
B14: 3 | C14: SLDC Charges | D14: Form 1.2
B15: 4 | C15: Distribution Cost | D15: Form 1.3
B16: 5 | C16: Power Purchase and Procurement Cost (For Regulated Business) | D16: Form 1.4
B17: 6 | C17: NCE Generation (Base Year) | D17: Form 1.4 (i)
B18: 7 | C18: NCE Generation (Year 1) | D18: Form 1.4(ii)
B19: 8 | C19: NCE Generation (Year 2) | D19: Form 1.4(iii)
B20: 9 | C20: NCE Generation (Year 3) | D20: Form 1.4(iv)
B21: 10 | C21: NCE Generation (Year 4) | D21: Form 1.4(v)
B22: 11 | C22: NCE Generation (Year 5) | D22: Form 1.4(vi)
B23: 12 | C23: Power Purchase and Procurement Cost (For Non-regulated Business) | D23: Form 1.4a
... B49: 38 | C49: Cost and Revenue | D49: Form 13
A75: Company
A76: APEPDCL | D76: Multi Year Tariff Period
A77: APSPDCL | D77: FY2007-09 | E77: FY2006-07
A78: APCPDCL | D78: FY2010-14 | E78: FY2007-08
A79: APNPDCL | E79: FY2008-09
E80: FY2009-10
E81: FY2010-11
E82: FY2011-12
E83: FY2012-13
E84: FY2013-14
D85: FY 2015-19 | E85: FY2014-15
E86: FY2015-16
E87: FY2016-17
E88: FY2017-18
E89: FY2018-19
D90: FY2020-24 | E90: FY2019-20
E91: FY2020-21
E92: FY2021-22
E93: FY2022-23
E94: FY2023-24
...

Sheet Notes
B3: Notes:
B5: 1) | C5: Base Year | D5: Base Year for the 5th control period FY2025-29 is FY2023-24
B6: 1) | C6: FY 2024-25 | D6: Year 1 is the First Year of the control Period, FY2024-25
C7: FY 2025-26 | D7: Year 2 is the Second Year of the control Period, FY2025-26
C8: FY 2026-27 | D8: Year 3 is the Third Year of the control Period, FY2026-27
C9: FY 2027-28 | D9: Year 4 is the Fourth Year of the control Period, FY2027--28
C10: FY 2028-29 | D10: Year 5 is the Fifth year of the control Period, FY2028-29
B12: 2) | C12: Filings 2024-25, Licensees shall provide
D13: Full projections for FY2024-25
D14: Estimates for FY2023-24
B18: 3) | C18: Regulated Business: The retail supply of electricity to (i) consumers within the area of supply of the licensee and not eligible to avail Open Access as per Commission’s Regulations (ii) consumers within the area of supply of the licensee and eligible to avail Open Access but not exercising their option of availing open access.
C19: Non-regulated Business: The retail supply of electricity to consumers availing supply under open access from the licensee either forming the part of area of supply of the licensee or outside the area of supply of the licensee.
B21: 4) | C21: Direct Non-Tariff Income: Non-Tariff income which is directly identifiable with a consumer category.
C22: Apportioned Non-Tariff Income: Non-Tariff income which is not directly identifiable with a consumer category. It shall be appropriately apportioned across various consumer categories.
B24: 5) | C24: New Categories
C25: The Licensees shall add the proposed categories in Form A, the new categories would be then updated automatically in other forms
C26: The new categories are segregated voltage-wise in Form A
B28: 6) | C28: Modification/addition of Slabs/sub categories for LT consumers should be carried out in Form 7 for Current Tariff and Form 12 for Proposed Tariff.See notes in the relevant form for details
B32: 7) | C32: Phasing of Open Access as per Regulation 2 of 2005 of APERC
C34: Eligibility Criteria for Open Access
D36: Phase | E36: Eligibility criteria | F36: Commencement date
D37: 1 | E37: Consumers availing of power from NCE developers irrespective of the quantum of contracted capacity | F37: September, 2005
D38: 2 | E38: Contracted capcity being greater than 5 MW | F38: September, 2005
D39: 3 | E39: Contracted capacity being greater than 2 MW | F39: September, 2006
D40: 4 | E40: Contracted capacity being greater than 1 MW | F40: April, 2008
B42: 8) | C42: Terminology for Open Access Status
D43: 1 | E43: Load not eligible for Open Access | F43: Load within the area of supply of the licensees not satisfying the eligibility criteria to avail open access as per Commission's Regulation during the time period under consideration.
D44: 2 | E44: Load Eligible for Open Access | F44: Load within the area of supply of the licensees and satisfying the eligibility criteria to avail open access as per Commission's Regulation during the period under consideration whether availing power through Open Access or not.
D45: 3 | E45: Availed (within area of supply) | F45: Load within the area of supply of the Licensee and availing power through Open Access whether from the same Licensee or any other supplier.
D46: 4 | E46: Availed ( Outside Area of supply) | F46: Load outside the area of supply of the Licensee but availing power through Open Access from the Licensee under consideration.

Sheet 1|ARR
A1: Index sheet
C3: Form 1 | D3: Aggregate Revenue Requirement for Retail Supply Business
K5: Amount( In Rs crores)
C6: Revenue Requirement Item (Rs. Crs.) | E6: Details link | H6: Control Period
F7: FY 2022-23 Act | G7: =Notes!$C$5 -> Base Year | H7: =Notes!$C$6 -> FY 2024-25 | I7: =Notes!$C$7 -> FY 2025-26 | J7: =Notes!$C$8 -> FY 2026-27 | K7: =Notes!$C$9 -> FY 2027-28 | L7: =Notes!$C$10 -> FY 2028-29
B9: 10011 | C9: 1 | D9: Transmission Cost | E9: Form 1.1 | F9: 893.349 | G9: ='1.1|Trans Cost'!O38 -> 1163.9623 | H9: =G9*15%+G9 -> 1338.5567
B10: 10012 | C10: 2 | D10: SLDC Cost | E10: Form 1.2 | F10: 13.9951 | G10: ='1.2|SLDC'!J20+'1.2|SLDC'!J22+'1.2|SLDC'!J25 -> 27.527827 | H10: =G10*15%+G10 -> 31.657001
B11: 10013 | C11: 3 | D11: Distribution Cost | E11: Form 1.3 | F11: =1661.9-F20 -> 1254.0279 | G11: ='1.3|Dist Cost'!L59 -> 3351.6604 | H11: 2862.7663
B12: 10020 | C12: 4 | D12: PGCIL Expenses | F12: 469.3259 | G12: 543.3 | H12: =G12*1.15 -> 624.795
B13: 10021 | C13: 5 | D13: ULDC Charges | F13: 16.7176 | G13: 1.15 | H13: =G13*1.15 -> 1.3225
B15: 10014 | C15: 6 | D15: Network and SLDC Cost (1+2+3+4+5) | F15: =SUM(F9:F13) -> 2647.4155 | G15: =SUM(G9:G13) -> 5087.6006 | H15: =SUM(H9:H13) -> 4859.0975
B16: 10015 | C16: 7 | D16: Power Purchase / Procurement Cost | E16: Form 1.4 | F16: ='1.4| PP Cost-Reg'!P226 -> 14903.29 | G16: ='1.4| PP Cost-Reg'!P295 -> 15707.04 | H16: ='1.4| PP Cost-Reg'!P360 -> 15464.216
B17: 10016 | C17: 8 | D17: Interest on Consumer Security Deposits | E17: Form 1.5 | F17: ='1.5|Int CSD'!F14 -> 128.82511 | G17: ='1.5|Int CSD'!G14 -> 175.55109 | H17: ='1.5|Int CSD'!H14 -> 195.34359
B18: 10017 | C18: 9 | D18: Supply Margin in Retail Supply Business | E18: Form 1.6 | F18: ='1.6|Supply Margin'!F8 -> 13.35 | G18: ='1.6|Supply Margin'!G8 -> 26.48 | H18: ='1.6|Supply Margin'!H8 -> 19.24
B19: 10018 | C19: 10 | D19: Other Costs, if any | E19: Form 1.7 | F19: ='1.7|Other Costs'!F16 -> 48.6748 | G19: ='1.7|Other Costs'!G16 -> 40.65 | H19: ='1.7|Other Costs'!H16 -> 90.24
C20: 11 | D20: Additional Interest on pension bonds | F20: 407.8721 | G20: 481.2709 | H20: 533.72602
B22: 10019 | C22: 12 | D22: Supply Cost (7+8+9+10+11) | F22: =SUM(F16:F21) -> 15502.012 | G22: =SUM(G16:G21) -> 16430.992 | H22: =SUM(H16:H21) -> 16302.766
B24: 10003 | C24: 13 | D24: Aggregate Revenue Requirement (6+12) | F24: =F15+F22 -> 18149.428 | G24: =G15+G22 -> 21518.592 | H24: =H15+H22 -> 21161.864
C26: Note:
C27: 1 | D27: The Revenue Requirement Items are cost borne for supply of power to consumers within the area of supply of the Licensees and not availing supply under Open Access.
C28: 2 | D28: Transmission Cost refers to the transmission cost borne by the licensee to serve the consumers within the area of the supply and not availing supply under Open Access
C29: 3 | D29: SLDC cost refers to the SLDC Charges paid to serve the consumers within the area of the supply and not availing supply under Open Access
C30: 4 | D30: Distribution Cost refers to the distribution cost borne by the licensee to serve the consumers within the area of the supply and not availing supply under Open Access
C31: 5 | D31: PGCIL and ULDC Expenses to be submitted in this form.

Sheet 1.1|Trans Cost
A1: Index sheet
C3: Form 1.1 | D3: Transmission Cost
C5: Transmission Cost to be segregated between Load not eligible for Open Access, Load eligible for Open Access, Load within the area of supply and availing power under Open Access as per Section 42 and 49 of E ACT.(Refer to Notes for the relevant definitions.)
C6: 1) Loads Eligible for Open Access is as per Section 8.1 of Regulation 2 of 2005 of APERC See Notes Sheet for Phasing of Open Access in the state of Andhra Pradesh. 2) Provide PGCIL and ULDC charges directly in Form 1.
C7: FY 2022-23
C8: (A) Long Term and Firm Contracts
C10: Name of Transmission service provider | D10: Load not eligible for Open Access | G10: Open Access | P10: Remarks
G11: Load Eligible for Open Access | J11: Availed (within area of supply) | M11: Availed ( Outside Area of supply)
D12: MW | E12: Tariff (Rs./kW/ month) | F12: Cost (Rs. Crs.) | G12: MW | H12: Tariff (Rs./kW/ month) | I12: Cost (Rs. Crs.) | J12: MW | K12: Tariff (Rs./kW/ month) | L12: Cost (Rs. Crs.) | M12: MW | N12: Tariff (Rs./kW/ month) | O12: Cost (Rs. Crs.)
B13: 1005 | C13: APTRANSCO | D13: =4755-G13 -> 3866.399 | E13: 173.79 | F13: =D13*1000*E13*12/10^7 -> 806.32978 | G13: 888.601 | H13: 173.79 | I13: =G13*1000*H13*12/10^7 -> 185.31596 | O13: =F13+I13 -> 991.64574 | Z13: Long Term
C14: APTRANSCO Diff Transmission Charges(11.06.2017 to 31.01.2018) | Z14: Long Term
C15: Differential Transmission Charges | O15: -98.29674 | Z15: Long Term
Z16: Long Term
C17: Total | D17: =SUM(D13:D16) -> 3866.399 | F17: =SUM(F13:F16) -> 806.32978 | G17: =SUM(G13:G16) -> 888.601 | I17: =SUM(I13:I16) -> 185.31596 | J17: =SUM(J13:J16) -> 0 | L17: =SUM(L13:L16) -> 0 | M17: =SUM(M13:M16) -> 0 | O17: =SUM(O13:O16) -> 893.349
C18: (B) Short Term and Temporary Contracts
C19: Name of Transmission service provider | D19: Load not eligible for Open Access | G19: Open Access | P19: Remarks
G20: Load Eligible for Open Access | J20: Availed (within area of supply) | M20: Availed ( Outside Area of supply)
D21: MW | E21: Tariff (Rs./kW/ month) | F21: Cost (Rs. Crs.) | G21: MW | H21: Tariff (Rs./kW/ month) | I21: Cost (Rs. Crs.) | J21: MW | K21: Tariff (Rs./kW/ month) | L21: Cost (Rs. Crs.) | M21: MW | N21: Tariff (Rs./kW/ month) | O21: Cost (Rs. Crs.)
B22: 1005 | C22: APTRANSCO | Z22: Short Term
Z23: Short Term
C24: Total | D24: =SUM(D22:D23) -> 0 | F24: =SUM(F22:F23) -> 0 | G24: =SUM(G22:G23) -> 0 | I24: =SUM(I22:I23) -> 0 | J24: =SUM(J22:J23) -> 0 | L24: =SUM(L22:L23) -> 0 | M24: =SUM(M22:M23) -> 0 | O24: =SUM(O22:O23) -> 0
C26: Total Long term + Short term Contracts ((A) + (B)) | D26: =SUM(D17,D24) -> 3866.399 | F26: =SUM(F17,F24) -> 806.32978 | G26: =SUM(G17,G24) -> 888.601 | I26: =SUM(I17,I24) -> 185.31596 | J26: =SUM(J17,J24) -> 0 | L26: =SUM(L17,L24) -> 0 | M26: =SUM(M17,M24) -> 0 | O26: =SUM(O17,O24) -> 893.349
C28: =Notes!$C$5 -> Base Year
C29: (A) Long Term and Firm Contracts
C31: Name of Transmission service provider | D31: Load not eligible for Open Access | G31: Open Access | P31: Remarks
G32: Load Eligible for Open Access | J32: Availed (within area of supply) | M32: Availed ( Outside Area of supply)
D33: MW | E33: Tariff (Rs./kW/ month) | F33: Cost (Rs. Crs.) | G33: MW | H33: Tariff (Rs./kW/ month) | I33: Cost (Rs. Crs.) | J33: MW | K33: Tariff (Rs./kW/ month) | L33: Cost (Rs. Crs.) | M33: MW | N33: Tariff (Rs./kW/ month) | O33: Cost (Rs. Crs.)
B34: 1005 | C34: APTRANSCO | D34: =5149-G34 -> 4171.5389 | E34: 188.38 | F34: =D34*1000*E34*12/10^7 -> 943.0014 | G34: =G13*1.1 -> 977.4611 | H34: =E34 -> 188.38 | I34: =G34*1000*H34*12/10^7 -> 220.96095 | O34: =F34+I34 -> 1163.9623 | Z34: Long Term
Z35: Long Term
Z36: Long Term
Z37: Long Term
C38: Total | D38: =SUM(D34:D37) -> 4171.5389 | E38: =E34 -> 188.38 | F38: =SUM(F34:F37) -> 943.0014 | G38: =SUM(G34:G37) -> 977.4611 | H38: =H34 -> 188.38 | I38: =SUM(I34:I37) -> 220.96095 | J38: =SUM(J34:J37) -> 0 | L38: =SUM(L34:L37) -> 0 | M38: =SUM(M34:M37) -> 0 | O38: =SUM(O34:O37) -> 1163.9623
C39: (B) Short Term and Temporary Contracts
C40: Name of Transmission service provider | D40: Load not eligible for Open Access | G40: Open Access | P40: Remarks
G41: Load Eligible for Open Access | J41: Availed (within area of supply) | M41: Availed ( Outside Area of supply)
D42: MW | E42: Tariff (Rs./kW/ month) | F42: Cost (Rs. Crs.) | G42: MW | H42: Tariff (Rs./kW/ month) | I42: Cost (Rs. Crs.) | J42: MW | K42: Tariff (Rs./kW/ month) | L42: Cost (Rs. Crs.) | M42: MW | N42: Tariff (Rs./kW/ month) | O42: Cost (Rs. Crs.)
B43: 1005 | C43: APTRANSCO | Z43: Short Term
Z44: Short Term
Z45: Short Term
Z46: Short Term
...

Sheet 1.2|SLDC
A1: Index sheet
C3: Form 1.2 | D3: SLDC Charges
C5: SLDC Charges to be segregated between Load not eligible for Open Access, Load eligible for Open Access, Load within the area of supply and availing power under Open Access as per Section 42 and 49 of E ACT.(Refer to Notes for the relevant definitions.)
C6: Loads Eligible for Open Access is as per Section 8.1 of Regulation 2 of 2005 of APERC See Notes Sheet for Phasing of Open Access in the state of Andhra Pradesh.
C8: FY 2022-23
D9: Annual Fee | G9: Charges | J9: Total Cost (Rs. Crs.) | K9: Remarks
D10: MW | E10: Tariff (Rs./MW/year) | F10: Cost (Rs. Crs.) | G10: MW | H10: Tariff (Rs./MW/ month) | I10: Cost (Rs. Crs.) | J10: Total Cost (Rs. Crs.)
B11: 1001 | C11: Load not eligible for Open Access | D11: =4562-D13 -> 3673.399 | E11: 4997.87 | F11: =D11*E11/10^7 -> 1.8359171 | G11: =+D11 -> 3673.399 | H11: 2150.21 | I11: =G11*H11*12/10^7 -> 9.4782951 | J11: =SUM(F11,I11) -> 11.314212
C12: Open Access
B13: 1002 | C13: Load Eligible for Open Access | D13: ='1.1|Trans Cost'!G13 -> 888.601 | E13: =+E11 -> 4997.87 | F13: =D13*E13/10^7 -> 0.44411123 | G13: =+D13 -> 888.601 | H13: =+H11 -> 2150.21 | I13: =G13*H13*12/10^7 -> 2.2928145 | J13: =SUM(F13,I13) -> 2.7369257 | L13: =J11+J13 -> 14.051138
B14: 1003 | C14: Availed (within area of supply) | F14: =D14*E14/10^7 -> 0 | I14: =G14*H14*12/10^7 -> 0 | J14: =SUM(F14,I14) -> 0 | L14: =J11+J13 -> 14.051138
B15: 1004 | C15: Availed ( Outside Area of supply) | F15: =D15*E15/10^7 -> 0 | J15: =SUM(F15,I15) -> 0
C16: SLDC charges adjusted
C17: =Notes!$C$5 -> Base Year
D18: Annual Fee | G18: Charges | J18: Total Cost (Rs. Crs.) | K18: Remarks
D19: MW | E19: Tariff (Rs./MW/year) | F19: Cost (Rs. Crs.) | G19: MW | H19: Tariff (Rs./MW/ month) | I19: Cost (Rs. Crs.) | J19: Total Cost (Rs. Crs.)
B20: 1001 | C20: Load not eligible for Open Access | D20: =8289-D22 -> 7311.5389 | E20: 6382.27 | F20: =D20*E20/10^7 -> 4.6664215 | G20: =+D20 -> 7311.5389 | H20: 2235.65 | I20: =G20*H20*12/10^7 -> 19.61525 | J20: =SUM(F20,I20) -> 24.281672
C21: Open Access
B22: 1002 | C22: Load Eligible for Open Access | D22: ='1.1|Trans Cost'!G34 -> 977.4611 | E22: =+E20 -> 6382.27 | F22: =D22*E22/10^7 -> 0.62384207 | G22: =+D22 -> 977.4611 | H22: =+H20 -> 2235.65 | I22: =G22*H22*12/10^7 -> 2.6223131 | J22: =SUM(F22,I22) -> 3.2461552
B23: 1003 | C23: Availed (within area of supply) | F23: =D23*E23/10^7 -> 0 | I23: =G23*H23*12/10^7 -> 0 | J23: =SUM(F23,I23) -> 0
B24: 1004 | C24: Availed ( Outside Area of supply) | F24: =D24*E24/10^7 -> 0 | J24: =SUM(F24,I24) -> 0
J25: =SUM(F25,I25) -> 0
A29: Year 1 | C29: =Notes!$C$6 -> FY 2024-25
D30: Annual Fee | G30: Charges | J30: Total Cost (Rs. Crs.) | K30: Remarks
D31: MW | E31: Tariff (Rs./MW/year) | F31: Cost (Rs. Crs.) | G31: MW | H31: Tariff (Rs./MW/ month) | I31: Cost (Rs. Crs.) | J31: Total Cost (Rs. Crs.)
B32: 1001 | C32: Load not eligible for Open Access | D32: =8289-D34 -> 7309 | E32: =E20*1.15 -> 7339.6105 | F32: =D32*E32/10^7 -> 5.3645213 | G32: =+D32 -> 7309 | H32: =H20*1.15 -> 2570.9975 | I32: =G32*H32*12/10^7 -> 22.549705 | J32: =SUM(F32,I32) -> 27.914226
C33: Open Access
B34: 1002 | C34: Load Eligible for Open Access | D34: ='1.1|Trans Cost'!G63 -> 980 | E34: =E32 -> 7339.6105 | F34: =D34*E34/10^7 -> 0.71928183 | G34: =+D34 -> 980 | H34: =H32 -> 2570.9975 | I34: =G34*H34*12/10^7 -> 3.0234931 | J34: =SUM(F34,I34) -> 3.7427749
B35: 1003 | C35: Availed (within area of supply) | F35: =D35*E35/10^7 -> 0 | I35: =G35*H35*12/10^7 -> 0 | J35: =SUM(F35,I35) -> 0
B36: 1004 | C36: Availed ( Outside Area of supply) | F36: =D36*E36/10^7 -> 0 | I36: =G36*H36*12/10^7 -> 0 | J36: =SUM(F36,I36) -> 0

Sheet 1.3|Dist Cost
A1: Index sheet
C3: Form 1.3 | D3: Distribution Cost
C5: Distribution Cost to be segregated between Load not eligible for Open Access, Load eligible for Open Access, Load within the area of supply and availing power under Open Access as per Section 42 and 49 of E ACT.(Refer to Notes for the relevant definitions.)
C6: Loads Eligible for Open Access is as per Section 8.1 of Regulation 2 of 2005 of APERC See Notes Sheet for Phasing of Open Access in the state of Andhra Pradesh.
C8: FY 2022-23
C9: (A) Long Term and Firm Contracts
C11: Name of Distribution service provider | D11: Load not eligible for Open Access | G11: Open Access | P11: Remarks
G12: Load Eligible for Open Access | J12: Availed (within area of supply) | M12: Availed ( Outside Area of supply)
D13: MW | E13: Tariff (Rs./kW/month) | F13: Cost (Rs. Crs.) | G13: MW | H13: Tariff (Rs./kW/month) | I13: Cost (Rs. Crs.) | J13: MW | K13: Tariff (Rs./kW/month) | L13: Cost (Rs. Crs.) | M13: MW | N13: Tariff (Rs./kW/month) | O13: Cost (Rs. Crs.)
C14: EPDCL ( 33 KV) | D14: =924-G14 -> 158.572 | E14: 54.73 | F14: =D14*E14*12*1000/10^7 -> 10.414375 | G14: 765.428 | H14: 54.73 | I14: =G14*H14*12*1000/10^7 -> 50.270249 | L14: =F14+I14 -> 60.684624 | Z14: Long Term
C15: EPDCL ( 11 KV) | D15: =1204-G15 -> 1080.827 | E15: 427.5 | F15: =D15*E15*12*1000/10^7 -> 554.46425 | G15: 123.173 | H15: 427.5 | I15: =G15*H15*12*1000/10^7 -> 63.187749 | L15: =F15+I15 -> 617.652 | Z15: Long Term
C16: EPDCL LT | D16: 2348 | E16: 726.98 | F16: =D16*E16*12*1000/10^7 -> 2048.3388 | L16: =F16+I16 -> 2048.3388 | Z16: Long Term
C17: Total ( Non Eligible OA Cost) | Z17: Long Term
C18: Distribution cost adjusted | L18: -1063.7706 | Z18: Long Term
Z19: Long Term
Z20: Long Term
Z21: Long Term
Z22: Long Term
Z23: Long Term
C24: Total | D24: =SUM(D14:D23) -> 3587.399 | F24: =SUM(F14:F23) -> 2613.2175 | G24: =SUM(G14:G23) -> 888.601 | I24: =SUM(I14:I23) -> 113.458 | J24: =SUM(J14:J23) -> 0 | L24: =SUM(L14:L23) -> 1662.9049 | M24: =SUM(M14:M23) -> 0 | O24: =SUM(O14:O23) -> 0
C25: (B) Short Term and Temporary Contracts
C26: Name of Distribution service provider | D26: Load not eligible for Open Access | G26: Open Access | P26: Remarks
G27: Load Eligible for Open Access | J27: Availed (within area of supply) | M27: Availed ( Outside Area of supply)
D28: MW | E28: Tariff (Rs./kW/month) | F28: Cost (Rs. Crs.) | G28: MW | H28: Tariff (Rs./kW/month) | I28: Cost (Rs. Crs.) | J28: MW | K28: Tariff (Rs./kW/month) | L28: Cost (Rs. Crs.) | M28: MW | N28: Tariff (Rs./kW/month) | O28: Cost (Rs. Crs.)
Z29: Short Term
Z30: Short Term
Z31: Short Term
Z32: Short Term
Z33: Short Term
Z34: Short Term
Z35: Short Term
Z36: Short Term
Z37: Short Term
Z38: Short Term
C39: Total | D39: =SUM(D29:D38) -> 0 | F39: =SUM(F29:F38) -> 0 | G39: =SUM(G29:G38) -> 0 | I39: =SUM(I29:I38) -> 0 | J39: =SUM(J29:J38) -> 0 | L39: =SUM(L29:L38) -> 0 | M39: =SUM(M29:M38) -> 0 | O39: =SUM(O29:O38) -> 0
C41: Total Long term + Short term Contracts ((A) + (B)) | D41: =SUM(D24,D39) -> 3587.399 | F41: =SUM(F24,F39) -> 2613.2175 | G41: =SUM(G24,G39) -> 888.601 | I41: =SUM(I24,I39) -> 113.458 | J41: =SUM(J24,J39) -> 0 | L41: =SUM(L24,L39) -> 1662.9049 | M41: =SUM(M24,M39) -> 0 | O41: =SUM(O24,O39) -> 0
C42: =Notes!$C$5 -> Base Year
C44: (A) Long Term and Firm Contracts
C46: Name of Distribution service provider | D46: Load not eligible for Open Access | G46: Open Access | P46: Remarks
G47: Load Eligible for Open Access | J47: Availed (within area of supply) | M47: Availed ( Outside Area of supply)
...

Sheet 1.4| PP Cost-Reg
AM1: 1
AM2: 2
C3: Form 1.4 | D3: Power Purchase and Procurement Cost (For Regulated Business#)
C5: #Refer to Notes for the definition
C8: FY 2022-23
C9: Generating Station | D9: D Link | E9: Plant Type Must Run = 1 Others = 2 | F9: Plant Capacity | G9: DISCOM's share | H9: DISCOM's share | I9: Availability and Dispatch (MU) | K9: Cost (Rs. Crs.) | Q9: Unit Cost (Rs. / kWh) | W9: Remarks
F10: (MW) | G10: (%) | H10: (MW) | I10: Net Availability | J10: Dispatch | K10: Fixed | L10: Variable | M10: Incentive | N10: Inc. Tax | O10: Others | P10: Total | Q10: Fixed | R10: Incentives | S10: Income Tax | T10: Others | U10: Variable | V10: Total
C11: APGENCO
C12: Thermal
C13: VTPS I | I13: 960.83933 | J13: 832.493 | K13: 76.590957 | L13: 327.02061 | P13: =SUM(K13:O13) -> 403.61157 | Q13: =IF(J13=0,0,K13/J13*10) -> 0.92001923 | R13: =IF(J13=0,0,M13/J13*10) -> 0 | S13: =IF(J13=0,0,N13/J13*10) -> 0 | T13: =IF(J13=0,0,O13/J13*10) -> 0 | U13: =IF(J13=0,0,L13/J13*10) -> 3.9282085 | V13: =IF(J13=0,0,P13/J13*10) -> 4.8482277
A14: 10001 | C14: VTPS II | I14: 960.83933 | J14: 832.493 | K14: 76.590957 | L14: 327.02061 | P14: =SUM(K14:O14) -> 403.61157 | Q14: =IF(J14=0,0,K14/J14*10) -> 0.92001923 | R14: =IF(J14=0,0,M14/J14*10) -> 0 | S14: =IF(J14=0,0,N14/J14*10) -> 0 | T14: =IF(J14=0,0,O14/J14*10) -> 0 | U14: =IF(J14=0,0,L14/J14*10) -> 3.9282085 | V14: =IF(J14=0,0,P14/J14*10) -> 4.8482277
A15: 10002 | C15: VTPS III | I15: 960.83933 | J15: 832.493 | K15: 76.590957 | L15: 327.02061 | P15: =SUM(K15:O15) -> 403.61157 | Q15: =IF(J15=0,0,K15/J15*10) -> 0.92001923 | R15: =IF(J15=0,0,M15/J15*10) -> 0 | S15: =IF(J15=0,0,N15/J15*10) -> 0 | T15: =IF(J15=0,0,O15/J15*10) -> 0 | U15: =IF(J15=0,0,L15/J15*10) -> 3.9282085 | V15: =IF(J15=0,0,P15/J15*10) -> 4.8482277
A16: 10003 | C16: VTPS IV | I16: 1139.1987 | J16: 1169.8403 | K16: 103.82825 | L16: 420.86064 | P16: =SUM(K16:O16) -> 524.68889 | Q16: =IF(J16=0,0,K16/J16*10) -> 0.88754213 | R16: =IF(J16=0,0,M16/J16*10) -> 0 | S16: =IF(J16=0,0,N16/J16*10) -> 0 | T16: =IF(J16=0,0,O16/J16*10) -> 0 | U16: =IF(J16=0,0,L16/J16*10) -> 3.5975906 | V16: =IF(J16=0,0,P16/J16*10) -> 4.4851328
A17: 10012 | C17: RTPP I | I17: 703.60248 | J17: 685.26512 | K17: 74.181432 | L17: 293.81333 | P17: =SUM(K17:O17) -> 367.99476 | Q17: =IF(J17=0,0,K17/J17*10) -> 1.0825216 | R17: =IF(J17=0,0,M17/J17*10) -> 0 | S17: =IF(J17=0,0,N17/J17*10) -> 0 | T17: =IF(J17=0,0,O17/J17*10) -> 0 | U17: =IF(J17=0,0,L17/J17*10) -> 4.2875862 | V17: =IF(J17=0,0,P17/J17*10) -> 5.3701078
A18: 10004 | C18: RTPP Stage-II | I18: 842.24901 | J18: 898.77764 | K18: 95.58458 | L18: 386.80784 | P18: =SUM(K18:O18) -> 482.39242 | Q18: =IF(J18=0,0,K18/J18*10) -> 1.0634953 | R18: =IF(J18=0,0,M18/J18*10) -> 0 | S18: =IF(J18=0,0,N18/J18*10) -> 0 | T18: =IF(J18=0,0,O18/J18*10) -> 0 | U18: =IF(J18=0,0,L18/J18*10) -> 4.3037101 | V18: =IF(J18=0,0,P18/J18*10) -> 5.3672054
A19: 10011 | C19: RTPP Stage-III | I19: 431.20634 | J19: 440.87871 | K19: 61.769588 | L19: 190.07596 | P19: =SUM(K19:O19) -> 251.84555 | Q19: =IF(J19=0,0,K19/J19*10) -> 1.4010563 | R19: =IF(J19=0,0,M19/J19*10) -> 0 | S19: =IF(J19=0,0,N19/J19*10) -> 0 | T19: =IF(J19=0,0,O19/J19*10) -> 0 | U19: =IF(J19=0,0,L19/J19*10) -> 4.3112982 | V19: =IF(J19=0,0,P19/J19*10) -> 5.7123545
A20: 10013 | C20: RTPP IV | J20: 1038.853 | K20: 194.96512 | L20: 419.92463 | P20: =SUM(K20:O20) -> 614.88975 | Q20: =IF(J20=0,0,K20/J20*10) -> 1.8767344 | R20: =IF(J20=0,0,M20/J20*10) -> 0 | S20: =IF(J20=0,0,N20/J20*10) -> 0 | T20: =IF(J20=0,0,O20/J20*10) -> 0 | U20: =IF(J20=0,0,L20/J20*10) -> 4.042195 | V20: =IF(J20=0,0,P20/J20*10) -> 5.9189294
A21: 10005 | C21: Damodaram Sanjeevaiah Thermal power plant - I | J21: 1046.9185 | K21: 264.68364 | L21: 338.49582 | P21: =SUM(K21:O21) -> 603.17946 | Q21: =IF(J21=0,0,K21/J21*10) -> 2.5282164 | R21: =IF(J21=0,0,M21/J21*10) -> 0 | S21: =IF(J21=0,0,N21/J21*10) -> 0 | T21: =IF(J21=0,0,O21/J21*10) -> 0 | U21: =IF(J21=0,0,L21/J21*10) -> 3.2332587 | V21: =IF(J21=0,0,P21/J21*10) -> 5.7614751
C22: Damodaram Sanjeevaiah Thermal power plant - II | I22: 1951.5771 | J22: 926.37178 | K22: 264.68364 | L22: 299.59254 | P22: =SUM(K22:O22) -> 564.27619 | Q22: =IF(J22=0,0,K22/J22*10) -> 2.8572076 | R22: =IF(J22=0,0,M22/J22*10) -> 0 | S22: =IF(J22=0,0,N22/J22*10) -> 0 | T22: =IF(J22=0,0,O22/J22*10) -> 0 | U22: =IF(J22=0,0,L22/J22*10) -> 3.2340422 | V22: =IF(J22=0,0,P22/J22*10) -> 6.0912498
C23: Damodaram Sanjeevaiah Thermal power Stage - II, Unit-3 | I23: 0 | J23: 42.431361 | K23: 6.0669721 | L23: 13.323447 | P23: =SUM(K23:O23) -> 19.390419 | Q23: =IF(J23=0,0,K23/J23*10) -> 1.4298321 | R23: =IF(J23=0,0,M23/J23*10) -> 0 | S23: =IF(J23=0,0,N23/J23*10) -> 0 | T23: =IF(J23=0,0,O23/J23*10) -> 0 | U23: =IF(J23=0,0,L23/J23*10) -> 3.14 | V23: =IF(J23=0,0,P23/J23*10) -> 4.5698321
C24: RTPP Stage-IV (Differential cost ) | I24: 1212.182 | J24: 0 | K24: -131.54647 | L24: 85.483949 | P24: =SUM(K24:O24) -> -46.062521 | Q24: =IF(J24=0,0,K24/J24*10) -> 0 | R24: =IF(J24=0,0,M24/J24*10) -> 0 | S24: =IF(J24=0,0,N24/J24*10) -> 0 | T24: =IF(J24=0,0,O24/J24*10) -> 0 | U24: =IF(J24=0,0,L24/J24*10) -> 0 | V24: =IF(J24=0,0,P24/J24*10) -> 0
C25: APPDCL Stage-II Unit III Infirm Power | J25: 208.00132 | K25: 0 | L25: 85.54903 | P25: =SUM(K25:O25) -> 85.54903 | Q25: =IF(J25=0,0,K25/J25*10) -> 0 | R25: =IF(J25=0,0,M25/J25*10) -> 0 | S25: =IF(J25=0,0,N25/J25*10) -> 0 | T25: =IF(J25=0,0,O25/J25*10) -> 0 | U25: =IF(J25=0,0,L25/J25*10) -> 4.1129081 | V25: =IF(J25=0,0,P25/J25*10) -> 4.1129081
C26: FPPCA Adjustment F.Y21-22 | J26: 0 | K26: 0 | L26: -97.86 | P26: =SUM(K26:O26) -> -97.86 | Q26: =IF(J26=0,0,K26/J26*10) -> 0 | R26: =IF(J26=0,0,M26/J26*10) -> 0 | S26: =IF(J26=0,0,N26/J26*10) -> 0 | T26: =IF(J26=0,0,O26/J26*10) -> 0 | U26: =IF(J26=0,0,L26/J26*10) -> 0 | V26: =IF(J26=0,0,P26/J26*10) -> 0
C27: FCA CLAIMS FY 22-23 | I27: 0 | J27: 0 | K27: 0 | L27: 14.546593 | P27: =SUM(K27:O27) -> 14.546593 | Q27: =IF(J27=0,0,K27/J27*10) -> 0 | R27: =IF(J27=0,0,M27/J27*10) -> 0 | S27: =IF(J27=0,0,N27/J27*10) -> 0 | T27: =IF(J27=0,0,O27/J27*10) -> 0 | U27: =IF(J27=0,0,L27/J27*10) -> 0 | V27: =IF(J27=0,0,P27/J27*10) -> 0
C28: TOTAL THERMAL | I28: =SUM(I13:I27) -> 9162.5336 | J28: =SUM(J13:J27) -> 8954.8166 | K28: =SUM(K13:K27) -> 1163.9896 | L28: =SUM(L13:L27) -> 3431.6756 | M28: =SUM(M13:M27) -> 0 | N28: =SUM(N13:N27) -> 0 | O28: =SUM(O13:O27) -> 0 | P28: =SUM(P13:P27) -> 4595.6652 | Q28: =IF(J28=0,0,K28/J28*10) -> 1.2998475 | R28: =IF(J28=0,0,M28/J28*10) -> 0 | S28: =IF(J28=0,0,N28/J28*10) -> 0 | T28: =IF(J28=0,0,O28/J28*10) -> 0 | U28: =IF(J28=0,0,L28/J28*10) -> 3.832212 | V28: =IF(J28=0,0,P28/J28*10) -> 5.1320596
Q29: =IF(J29=0,0,K29/J29*10) -> 0 | R29: =IF(J29=0,0,M29/J29*10) -> 0 | S29: =IF(J29=0,0,N29/J29*10) -> 0 | T29: =IF(J29=0,0,O29/J29*10) -> 0 | U29: =IF(J29=0,0,L29/J29*10) -> 0 | V29: =IF(J29=0,0,P29/J29*10) -> 0
C30: MACHKUND PH AP Share | I30: 137.24667 | J30: 96.035555 | K30: 15.978141 | L30: 0 | P30: =SUM(K30:O30) -> 15.978141 | Q30: =IF(J30=0,0,K30/J30*10) -> 1.6637735 | R30: =IF(J30=0,0,M30/J30*10) -> 0 | S30: =IF(J30=0,0,N30/J30*10) -> 0 | T30: =IF(J30=0,0,O30/J30*10) -> 0 | U30: =IF(J30=0,0,L30/J30*10) -> 0 | V30: =IF(J30=0,0,P30/J30*10) -> 1.6637735
C31: TUNGBHADRA PH AP Share | I31: 64.618291 | J31: 62.956843 | K31: 7.4815527 | L31: 0 | P31: =SUM(K31:O31) -> 7.4815527 | Q31: =IF(J31=0,0,K31/J31*10) -> 1.1883621 | R31: =IF(J31=0,0,M31/J31*10) -> 0 | S31: =IF(J31=0,0,N31/J31*10) -> 0 | T31: =IF(J31=0,0,O31/J31*10) -> 0 | U31: =IF(J31=0,0,L31/J31*10) -> 0 | V31: =IF(J31=0,0,P31/J31*10) -> 1.1883621
C32: Upper Sileru Power House (AP) | I32: 116.37621 | J32: 138.08159 | K32: 26.986504 | L32: 0 | P32: =SUM(K32:O32) -> 26.986504 | Q32: =IF(J32=0,0,K32/J32*10) -> 1.9543882 | R32: =IF(J32=0,0,M32/J32*10) -> 0 | S32: =IF(J32=0,0,N32/J32*10) -> 0 | T32: =IF(J32=0,0,O32/J32*10) -> 0 | U32: =IF(J32=0,0,L32/J32*10) -> 0 | V32: =IF(J32=0,0,P32/J32*10) -> 1.9543882
C33: Lower Sileru Power House (AP) | I33: 329.34483 | J33: 383.2786 | K33: 57.322449 | L33: 0 | P33: =SUM(K33:O33) -> 57.322449 | Q33: =IF(J33=0,0,K33/J33*10) -> 1.4955818 | R33: =IF(J33=0,0,M33/J33*10) -> 0 | S33: =IF(J33=0,0,N33/J33*10) -> 0 | T33: =IF(J33=0,0,O33/J33*10) -> 0 | U33: =IF(J33=0,0,L33/J33*10) -> 0 | V33: =IF(J33=0,0,P33/J33*10) -> 1.4955818
C34: DONKARAYI (AP) | I34: 23.450548 | J34: 35.160471 | K34: 4.2453248 | L34: 0 | P34: =SUM(K34:O34) -> 4.2453248 | Q34: =IF(J34=0,0,K34/J34*10) -> 1.2074141 | R34: =IF(J34=0,0,M34/J34*10) -> 0 | S34: =IF(J34=0,0,N34/J34*10) -> 0 | T34: =IF(J34=0,0,O34/J34*10) -> 0 | U34: =IF(J34=0,0,L34/J34*10) -> 0 | V34: =IF(J34=0,0,P34/J34*10) -> 1.2074141
C35: Srisailam Right Bank Power House (AP) | I35: 510.0083 | J35: 667.7602 | K35: 82.331682 | L35: 0 | P35: =SUM(K35:O35) -> 82.331682 | Q35: =IF(J35=0,0,K35/J35*10) -> 1.2329528 | R35: =IF(J35=0,0,M35/J35*10) -> 0 | S35: =IF(J35=0,0,N35/J35*10) -> 0 | T35: =IF(J35=0,0,O35/J35*10) -> 0 | U35: =IF(J35=0,0,L35/J35*10) -> 0 | V35: =IF(J35=0,0,P35/J35*10) -> 1.2329528
C36: Nagarjunasagar Right Bank Power House (AP) | I36: 100.31784 | J36: 106.86176 | K36: 9.4497981 | L36: 0 | P36: =SUM(K36:O36) -> 9.4497981 | Q36: =IF(J36=0,0,K36/J36*10) -> 0.88430118 | R36: =IF(J36=0,0,M36/J36*10) -> 0 | S36: =IF(J36=0,0,N36/J36*10) -> 0 | T36: =IF(J36=0,0,O36/J36*10) -> 0 | U36: =IF(J36=0,0,L36/J36*10) -> 0 | V36: =IF(J36=0,0,P36/J36*10) -> 0.88430118
A37: 10008 | C37: Penna Ahobilam (AP) | I37: 1.82361 | J37: 4.8784635 | K37: 4.8969437 | L37: 0 | P37: =SUM(K37:O37) -> 4.8969437 | Q37: =IF(J37=0,0,K37/J37*10) -> 10.037881 | R37: =IF(J37=0,0,M37/J37*10) -> 0 | S37: =IF(J37=0,0,N37/J37*10) -> 0 | T37: =IF(J37=0,0,O37/J37*10) -> 0 | U37: =IF(J37=0,0,L37/J37*10) -> 0 | V37: =IF(J37=0,0,P37/J37*10) -> 10.037881
C38: MINI HYDEL(Chettipeta)-AP | I38: 0.8676501 | J38: 1.0400754 | K38: 0.65920414 | L38: 0 | P38: =SUM(K38:O38) -> 0.65920414 | Q38: =IF(J38=0,0,K38/J38*10) -> 6.3380418 | R38: =IF(J38=0,0,M38/J38*10) -> 0 | S38: =IF(J38=0,0,N38/J38*10) -> 0 | T38: =IF(J38=0,0,O38/J38*10) -> 0 | U38: =IF(J38=0,0,L38/J38*10) -> 0 | V38: =IF(J38=0,0,P38/J38*10) -> 6.3380418
C39: Nagarjunasagar Tail Pond Dam Power House | I39: 48.487062 | J39: 34.497848 | K39: 18.14622 | L39: 0 | P39: =SUM(K39:O39) -> 18.14622 | Q39: =IF(J39=0,0,K39/J39*10) -> 5.2601021 | R39: =IF(J39=0,0,M39/J39*10) -> 0 | S39: =IF(J39=0,0,N39/J39*10) -> 0 | T39: =IF(J39=0,0,O39/J39*10) -> 0 | U39: =IF(J39=0,0,L39/J39*10) -> 0 | V39: =IF(J39=0,0,P39/J39*10) -> 5.2601021
C40: TOTAL HYDRO | I40: =SUM(I30:I39) -> 1332.541 | J40: =SUM(J30:J39) -> 1530.5514 | K40: =SUM(K30:K39) -> 227.49782 | L40: =SUM(L30:L39) -> 0 | M40: =SUM(M30:M39) -> 0 | N40: =SUM(N30:N39) -> 0 | O40: =SUM(O30:O39) -> 0 | P40: =SUM(P30:P39) -> 227.49782 | Q40: =IF(J40=0,0,K40/J40*10) -> 1.4863782 | R40: =IF(J40=0,0,M40/J40*10) -> 0 | S40: =IF(J40=0,0,N40/J40*10) -> 0 | T40: =IF(J40=0,0,O40/J40*10) -> 0 | U40: =IF(J40=0,0,L40/J40*10) -> 0 | V40: =IF(J40=0,0,P40/J40*10) -> 1.4863782
C41: TOTAL APGENCO | I41: =I28+I40 -> 10495.075 | J41: =J28+J40 -> 10485.368 | K41: =K28+K40 -> 1391.4874 | L41: =L28+L40 -> 3431.6756 | M41: =M28+M40 -> 0 | N41: =N28+N40 -> 0 | O41: =O28+O40 -> 0 | P41: =P28+P40 -> 4823.1631 | Q41: =IF(J41=0,0,K41/J41*10) -> 1.3270754 | R41: =IF(J41=0,0,M41/J41*10) -> 0 | S41: =IF(J41=0,0,N41/J41*10) -> 0 | T41: =IF(J41=0,0,O41/J41*10) -> 0 | U41: =IF(J41=0,0,L41/J41*10) -> 3.2728232 | V41: =IF(J41=0,0,P41/J41*10) -> 4.5998987
A42: 10015 | Q42: =IF(J42=0,0,K42/J42*10) -> 0 | R42: =IF(J42=0,0,M42/J42*10) -> 0 | S42: =IF(J42=0,0,N42/J42*10) -> 0 | T42: =IF(J42=0,0,O42/J42*10) -> 0 | U42: =IF(J42=0,0,L42/J42*10) -> 0 | V42: =IF(J42=0,0,P42/J42*10) -> 0
A43: 10016 | C43: Central Generating Stations | Q43: =IF(J43=0,0,K43/J43*10) -> 0 | R43: =IF(J43=0,0,M43/J43*10) -> 0 | S43: =IF(J43=0,0,N43/J43*10) -> 0 | T43: =IF(J43=0,0,O43/J43*10) -> 0 | U43: =IF(J43=0,0,L43/J43*10) -> 0 | V43: =IF(J43=0,0,P43/J43*10) -> 0
...

Sheet 1.4a|PP Cost- NonReg
A1: Index sheet
C3: Form 1.4a | D3: Power Purchase and Procurement Cost (For Non-regulated Business#)
C5: # Refer to Notes for the definition
C6: FY 2023-24
C7: Generating Station | D7: D Link | E7: Plant Type Must Run = 1 Others = 2 | F7: Plant Capacity | G7: DISCOM's share | H7: DISCOM's share | I7: Availability and Dispatch (MU) | K7: Cost (Rs. Crs.) | Q7: Unit Cost (Rs. / kWh) | W7: Remarks
F8: (MW) | G8: (%) | H8: (MW) | I8: Net Availability | J8: Dispatch | K8: Fixed | L8: Variable | M8: Incentive | N8: Income Tax | O8: Others | P8: Total | Q8: Fixed | R8: Incentives | S8: Income Tax | T8: Others | U8: Variable | V8: Total
C10: Apgenco-Thermal
C11: Dr. NTTPS | P11: =SUM(K11:O11) -> 0 | Q11: =IF(J11=0,0,K11/J11*10) -> 0 | R11: =IF(J11=0,0,M11/J11*10) -> 0 | S11: =IF(J11=0,0,N11/J11*10) -> 0 | T11: =IF(J11=0,0,O11/J11*10) -> 0 | U11: =IF(J11=0,0,L11/J11*10) -> 0 | V11: =IF(J11=0,0,P11/J11*10) -> 0
C12: Dr. NTTPS-IV | P12: =SUM(K12:O12) -> 0 | Q12: =IF(J12=0,0,K12/J12*10) -> 0 | R12: =IF(J12=0,0,M12/J12*10) -> 0 | S12: =IF(J12=0,0,N12/J12*10) -> 0 | T12: =IF(J12=0,0,O12/J12*10) -> 0 | U12: =IF(J12=0,0,L12/J12*10) -> 0 | V12: =IF(J12=0,0,P12/J12*10) -> 0
C13: RTPP Stage-I | P13: =SUM(K13:O13) -> 0 | Q13: =IF(J13=0,0,K13/J13*10) -> 0 | R13: =IF(J13=0,0,M13/J13*10) -> 0 | S13: =IF(J13=0,0,N13/J13*10) -> 0 | T13: =IF(J13=0,0,O13/J13*10) -> 0 | U13: =IF(J13=0,0,L13/J13*10) -> 0 | V13: =IF(J13=0,0,P13/J13*10) -> 0
C14: RTPP Stage-II | P14: =SUM(K14:O14) -> 0 | Q14: =IF(J14=0,0,K14/J14*10) -> 0 | R14: =IF(J14=0,0,M14/J14*10) -> 0 | S14: =IF(J14=0,0,N14/J14*10) -> 0 | T14: =IF(J14=0,0,O14/J14*10) -> 0 | U14: =IF(J14=0,0,L14/J14*10) -> 0 | V14: =IF(J14=0,0,P14/J14*10) -> 0
C15: RTPP Stage-III | P15: =SUM(K15:O15) -> 0 | Q15: =IF(J15=0,0,K15/J15*10) -> 0 | R15: =IF(J15=0,0,M15/J15*10) -> 0 | S15: =IF(J15=0,0,N15/J15*10) -> 0 | T15: =IF(J15=0,0,O15/J15*10) -> 0 | U15: =IF(J15=0,0,L15/J15*10) -> 0 | V15: =IF(J15=0,0,P15/J15*10) -> 0
C16: RTPP Stage-IV | P16: =SUM(K16:O16) -> 0 | Q16: =IF(J16=0,0,K16/J16*10) -> 0 | R16: =IF(J16=0,0,M16/J16*10) -> 0 | S16: =IF(J16=0,0,N16/J16*10) -> 0 | T16: =IF(J16=0,0,O16/J16*10) -> 0 | U16: =IF(J16=0,0,L16/J16*10) -> 0 | V16: =IF(J16=0,0,P16/J16*10) -> 0
C17: Genco-Thermal Total | P17: =SUM(K17:O17) -> 0 | Q17: =IF(J17=0,0,K17/J17*10) -> 0 | R17: =IF(J17=0,0,M17/J17*10) -> 0 | S17: =IF(J17=0,0,N17/J17*10) -> 0 | T17: =IF(J17=0,0,O17/J17*10) -> 0 | U17: =IF(J17=0,0,L17/J17*10) -> 0 | V17: =IF(J17=0,0,P17/J17*10) -> 0
C18: Srisailam RCPH | P18: =SUM(K18:O18) -> 0 | Q18: =IF(J18=0,0,K18/J18*10) -> 0 | R18: =IF(J18=0,0,M18/J18*10) -> 0 | S18: =IF(J18=0,0,N18/J18*10) -> 0 | T18: =IF(J18=0,0,O18/J18*10) -> 0 | U18: =IF(J18=0,0,L18/J18*10) -> 0 | V18: =IF(J18=0,0,P18/J18*10) -> 0
C19: NSRCPH | P19: =SUM(K19:O19) -> 0 | Q19: =IF(J19=0,0,K19/J19*10) -> 0 | R19: =IF(J19=0,0,M19/J19*10) -> 0 | S19: =IF(J19=0,0,N19/J19*10) -> 0 | T19: =IF(J19=0,0,O19/J19*10) -> 0 | U19: =IF(J19=0,0,L19/J19*10) -> 0 | V19: =IF(J19=0,0,P19/J19*10) -> 0
C20: NSTPDC PH | P20: =SUM(K20:O20) -> 0 | Q20: =IF(J20=0,0,K20/J20*10) -> 0 | R20: =IF(J20=0,0,M20/J20*10) -> 0 | S20: =IF(J20=0,0,N20/J20*10) -> 0 | T20: =IF(J20=0,0,O20/J20*10) -> 0 | U20: =IF(J20=0,0,L20/J20*10) -> 0 | V20: =IF(J20=0,0,P20/J20*10) -> 0
C21: Upper Sileru | P21: =SUM(K21:O21) -> 0 | Q21: =IF(J21=0,0,K21/J21*10) -> 0 | R21: =IF(J21=0,0,M21/J21*10) -> 0 | S21: =IF(J21=0,0,N21/J21*10) -> 0 | T21: =IF(J21=0,0,O21/J21*10) -> 0 | U21: =IF(J21=0,0,L21/J21*10) -> 0 | V21: =IF(J21=0,0,P21/J21*10) -> 0
C22: Lower Sileru | P22: =SUM(K22:O22) -> 0 | Q22: =IF(J22=0,0,K22/J22*10) -> 0 | R22: =IF(J22=0,0,M22/J22*10) -> 0 | S22: =IF(J22=0,0,N22/J22*10) -> 0 | T22: =IF(J22=0,0,O22/J22*10) -> 0 | U22: =IF(J22=0,0,L22/J22*10) -> 0 | V22: =IF(J22=0,0,P22/J22*10) -> 0
... C33: Godavari Gas Power Plant | P33: =SUM(K33:O33) -> 0 | Q33: =IF(J33=0,0,K33/J33*10) -> 0 | R33: =IF(J33=0,0,M33/J33*10) -> 0 | S33: =IF(J33=0,0,N33/J33*10) -> 0 | T33: =IF(J33=0,0,O33/J33*10) -> 0 | U33: =IF(J33=0,0,L33/J33*10) -> 0 | V33: =IF(J33=0,0,P33/J33*10) -> 0
C34: Joint Sector-TOTAL | F34: =SUM(F13:F33) -> 0 | H34: =SUM(H13:H33) -> 0 | J34: =SUM(J13:J33) -> 0 | K34: =SUM(K13:K33) -> 0 | L34: =SUM(L13:L33) -> 0 | M34: =SUM(M13:M33) -> 0 | N34: =SUM(N13:N33) -> 0 | O34: =SUM(O13:O33) -> 0 | P34: =SUM(K34:O34) -> 0 | Q34: =IF(J34=0,0,K34/J34*10) -> 0 | R34: =IF(J34=0,0,M34/J34*10) -> 0 | S34: =IF(J34=0,0,N34/J34*10) -> 0 | T34: =IF(J34=0,0,O34/J34*10) -> 0 | U34: =IF(J34=0,0,L34/J34*10) -> 0 | V34: =IF(J34=0,0,P34/J34*10) -> 0
C35: NTPC(SR) Ramagundam I & II | P35: =SUM(K35:O35) -> 0 | Q35: =IF(J35=0,0,K35/J35*10) -> 0 | R35: =IF(J35=0,0,M35/J35*10) -> 0 | S35: =IF(J35=0,0,N35/J35*10) -> 0 | T35: =IF(J35=0,0,O35/J35*10) -> 0 | U35: =IF(J35=0,0,L35/J35*10) -> 0 | V35: =IF(J35=0,0,P35/J35*10) -> 0
C36: NTPC(SR) Simhadri Stage-I | P36: =SUM(K36:O36) -> 0 | Q36: =IF(J36=0,0,K36/J36*10) -> 0 | R36: =IF(J36=0,0,M36/J36*10) -> 0 | S36: =IF(J36=0,0,N36/J36*10) -> 0 | T36: =IF(J36=0,0,O36/J36*10) -> 0 | U36: =IF(J36=0,0,L36/J36*10) -> 0 | V36: =IF(J36=0,0,P36/J36*10) -> 0
C37: NTPC(SR) Simhadri Stage-II | P37: =SUM(K37:O37) -> 0 | Q37: =IF(J37=0,0,K37/J37*10) -> 0 | R37: =IF(J37=0,0,M37/J37*10) -> 0 | S37: =IF(J37=0,0,N37/J37*10) -> 0 | T37: =IF(J37=0,0,O37/J37*10) -> 0 | U37: =IF(J37=0,0,L37/J37*10) -> 0 | V37: =IF(J37=0,0,P37/J37*10) -> 0
C38: NTPC(SR) Talcher Stage-II | P38: =SUM(K38:O38) -> 0 | Q38: =IF(J38=0,0,K38/J38*10) -> 0 | R38: =IF(J38=0,0,M38/J38*10) -> 0 | S38: =IF(J38=0,0,N38/J38*10) -> 0 | T38: =IF(J38=0,0,O38/J38*10) -> 0 | U38: =IF(J38=0,0,L38/J38*10) -> 0 | V38: =IF(J38=0,0,P38/J38*10) -> 0
C39: NTPC(SR) Ramagundam III | P39: =SUM(K39:O39) -> 0 | Q39: =IF(J39=0,0,K39/J39*10) -> 0 | R39: =IF(J39=0,0,M39/J39*10) -> 0 | S39: =IF(J39=0,0,N39/J39*10) -> 0 | T39: =IF(J39=0,0,O39/J39*10) -> 0 | U39: =IF(J39=0,0,L39/J39*10) -> 0 | V39: =IF(J39=0,0,P39/J39*10) -> 0
C40: NTPC Kudgi Stage-I | P40: =SUM(K40:O40) -> 0 | Q40: =IF(J40=0,0,K40/J40*10) -> 0 | R40: =IF(J40=0,0,M40/J40*10) -> 0 | S40: =IF(J40=0,0,N40/J40*10) -> 0 | T40: =IF(J40=0,0,O40/J40*10) -> 0 | U40: =IF(J40=0,0,L40/J40*10) -> 0 | V40: =IF(J40=0,0,P40/J40*10) -> 0
C41: NTECL Valluru | P41: =SUM(K41:O41) -> 0 | Q41: =IF(J41=0,0,K41/J41*10) -> 0 | R41: =IF(J41=0,0,M41/J41*10) -> 0 | S41: =IF(J41=0,0,N41/J41*10) -> 0 | T41: =IF(J41=0,0,O41/J41*10) -> 0 | U41: =IF(J41=0,0,L41/J41*10) -> 0 | V41: =IF(J41=0,0,P41/J41*10) -> 0
C42: NLC Stage-I | P42: =SUM(K42:O42) -> 0 | Q42: =IF(J42=0,0,K42/J42*10) -> 0 | R42: =IF(J42=0,0,M42/J42*10) -> 0 | S42: =IF(J42=0,0,N42/J42*10) -> 0 | T42: =IF(J42=0,0,O42/J42*10) -> 0 | U42: =IF(J42=0,0,L42/J42*10) -> 0 | V42: =IF(J42=0,0,P42/J42*10) -> 0
C43: NLC Stage-II | P43: =SUM(K43:O43) -> 0 | Q43: =IF(J43=0,0,K43/J43*10) -> 0 | R43: =IF(J43=0,0,M43/J43*10) -> 0 | S43: =IF(J43=0,0,N43/J43*10) -> 0 | T43: =IF(J43=0,0,O43/J43*10) -> 0 | U43: =IF(J43=0,0,L43/J43*10) -> 0 | V43: =IF(J43=0,0,P43/J43*10) -> 0
C44: NPC(MAPS) | P44: =SUM(K44:O44) -> 0 | Q44: =IF(J44=0,0,K44/J44*10) -> 0 | R44: =IF(J44=0,0,M44/J44*10) -> 0 | S44: =IF(J44=0,0,N44/J44*10) -> 0 | T44: =IF(J44=0,0,O44/J44*10) -> 0 | U44: =IF(J44=0,0,L44/J44*10) -> 0 | V44: =IF(J44=0,0,P44/J44*10) -> 0
C45: NPC(KAIGA unit I,II,III,IV) | P45: =SUM(K45:O45) -> 0 | Q45: =IF(J45=0,0,K45/J45*10) -> 0 | R45: =IF(J45=0,0,M45/J45*10) -> 0 | S45: =IF(J45=0,0,N45/J45*10) -> 0 | T45: =IF(J45=0,0,O45/J45*10) -> 0 | U45: =IF(J45=0,0,L45/J45*10) -> 0 | V45: =IF(J45=0,0,P45/J45*10) -> 0
C46: NTPL(NLC TamilNadu) | P46: =SUM(K46:O46) -> 0 | Q46: =IF(J46=0,0,K46/J46*10) -> 0 | R46: =IF(J46=0,0,M46/J46*10) -> 0 | S46: =IF(J46=0,0,N46/J46*10) -> 0 | T46: =IF(J46=0,0,O46/J46*10) -> 0 | U46: =IF(J46=0,0,L46/J46*10) -> 0 | V46: =IF(J46=0,0,P46/J46*10) -> 0
... C52: Thermal Powertech Corporation | P52: =SUM(K52:O52) -> 0 | Q52: =IF(J52=0,0,K52/J52*10) -> 0 | R52: =IF(J52=0,0,M52/J52*10) -> 0 | S52: =IF(J52=0,0,N52/J52*10) -> 0 | T52: =IF(J52=0,0,O52/J52*10) -> 0 | U52: =IF(J52=0,0,L52/J52*10) -> 0 | V52: =IF(J52=0,0,P52/J52*10) -> 0
C53: Hinduja National Powercorp | Q53: =IF(J53=0,0,K53/J53*10) -> 0 | R53: =IF(J53=0,0,M53/J53*10) -> 0 | S53: =IF(J53=0,0,N53/J53*10) -> 0 | T53: =IF(J53=0,0,O53/J53*10) -> 0 | U53: =IF(J53=0,0,L53/J53*10) -> 0 | V53: =IF(J53=0,0,P53/J53*10) -> 0
C54: IPP TOTAL | P54: =SUM(K54:O54) -> 0 | Q54: =IF(J54=0,0,K54/J54*10) -> 0 | R54: =IF(J54=0,0,M54/J54*10) -> 0 | S54: =IF(J54=0,0,N54/J54*10) -> 0 | T54: =IF(J54=0,0,O54/J54*10) -> 0 | U54: =IF(J54=0,0,L54/J54*10) -> 0 | V54: =IF(J54=0,0,P54/J54*10) -> 0
C55: NCE- Others | P55: =SUM(K55:O55) -> 0 | Q55: =IF(J55=0,0,K55/J55*10) -> 0 | R55: =IF(J55=0,0,M55/J55*10) -> 0 | S55: =IF(J55=0,0,N55/J55*10) -> 0 | T55: =IF(J55=0,0,O55/J55*10) -> 0 | U55: =IF(J55=0,0,L55/J55*10) -> 0 | V55: =IF(J55=0,0,P55/J55*10) -> 0
C56: NCE Wind | P56: =SUM(K56:O56) -> 0 | Q56: =IF(J56=0,0,K56/J56*10) -> 0 | R56: =IF(J56=0,0,M56/J56*10) -> 0 | S56: =IF(J56=0,0,N56/J56*10) -> 0 | T56: =IF(J56=0,0,O56/J56*10) -> 0 | U56: =IF(J56=0,0,L56/J56*10) -> 0 | V56: =IF(J56=0,0,P56/J56*10) -> 0
C57: NCE Solar | P57: =SUM(K57:O57) -> 0 | Q57: =IF(J57=0,0,K57/J57*10) -> 0 | R57: =IF(J57=0,0,M57/J57*10) -> 0 | S57: =IF(J57=0,0,N57/J57*10) -> 0 | T57: =IF(J57=0,0,O57/J57*10) -> 0 | U57: =IF(J57=0,0,L57/J57*10) -> 0 | V57: =IF(J57=0,0,P57/J57*10) -> 0
C58: JNNSM Ph-1 Solar | Q58: =IF(J58=0,0,K58/J58*10) -> 0 | R58: =IF(J58=0,0,M58/J58*10) -> 0 | S58: =IF(J58=0,0,N58/J58*10) -> 0 | T58: =IF(J58=0,0,O58/J58*10) -> 0 | U58: =IF(J58=0,0,L58/J58*10) -> 0 | V58: =IF(J58=0,0,P58/J58*10) -> 0
...

Sheet 1.4(i)|NCE-B Year 
A1: Index sheet | AL1: 1
AL2: 2
B3: Form 1.4(i) | C3: NCE Generation
B4: Base Year | C4: FY 2023-24
B5: Plant wise NCE Generation and Cost Details for Base Year. The Total should be consistent with values provided in Form 1.4 under NCE.
B7: TYPE | C7: Name | D7: Location | E7: Plant Capacity | F7: DISCOM's share | G7: DISCOM's share | H7: Availability and Dispatch (MU) | J7: Cost (Rs. Crs.) | P7: Unit Cost (Rs. / kWh) | V7: Remarks
E8: (MW) | F8: (%) | G8: (MW) | H8: Net Availability | I8: Dispatch | J8: Fixed | K8: Variable | L8: Incentive | M8: Inc. Tax | N8: Others | O8: Total | P8: Fixed | Q8: Incentives | R8: Inc. Tax | S8: Others | T8: Variable | U8: Total
B9: Bio-Mass | O9: =SUM(J9:N9) -> 0 | P9: =IF(I9=0,0,J9/I9*10) -> 0 | Q9: =IF(I9=0,0,K9/I9*10) -> 0 | R9: =IF(I9=0,0,L9/I9*10) -> 0 | S9: =IF(I9=0,0,M9/I9*10) -> 0 | T9: =IF(I9=0,0,N9/I9*10) -> 0 | U9: =IF(I9=0,0,O9/I9*10) -> 0
O10: =SUM(J10:N10) -> 0 | P10: =IF(I10=0,0,J10/I10*10) -> 0 | Q10: =IF(I10=0,0,K10/I10*10) -> 0 | R10: =IF(I10=0,0,L10/I10*10) -> 0 | S10: =IF(I10=0,0,M10/I10*10) -> 0 | T10: =IF(I10=0,0,N10/I10*10) -> 0 | U10: =IF(I10=0,0,O10/I10*10) -> 0
O11: =SUM(J11:N11) -> 0 | P11: =IF(I11=0,0,J11/I11*10) -> 0 | Q11: =IF(I11=0,0,K11/I11*10) -> 0 | R11: =IF(I11=0,0,L11/I11*10) -> 0 | S11: =IF(I11=0,0,M11/I11*10) -> 0 | T11: =IF(I11=0,0,N11/I11*10) -> 0 | U11: =IF(I11=0,0,O11/I11*10) -> 0
O12: =SUM(J12:N12) -> 0 | P12: =IF(I12=0,0,J12/I12*10) -> 0 | Q12: =IF(I12=0,0,K12/I12*10) -> 0 | R12: =IF(I12=0,0,L12/I12*10) -> 0 | S12: =IF(I12=0,0,M12/I12*10) -> 0 | T12: =IF(I12=0,0,N12/I12*10) -> 0 | U12: =IF(I12=0,0,O12/I12*10) -> 0
O13: =SUM(J13:N13) -> 0 | P13: =IF(I13=0,0,J13/I13*10) -> 0 | Q13: =IF(I13=0,0,K13/I13*10) -> 0 | R13: =IF(I13=0,0,L13/I13*10) -> 0 | S13: =IF(I13=0,0,M13/I13*10) -> 0 | T13: =IF(I13=0,0,N13/I13*10) -> 0 | U13: =IF(I13=0,0,O13/I13*10) -> 0
O14: =SUM(J14:N14) -> 0 | P14: =IF(I14=0,0,J14/I14*10) -> 0 | Q14: =IF(I14=0,0,K14/I14*10) -> 0 | R14: =IF(I14=0,0,L14/I14*10) -> 0 | S14: =IF(I14=0,0,M14/I14*10) -> 0 | T14: =IF(I14=0,0,N14/I14*10) -> 0 | U14: =IF(I14=0,0,O14/I14*10) -> 0
O15: =SUM(J15:N15) -> 0 | P15: =IF(I15=0,0,J15/I15*10) -> 0 | Q15: =IF(I15=0,0,K15/I15*10) -> 0 | R15: =IF(I15=0,0,L15/I15*10) -> 0 | S15: =IF(I15=0,0,M15/I15*10) -> 0 | T15: =IF(I15=0,0,N15/I15*10) -> 0 | U15: =IF(I15=0,0,O15/I15*10) -> 0
O16: =SUM(J16:N16) -> 0 | P16: =IF(I16=0,0,J16/I16*10) -> 0 | Q16: =IF(I16=0,0,K16/I16*10) -> 0 | R16: =IF(I16=0,0,L16/I16*10) -> 0 | S16: =IF(I16=0,0,M16/I16*10) -> 0 | T16: =IF(I16=0,0,N16/I16*10) -> 0 | U16: =IF(I16=0,0,O16/I16*10) -> 0
B17: Total Bio-mass | G17: =SUM(G9:G16) -> 0 | H17: =SUM(H9:H16) -> 0 | I17: =SUM(I9:I16) -> 0 | J17: =SUM(J9:J16) -> 0 | K17: =SUM(K9:K16) -> 0 | L17: =SUM(L9:L16) -> 0 | M17: =SUM(M9:M16) -> 0 | N17: =SUM(N9:N16) -> 0 | O17: =SUM(J17:N17) -> 0 | P17: =IF(I17=0,0,J17/I17*10) -> 0 | Q17: =IF(I17=0,0,K17/I17*10) -> 0 | R17: =IF(I17=0,0,L17/I17*10) -> 0 | S17: =IF(I17=0,0,M17/I17*10) -> 0 | T17: =IF(I17=0,0,N17/I17*10) -> 0 | U17: =IF(I17=0,0,O17/I17*10) -> 0
B18: Bagasse | O18: =SUM(J18:N18) -> 0 | P18: =IF(I18=0,0,J18/I18*10) -> 0 | Q18: =IF(I18=0,0,K18/I18*10) -> 0 | R18: =IF(I18=0,0,L18/I18*10) -> 0 | S18: =IF(I18=0,0,M18/I18*10) -> 0 | T18: =IF(I18=0,0,N18/I18*10) -> 0 | U18: =IF(I18=0,0,O18/I18*10) -> 0
O19: =SUM(J19:N19) -> 0 | P19: =IF(I19=0,0,J19/I19*10) -> 0 | Q19: =IF(I19=0,0,K19/I19*10) -> 0 | R19: =IF(I19=0,0,L19/I19*10) -> 0 | S19: =IF(I19=0,0,M19/I19*10) -> 0 | T19: =IF(I19=0,0,N19/I19*10) -> 0 | U19: =IF(I19=0,0,O19/I19*10) -> 0
B20: Total Bagasse | G20: =SUM(G18:G19) -> 0 | H20: =SUM(H18:H19) -> 0 | I20: =SUM(I18:I19) -> 0 | J20: =SUM(J18:J19) -> 0 | K20: =SUM(K18:K19) -> 0 | L20: =SUM(L18:L19) -> 0 | M20: =SUM(M18:M19) -> 0 | N20: =SUM(N18:N19) -> 0 | O20: =SUM(J20:N20) -> 0 | P20: =IF(I20=0,0,J20/I20*10) -> 0 | Q20: =IF(I20=0,0,K20/I20*10) -> 0 | R20: =IF(I20=0,0,L20/I20*10) -> 0 | S20: =IF(I20=0,0,M20/I20*10) -> 0 | T20: =IF(I20=0,0,N20/I20*10) -> 0 | U20: =IF(I20=0,0,O20/I20*10) -> 0
B21: Municipal Waste to Energy | O21: =SUM(J21:N21) -> 0 | P21: =IF(I21=0,0,J21/I21*10) -> 0 | Q21: =IF(I21=0,0,K21/I21*10) -> 0 | R21: =IF(I21=0,0,L21/I21*10) -> 0 | S21: =IF(I21=0,0,M21/I21*10) -> 0 | T21: =IF(I21=0,0,N21/I21*10) -> 0 | U21: =IF(I21=0,0,O21/I21*10) -> 0
O22: =SUM(J22:N22) -> 0 | P22: =IF(I22=0,0,J22/I22*10) -> 0 | Q22: =IF(I22=0,0,K22/I22*10) -> 0 | R22: =IF(I22=0,0,L22/I22*10) -> 0 | S22: =IF(I22=0,0,M22/I22*10) -> 0 | T22: =IF(I22=0,0,N22/I22*10) -> 0 | U22: =IF(I22=0,0,O22/I22*10) -> 0
O23: =SUM(J23:N23) -> 0 | P23: =IF(I23=0,0,J23/I23*10) -> 0 | Q23: =IF(I23=0,0,K23/I23*10) -> 0 | R23: =IF(I23=0,0,L23/I23*10) -> 0 | S23: =IF(I23=0,0,M23/I23*10) -> 0 | T23: =IF(I23=0,0,N23/I23*10) -> 0 | U23: =IF(I23=0,0,O23/I23*10) -> 0
B24: Total Municipal Waste to Energy | G24: =SUM(G21:G23) -> 0 | H24: =SUM(H21:H23) -> 0 | I24: =SUM(I21:I23) -> 0 | J24: =SUM(J21:J23) -> 0 | K24: =SUM(K21:K23) -> 0 | L24: =SUM(L21:L23) -> 0 | M24: =SUM(M21:M23) -> 0 | N24: =SUM(N21:N23) -> 0 | O24: =SUM(J24:N24) -> 0 | P24: =IF(I24=0,0,J24/I24*10) -> 0 | Q24: =IF(I24=0,0,K24/I24*10) -> 0 | R24: =IF(I24=0,0,L24/I24*10) -> 0 | S24: =IF(I24=0,0,M24/I24*10) -> 0 | T24: =IF(I24=0,0,N24/I24*10) -> 0 | U24: =IF(I24=0,0,O24/I24*10) -> 0
B25: Industrial Waste based power project | O25: =SUM(J25:N25) -> 0 | P25: =IF(I25=0,0,J25/I25*10) -> 0 | Q25: =IF(I25=0,0,K25/I25*10) -> 0 | R25: =IF(I25=0,0,L25/I25*10) -> 0 | S25: =IF(I25=0,0,M25/I25*10) -> 0 | T25: =IF(I25=0,0,N25/I25*10) -> 0 | U25: =IF(I25=0,0,O25/I25*10) -> 0
B26: Total Industrial Waste | G26: =SUM(G25:G25) -> 0 | H26: =SUM(H25:H25) -> 0 | I26: =SUM(I25:I25) -> 0 | J26: =SUM(J25:J25) -> 0 | K26: =SUM(K25:K25) -> 0 | L26: =SUM(L25:L25) -> 0 | M26: =SUM(M25:M25) -> 0 | N26: =SUM(N25:N25) -> 0 | O26: =SUM(J26:N26) -> 0 | P26: =IF(I26=0,0,J26/I26*10) -> 0 | Q26: =IF(I26=0,0,K26/I26*10) -> 0 | R26: =IF(I26=0,0,L26/I26*10) -> 0 | S26: =IF(I26=0,0,M26/I26*10) -> 0 | T26: =IF(I26=0,0,N26/I26*10) -> 0 | U26: =IF(I26=0,0,O26/I26*10) -> 0
B27: Wind Power | O27: =SUM(J27:N27) -> 0 | P27: =IF(I27=0,0,J27/I27*10) -> 0 | Q27: =IF(I27=0,0,K27/I27*10) -> 0 | R27: =IF(I27=0,0,L27/I27*10) -> 0 | S27: =IF(I27=0,0,M27/I27*10) -> 0 | T27: =IF(I27=0,0,N27/I27*10) -> 0 | U27: =IF(I27=0,0,O27/I27*10) -> 0
B28: Total Wind Power | G28: =SUM(G27:G27) -> 0 | H28: =SUM(H27:H27) -> 0 | I28: =SUM(I27:I27) -> 0 | J28: =SUM(J27:J27) -> 0 | K28: =SUM(K27:K27) -> 0 | L28: =SUM(L27:L27) -> 0 | M28: =SUM(M27:M27) -> 0 | N28: =SUM(N27:N27) -> 0 | O28: =SUM(J28:N28) -> 0 | P28: =IF(I28=0,0,J28/I28*10) -> 0 | Q28: =IF(I28=0,0,K28/I28*10) -> 0 | R28: =IF(I28=0,0,L28/I28*10) -> 0 | S28: =IF(I28=0,0,M28/I28*10) -> 0 | T28: =IF(I28=0,0,N28/I28*10) -> 0 | U28: =IF(I28=0,0,O28/I28*10) -> 0
B29: Mini Hydel | O29: =SUM(J29:N29) -> 0 | P29: =IF(I29=0,0,J29/I29*10) -> 0 | Q29: =IF(I29=0,0,K29/I29*10) -> 0 | R29: =IF(I29=0,0,L29/I29*10) -> 0 | S29: =IF(I29=0,0,M29/I29*10) -> 0 | T29: =IF(I29=0,0,N29/I29*10) -> 0 | U29: =IF(I29=0,0,O29/I29*10) -> 0
B30: Total Mini Hydel | G30: =SUM(G29:G29) -> 0 | H30: =SUM(H29:H29) -> 0 | I30: =SUM(I29:I29) -> 0 | J30: =SUM(J29:J29) -> 0 | K30: =SUM(K29:K29) -> 0 | L30: =SUM(L29:L29) -> 0 | M30: =SUM(M29:M29) -> 0 | N30: =SUM(N29:N29) -> 0 | O30: =SUM(J30:N30) -> 0 | P30: =IF(I30=0,0,J30/I30*10) -> 0 | Q30: =IF(I30=0,0,K30/I30*10) -> 0 | R30: =IF(I30=0,0,L30/I30*10) -> 0 | S30: =IF(I30=0,0,M30/I30*10) -> 0 | T30: =IF(I30=0,0,N30/I30*10) -> 0 | U30: =IF(I30=0,0,O30/I30*10) -> 0
B31: Interstate Mini Hydel | O31: =SUM(J31:N31) -> 0 | P31: =IF(I31=0,0,J31/I31*10) -> 0 | Q31: =IF(I31=0,0,K31/I31*10) -> 0 | R31: =IF(I31=0,0,L31/I31*10) -> 0 | S31: =IF(I31=0,0,M31/I31*10) -> 0 | T31: =IF(I31=0,0,N31/I31*10) -> 0 | U31: =IF(I31=0,0,O31/I31*10) -> 0
B32: TOTAL- Interstate Mini Hydel | G32: =SUM(G31:G31) -> 0 | H32: =SUM(H31:H31) -> 0 | I32: =SUM(I31:I31) -> 0 | J32: =SUM(J31:J31) -> 0 | K32: =SUM(K31:K31) -> 0 | L32: =SUM(L31:L31) -> 0 | M32: =SUM(M31:M31) -> 0 | N32: =SUM(N31:N31) -> 0 | O32: =SUM(J32:N32) -> 0 | P32: =IF(I32=0,0,J32/I32*10) -> 0 | Q32: =IF(I32=0,0,K32/I32*10) -> 0 | R32: =IF(I32=0,0,L32/I32*10) -> 0 | S32: =IF(I32=0,0,M32/I32*10) -> 0 | T32: =IF(I32=0,0,N32/I32*10) -> 0 | U32: =IF(I32=0,0,O32/I32*10) -> 0
B33: NCE-Solar | O33: =SUM(J33:N33) -> 0 | P33: =IF(I33=0,0,J33/I33*10) -> 0 | Q33: =IF(I33=0,0,K33/I33*10) -> 0 | R33: =IF(I33=0,0,L33/I33*10) -> 0 | S33: =IF(I33=0,0,M33/I33*10) -> 0 | T33: =IF(I33=0,0,N33/I33*10) -> 0 | U33: =IF(I33=0,0,O33/I33*10) -> 0
O34: =SUM(J34:N34) -> 0 | P34: =IF(I34=0,0,J34/I34*10) -> 0 | Q34: =IF(I34=0,0,K34/I34*10) -> 0 | R34: =IF(I34=0,0,L34/I34*10) -> 0 | S34: =IF(I34=0,0,M34/I34*10) -> 0 | T34: =IF(I34=0,0,N34/I34*10) -> 0 | U34: =IF(I34=0,0,O34/I34*10) -> 0 | X34: 58.52
O35: =SUM(J35:N35) -> 0 | P35: =IF(I35=0,0,J35/I35*10) -> 0 | Q35: =IF(I35=0,0,K35/I35*10) -> 0 | R35: =IF(I35=0,0,L35/I35*10) -> 0 | S35: =IF(I35=0,0,M35/I35*10) -> 0 | T35: =IF(I35=0,0,N35/I35*10) -> 0 | U35: =IF(I35=0,0,O35/I35*10) -> 0 | X35: =K18+K22+K35 -> 0
O36: =SUM(J36:N36) -> 0 | P36: =IF(I36=0,0,J36/I36*10) -> 0 | Q36: =IF(I36=0,0,K36/I36*10) -> 0 | R36: =IF(I36=0,0,L36/I36*10) -> 0 | S36: =IF(I36=0,0,M36/I36*10) -> 0 | T36: =IF(I36=0,0,N36/I36*10) -> 0 | U36: =IF(I36=0,0,O36/I36*10) -> 0 | X36: =X34-X35 -> 58.52
B37: Total NCE - Solar | G37: =SUM(G33:G36) -> 0 | H37: =SUM(H33:H36) -> 0 | I37: =SUM(I33:I36) -> 0 | J37: =SUM(J33:J36) -> 0 | K37: =SUM(K33:K36) -> 0 | L37: =SUM(L33:L36) -> 0 | M37: =SUM(M33:M36) -> 0 | N37: =SUM(N33:N36) -> 0 | O37: =SUM(J37:N37) -> 0 | P37: =IF(I37=0,0,J37/I37*10) -> 0 | Q37: =IF(I37=0,0,K37/I37*10) -> 0 | R37: =IF(I37=0,0,L37/I37*10) -> 0 | S37: =IF(I37=0,0,M37/I37*10) -> 0 | T37: =IF(I37=0,0,N37/I37*10) -> 0 | U37: =IF(I37=0,0,O37/I37*10) -> 0
B38: NCE-Others | O38: =SUM(J38:N38) -> 0 | P38: =IF(I38=0,0,J38/I38*10) -> 0 | Q38: =IF(I38=0,0,K38/I38*10) -> 0 | R38: =IF(I38=0,0,L38/I38*10) -> 0 | S38: =IF(I38=0,0,M38/I38*10) -> 0 | T38: =IF(I38=0,0,N38/I38*10) -> 0 | U38: =IF(I38=0,0,O38/I38*10) -> 0
B39: Total NCE - Others | G39: =G38 -> 0 | H39: =H38 -> 0 | I39: =I38 -> 0 | J39: =J38 -> 0 | K39: =K38 -> 0 | L39: =L38 -> 0 | M39: =M38 -> 0 | N39: =N38 -> 0 | O39: =SUM(J39:N39) -> 0 | P39: =IF(I39=0,0,J39/I39*10) -> 0 | Q39: =IF(I39=0,0,K39/I39*10) -> 0 | R39: =IF(I39=0,0,L39/I39*10) -> 0 | S39: =IF(I39=0,0,M39/I39*10) -> 0 | T39: =IF(I39=0,0,N39/I39*10) -> 0 | U39: =IF(I39=0,0,O39/I39*10) -> 0
B41: Total NCE | G41: =G37+G39 -> 0 | H41: =H37+H39 -> 0 | I41: =I37+I39 -> 0 | J41: =J37+J39 -> 0 | K41: =K37+K39 -> 0 | L41: =L37+L39 -> 0 | M41: =M37+M39 -> 0 | N41: =N37+N39 -> 0 | O41: =SUM(J41:N41) -> 0 | P41: =IF(I41=0,0,J41/I41*10) -> 0 | Q41: =IF(I41=0,0,K41/I41*10) -> 0 | R41: =IF(I41=0,0,L41/I41*10) -> 0 | S41: =IF(I41=0,0,M41/I41*10) -> 0 | T41: =IF(I41=0,0,N41/I41*10) -> 0 | U41: =IF(I41=0,0,O41/I41*10) -> 0

Sheet 1.4(ii)|NCE- Year 1
A1: Index sheet | AL1: 1
AL2: 2
B3: Form 1.4(ii) | C3: NCE Generation
B4: Year 1 | C4: FY 2024-25
B5: Plant wise NCE Generation and Cost Details for Base Year. The Total should be consistent with values provided in Form 1.4 under NCE.
B7: TYPE | C7: Name | D7: Location | E7: Plant Capacity | F7: DISCOM's share | G7: DISCOM's share | H7: Availability and Dispatch (MU) | J7: Cost (Rs. Crs.) | P7: Unit Cost (Rs. / kWh) | V7: Remarks
E8: (MW) | F8: (%) | G8: (MW) | H8: Net Availability | I8: Dispatch | J8: Fixed | K8: Variable | L8: Incentive | M8: Inc. Tax | N8: Others | O8: Total | P8: Fixed | Q8: Incentives | R8: Inc. Tax | S8: Others | T8: Variable | U8: Total
B9: Bio-Mass | O9: =SUM(J9:N9) -> 0 | P9: =IF(I9=0,0,J9/I9*10) -> 0 | Q9: =IF(I9=0,0,K9/I9*10) -> 0 | R9: =IF(I9=0,0,L9/I9*10) -> 0 | S9: =IF(I9=0,0,M9/I9*10) -> 0 | T9: =IF(I9=0,0,N9/I9*10) -> 0 | U9: =IF(I9=0,0,O9/I9*10) -> 0
O10: =SUM(J10:N10) -> 0 | P10: =IF(I10=0,0,J10/I10*10) -> 0 | Q10: =IF(I10=0,0,K10/I10*10) -> 0 | R10: =IF(I10=0,0,L10/I10*10) -> 0 | S10: =IF(I10=0,0,M10/I10*10) -> 0 | T10: =IF(I10=0,0,N10/I10*10) -> 0 | U10: =IF(I10=0,0,O10/I10*10) -> 0
O11: =SUM(J11:N11) -> 0 | P11: =IF(I11=0,0,J11/I11*10) -> 0 | Q11: =IF(I11=0,0,K11/I11*10) -> 0 | R11: =IF(I11=0,0,L11/I11*10) -> 0 | S11: =IF(I11=0,0,M11/I11*10) -> 0 | T11: =IF(I11=0,0,N11/I11*10) -> 0 | U11: =IF(I11=0,0,O11/I11*10) -> 0
O12: =SUM(J12:N12) -> 0 | P12: =IF(I12=0,0,J12/I12*10) -> 0 | Q12: =IF(I12=0,0,K12/I12*10) -> 0 | R12: =IF(I12=0,0,L12/I12*10) -> 0 | S12: =IF(I12=0,0,M12/I12*10) -> 0 | T12: =IF(I12=0,0,N12/I12*10) -> 0 | U12: =IF(I12=0,0,O12/I12*10) -> 0
O13: =SUM(J13:N13) -> 0 | P13: =IF(I13=0,0,J13/I13*10) -> 0 | Q13: =IF(I13=0,0,K13/I13*10) -> 0 | R13: =IF(I13=0,0,L13/I13*10) -> 0 | S13: =IF(I13=0,0,M13/I13*10) -> 0 | T13: =IF(I13=0,0,N13/I13*10) -> 0 | U13: =IF(I13=0,0,O13/I13*10) -> 0
O14: =SUM(J14:N14) -> 0 | P14: =IF(I14=0,0,J14/I14*10) -> 0 | Q14: =IF(I14=0,0,K14/I14*10) -> 0 | R14: =IF(I14=0,0,L14/I14*10) -> 0 | S14: =IF(I14=0,0,M14/I14*10) -> 0 | T14: =IF(I14=0,0,N14/I14*10) -> 0 | U14: =IF(I14=0,0,O14/I14*10) -> 0
O15: =SUM(J15:N15) -> 0 | P15: =IF(I15=0,0,J15/I15*10) -> 0 | Q15: =IF(I15=0,0,K15/I15*10) -> 0 | R15: =IF(I15=0,0,L15/I15*10) -> 0 | S15: =IF(I15=0,0,M15/I15*10) -> 0 | T15: =IF(I15=0,0,N15/I15*10) -> 0 | U15: =IF(I15=0,0,O15/I15*10) -> 0
O16: =SUM(J16:N16) -> 0 | P16: =IF(I16=0,0,J16/I16*10) -> 0 | Q16: =IF(I16=0,0,K16/I16*10) -> 0 | R16: =IF(I16=0,0,L16/I16*10) -> 0 | S16: =IF(I16=0,0,M16/I16*10) -> 0 | T16: =IF(I16=0,0,N16/I16*10) -> 0 | U16: =IF(I16=0,0,O16/I16*10) -> 0
B17: Total Bio-mass | G17: =SUM(G9:G16) -> 0 | H17: =SUM(H9:H16) -> 0 | I17: =SUM(I9:I16) -> 0 | J17: =SUM(J9:J16) -> 0 | K17: =SUM(K9:K16) -> 0 | L17: =SUM(L9:L16) -> 0 | M17: =SUM(M9:M16) -> 0 | N17: =SUM(N9:N16) -> 0 | O17: =SUM(J17:N17) -> 0 | P17: =IF(I17=0,0,J17/I17*10) -> 0 | Q17: =IF(I17=0,0,K17/I17*10) -> 0 | R17: =IF(I17=0,0,L17/I17*10) -> 0 | S17: =IF(I17=0,0,M17/I17*10) -> 0 | T17: =IF(I17=0,0,N17/I17*10) -> 0 | U17: =IF(I17=0,0,O17/I17*10) -> 0
B18: Bagasse | O18: =SUM(J18:N18) -> 0 | P18: =IF(I18=0,0,J18/I18*10) -> 0 | Q18: =IF(I18=0,0,K18/I18*10) -> 0 | R18: =IF(I18=0,0,L18/I18*10) -> 0 | S18: =IF(I18=0,0,M18/I18*10) -> 0 | T18: =IF(I18=0,0,N18/I18*10) -> 0 | U18: =IF(I18=0,0,O18/I18*10) -> 0
O19: =SUM(J19:N19) -> 0 | P19: =IF(I19=0,0,J19/I19*10) -> 0 | Q19: =IF(I19=0,0,K19/I19*10) -> 0 | R19: =IF(I19=0,0,L19/I19*10) -> 0 | S19: =IF(I19=0,0,M19/I19*10) -> 0 | T19: =IF(I19=0,0,N19/I19*10) -> 0 | U19: =IF(I19=0,0,O19/I19*10) -> 0
B20: Total Bagasse | G20: =SUM(G18:G19) -> 0 | H20: =SUM(H18:H19) -> 0 | I20: =SUM(I18:I19) -> 0 | J20: =SUM(J18:J19) -> 0 | K20: =SUM(K18:K19) -> 0 | L20: =SUM(L18:L19) -> 0 | M20: =SUM(M18:M19) -> 0 | N20: =SUM(N18:N19) -> 0 | O20: =SUM(J20:N20) -> 0 | P20: =IF(I20=0,0,J20/I20*10) -> 0 | Q20: =IF(I20=0,0,K20/I20*10) -> 0 | R20: =IF(I20=0,0,L20/I20*10) -> 0 | S20: =IF(I20=0,0,M20/I20*10) -> 0 | T20: =IF(I20=0,0,N20/I20*10) -> 0 | U20: =IF(I20=0,0,O20/I20*10) -> 0
B21: Municipal Waste to Energy | O21: =SUM(J21:N21) -> 0 | P21: =IF(I21=0,0,J21/I21*10) -> 0 | Q21: =IF(I21=0,0,K21/I21*10) -> 0 | R21: =IF(I21=0,0,L21/I21*10) -> 0 | S21: =IF(I21=0,0,M21/I21*10) -> 0 | T21: =IF(I21=0,0,N21/I21*10) -> 0 | U21: =IF(I21=0,0,O21/I21*10) -> 0
O22: =SUM(J22:N22) -> 0 | P22: =IF(I22=0,0,J22/I22*10) -> 0 | Q22: =IF(I22=0,0,K22/I22*10) -> 0 | R22: =IF(I22=0,0,L22/I22*10) -> 0 | S22: =IF(I22=0,0,M22/I22*10) -> 0 | T22: =IF(I22=0,0,N22/I22*10) -> 0 | U22: =IF(I22=0,0,O22/I22*10) -> 0
O23: =SUM(J23:N23) -> 0 | P23: =IF(I23=0,0,J23/I23*10) -> 0 | Q23: =IF(I23=0,0,K23/I23*10) -> 0 | R23: =IF(I23=0,0,L23/I23*10) -> 0 | S23: =IF(I23=0,0,M23/I23*10) -> 0 | T23: =IF(I23=0,0,N23/I23*10) -> 0 | U23: =IF(I23=0,0,O23/I23*10) -> 0
B24: Total Municipal Waste to Energy | G24: =SUM(G21:G23) -> 0 | H24: =SUM(H21:H23) -> 0 | I24: =SUM(I21:I23) -> 0 | J24: =SUM(J21:J23) -> 0 | K24: =SUM(K21:K23) -> 0 | L24: =SUM(L21:L23) -> 0 | M24: =SUM(M21:M23) -> 0 | N24: =SUM(N21:N23) -> 0 | O24: =SUM(J24:N24) -> 0 | P24: =IF(I24=0,0,J24/I24*10) -> 0 | Q24: =IF(I24=0,0,K24/I24*10) -> 0 | R24: =IF(I24=0,0,L24/I24*10) -> 0 | S24: =IF(I24=0,0,M24/I24*10) -> 0 | T24: =IF(I24=0,0,N24/I24*10) -> 0 | U24: =IF(I24=0,0,O24/I24*10) -> 0
B25: Industrial Waste based power project | O25: =SUM(J25:N25) -> 0 | P25: =IF(I25=0,0,J25/I25*10) -> 0 | Q25: =IF(I25=0,0,K25/I25*10) -> 0 | R25: =IF(I25=0,0,L25/I25*10) -> 0 | S25: =IF(I25=0,0,M25/I25*10) -> 0 | T25: =IF(I25=0,0,N25/I25*10) -> 0 | U25: =IF(I25=0,0,O25/I25*10) -> 0
B26: Total Industrial Waste | G26: =SUM(G25:G25) -> 0 | H26: =SUM(H25:H25) -> 0 | I26: =SUM(I25:I25) -> 0 | J26: =SUM(J25:J25) -> 0 | K26: =SUM(K25:K25) -> 0 | L26: =SUM(L25:L25) -> 0 | M26: =SUM(M25:M25) -> 0 | N26: =SUM(N25:N25) -> 0 | O26: =SUM(J26:N26) -> 0 | P26: =IF(I26=0,0,J26/I26*10) -> 0 | Q26: =IF(I26=0,0,K26/I26*10) -> 0 | R26: =IF(I26=0,0,L26/I26*10) -> 0 | S26: =IF(I26=0,0,M26/I26*10) -> 0 | T26: =IF(I26=0,0,N26/I26*10) -> 0 | U26: =IF(I26=0,0,O26/I26*10) -> 0
B27: Wind Power | O27: =SUM(J27:N27) -> 0 | P27: =IF(I27=0,0,J27/I27*10) -> 0 | Q27: =IF(I27=0,0,K27/I27*10) -> 0 | R27: =IF(I27=0,0,L27/I27*10) -> 0 | S27: =IF(I27=0,0,M27/I27*10) -> 0 | T27: =IF(I27=0,0,N27/I27*10) -> 0 | U27: =IF(I27=0,0,O27/I27*10) -> 0
B28: Total Wind Power | G28: =SUM(G27:G27) -> 0 | H28: =SUM(H27:H27) -> 0 | I28: =SUM(I27:I27) -> 0 | J28: =SUM(J27:J27) -> 0 | K28: =SUM(K27:K27) -> 0 | L28: =SUM(L27:L27) -> 0 | M28: =SUM(M27:M27) -> 0 | N28: =SUM(N27:N27) -> 0 | O28: =SUM(J28:N28) -> 0 | P28: =IF(I28=0,0,J28/I28*10) -> 0 | Q28: =IF(I28=0,0,K28/I28*10) -> 0 | R28: =IF(I28=0,0,L28/I28*10) -> 0 | S28: =IF(I28=0,0,M28/I28*10) -> 0 | T28: =IF(I28=0,0,N28/I28*10) -> 0 | U28: =IF(I28=0,0,O28/I28*10) -> 0
B29: Mini Hydel | O29: =SUM(J29:N29) -> 0 | P29: =IF(I29=0,0,J29/I29*10) -> 0 | Q29: =IF(I29=0,0,K29/I29*10) -> 0 | R29: =IF(I29=0,0,L29/I29*10) -> 0 | S29: =IF(I29=0,0,M29/I29*10) -> 0 | T29: =IF(I29=0,0,N29/I29*10) -> 0 | U29: =IF(I29=0,0,O29/I29*10) -> 0
