Workbook
Name \D: #REF!
Name \D: #REF!
Name \D: #REF!
Name \D: #REF!
Name \e: #REF!
Name \e: #REF!
Name \e: #REF!
Name \e: #REF!
Name \f: #REF!
Name \f: #REF!
Name \f: #REF!
Name \f: #REF!
Name \g: #REF!
Name \g: #REF!
Name \g: #REF!
Name \g: #REF!
Name \h: #REF!
Name \h: #REF!
Name \h: #REF!
Name \h: #REF!
Name \i: #REF!
Name \i: #REF!
Name \i: #REF!
Name \i: #REF!
Name \j: #REF!
Name \j: #REF!
Name \j: #REF!
Name \j: #REF!
Name \l: #REF!
Name \l: #REF!
Name \l: #REF!
Name \l: #REF!
Name \M: #REF!
Name \M: #REF!
Name \M: #REF!
Name \M: #REF!
Name \N: #REF!
Name \N: #REF!
Name \N: #REF!
Name \N: #REF!
Name \s: #REF!
Name \s: #REF!
Name \s: #REF!
Name \s: #REF!
Name \t: #REF!
Name \t: #REF!
Name \t: #REF!
Name \t: #REF!
Name \U: #REF!
Name \U: #REF!
Name \U: #REF!
Name \U: #REF!
Name \V: #REF!
Name \V: #REF!
Name \V: #REF!
Name \V: #REF!
Name \w: #REF!
Name \w: #REF!
Name \w: #REF!
Name \w: #REF!

Sheet Index
C2: Company Name | D2: APEPDCL
C3: Filing Date (dd/mm/yy) | D3: 45991
C4: Multi Year Tariff Period | D4: FY2025-29
C5: Year | D5: FY2026-27
C6: Commission' s Regulations | D6: Reg-4/2005
C7: Business type | D7: Retail Supply of Electricity
B9: S. No. | C9: Title | D9: Form No.
B12: 1 | C12: Aggregate Revenue Requirement for Retail Supply Business | D12: Form 1
B13: 2 | C13: Transmission Cost | D13: Form 1.1
B14: 3 | C14: SLDC Charges | D14: Form 1.2
B15: 4 | C15: Distribution Cost | D15: Form 1.3
B16: 5 | C16: Power Purchase and Procurement Cost (For Regulated Business) | D16: Form 1.4
B17: 6 | C17: NCE Generation (Base Year) | D17: Form 1.4 (i)
B18: 7 | C18: NCE Generation (Year 1) | D18: Form 1.4(ii)
B19: 8 | C19: NCE Generation (Year 2) | D19: Form 1.4(iii)
B20: 9 | C20: NCE Generation (Year 3) | D20: Form 1.4(iv)
B21: 10 | C21: NCE Generation (Year 4) | D21: Form 1.4(v)
B22: 11 | C22: NCE Generation (Year 5) | D22: Form 1.4(vi)
B23: 12 | C23: Power Purchase and Procurement Cost (For Non-regulated Business) | D23: Form 1.4a
... B49: 38 | C49: Cost and Revenue | D49: Form 13

Sheet Notes
A1: Index
B3: Notes:
B5: 1) | C5: Base Year | D5: Base Year for the 5th control period FY2025-29 is FY2023-24
B6: 1) | C6: FY 2024-25 | D6: Year 1 is the First Year of the control Period, FY2024-25
C7: FY 2025-26 | D7: Year 2 is the Second Year of the control Period, FY2025-26
C8: FY 2026-27 | D8: Year 3 is the Third Year of the control Period, FY2026-27
C9: FY 2027-28 | D9: Year 4 is the Fourth Year of the control Period, FY2027--28
C10: FY 2028-29 | D10: Year 5 is the Fifth year of the control Period, FY2028-29
B12: 2) | C12: Filings 2025-26, Licensees shall provide
D13: Full projections for FY2026-27
D14: Estimates for FY2025-26
B18: 3) | C18: Regulated Business: The retail supply of electricity to (i) consumers within the area of supply of the licensee and not eligible to avail Open Access as per Commission’s Regulations (ii) consumers within the area of supply of the licensee and eligible to avail Open Access but not exercising their option of availing open access.
C19: Non-regulated Business: The retail supply of electricity to consumers availing supply under open access from the licensee either forming the part of area of supply of the licensee or outside the area of supply of the licensee.
B21: 4) | C21: Direct Non-Tariff Income: Non-Tariff income which is directly identifiable with a consumer category.
C22: Apportioned Non-Tariff Income: Non-Tariff income which is not directly identifiable with a consumer category. It shall be appropriately apportioned across various consumer categories.
B24: 5) | C24: New Categories
C25: The Licensees shall add the proposed categories in Form A, the new categories would be then updated automatically in other forms
C26: The new categories are segregated voltage-wise in Form A
B28: 6) | C28: Modification/addition of Slabs/sub categories for LT consumers should be carried out in Form 7 for Current Tariff and Form 12 for Proposed Tariff.See notes in the relevant form for details
B32: 7) | C32: Phasing of Open Access as per Regulation 2 of 2005 of APERC
C34: Eligibility Criteria for Open Access
D36: Phase | E36: Eligibility criteria | F36: Commencement date
D37: 1 | E37: Consumers availing of power from NCE developers irrespective of the quantum of contracted capacity | F37: September, 2005
D38: 2 | E38: Contracted capcity being greater than 5 MW | F38: September, 2005
D39: 3 | E39: Contracted capacity being greater than 2 MW | F39: September, 2006
D40: 4 | E40: Contracted capacity being greater than 1 MW | F40: April, 2008
B42: 8) | C42: Terminology for Open Access Status
D43: 1 | E43: Load not eligible for Open Access | F43: Load within the area of supply of the licensees not satisfying the eligibility criteria to avail open access as per Commission's Regulation during the time period under consideration.
D44: 2 | E44: Load Eligible for Open Access | F44: Load within the area of supply of the licensees and satisfying the eligibility criteria to avail open access as per Commission's Regulation during the period under consideration whether availing power through Open Access or not.
D45: 3 | E45: Availed (within area of supply) | F45: Load within the area of supply of the Licensee and availing power through Open Access whether from the same Licensee or any other supplier.
D46: 4 | E46: Availed ( Outside Area of supply) | F46: Load outside the area of supply of the Licensee but availing power through Open Access from the Licensee under consideration.

Sheet 1|ARR
A1: Index sheet | J1: 2399.72
J2: 1212.35
C3: Form 1 | D3: Aggregate Revenue Requirement for Retail Supply Business
J5: Amount( In Rs crores)
C6: Revenue Requirement Item (Rs. Crs.) | E6: Details link | G6: Control Period
F7: =Notes!$C$5 -> Base Year | G7: =Notes!$C$6 -> FY 2024-25 | H7: =Notes!$C$7 -> FY 2025-26 | I7: =Notes!$C$8 -> FY 2026-27 | J7: =Notes!$C$9 -> FY 2027-28 | K7: =Notes!$C$10 -> FY 2028-29
B9: 10011 | C9: 1 | D9: Transmission Cost | E9: Form 1.1 | F9: ='1.1|Trans Cost'!O18 -> 730.86234 | G9: ='1.1|Trans Cost'!O64 -> 1133.7954 | H9: ='1.1|Trans Cost'!O93 -> 1327.5298 | I9: ='1.1|Trans Cost'!O122 -> 1458.6817
B10: 10012 | C10: 2 | D10: SLDC Cost | E10: Form 1.2 | F10: ='1.2|SLDC'!J17 -> 28.57382 | G10: ='1.2|SLDC'!J28 -> 34.285549 | H10: ='1.2|SLDC'!J39 -> 45.793925 | I10: ='1.2|SLDC'!J50 -> 48.397985
B11: 10013 | C11: 3 | D11: Net Distribution Cost - Transferred to RSB | E11: Form 1.3 | F11: ='1.3|Dist Cost'!L42 -> 2335.81 | G11: 1776.9602 | H11: 2399.72 | I11: 2765.94 | N11: Dist tariff pg no-63
B12: 10020 | C12: 4 | D12: PGCIL Expenses | F12: 569.28524 | G12: 595.02396 | H12: =H47 -> 631.90548 | I12: =I47 -> 656.10232
B13: 10021 | C13: 5 | D13: ULDC Charges | F13: 2.4610317 | G13: 2.8755357 | H13: =H46 -> 1.8640789 | I13: =I46 -> 1.8456465
B14: 10014 | C14: 6 | D14: Network and SLDC Cost (1+2+3+4+5) | F14: =SUM(F9:F13) -> 3666.9924 | G14: =SUM(G9:G13) -> 3542.9407 | H14: =SUM(H9:H13) -> 4406.8133 | I14: =SUM(I9:I13) -> 4930.9676 | J14: =SUM(J9:J13) -> 0 | K14: =SUM(K9:K13) -> 0
B15: 10015 | C15: 7 | D15: Power Purchase / Procurement Cost | E15: Form 1.4 | F15: 17145.493 | G15: 15311.726 | H15: ='1.4|PP Cost-Reg'!R228 -> 14558.972 | I15: ='1.4|PP Cost-Reg'!R294 -> 14266.284
C16: 8 | D16: Distribution Cost attributable to RSB | E16: Form 1.3 | G16: 990.54165 | H16: 1212.35 | I16: 1219.06 | N16: Dist tariff pg no-52
B17: 10016 | C17: 9 | D17: Interest on Consumer Security Deposits | E17: Form 1.5 | F17: ='1.5|Int CSD'!F13 -> 171.90863 | G17: ='1.5|Int CSD'!G13 -> 177.9536 | H17: ='1.5|Int CSD'!H13 -> 178.29469 | I17: ='1.5|Int CSD'!I13 -> 194.02284
B18: 10017 | C18: 10 | D18: Supply Margin in Retail Supply Business | E18: Form 1.6 | F18: ='1.6|Supply Margin'!F8 -> 15.35 | G18: ='1.6|Supply Margin'!G8 -> 13.8 | H18: 0 | I18: 0
B19: 10018 | C19: 11 | D19: Other Costs, if any | E19: Form 1.7 | F19: ='1.7|Other Costs'!F16 -> 27.99 | G19: ='1.7|Other Costs'!G16 -> 32.93 | H19: 31.85 | I19: 30.86
C20: 12 | D20: Additional Interest on pension bonds | F20: 481.2709 | G20: 609.27 | H20: =H45 -> 581.45922 | I20: =I45 -> 599.26262
C21: 13 | D21: Interest on working capital | F21: 0 | G21: 0 | H21: 0 | I21: 0
C22: 14 | D22: Provision for bad debts | G22: 24.798385 | H22: 44.96 | I22: 28.9
C23: 15 | D23: N-2 Year: Uncontrollable Item-Pass Through | G23: -446.95 | H23: 413.86 | I23: 1662.7238 | M23: =I23+95.55 -> 1758.2738
C24: 16 | D24: FPPCA 24-25 Adjustment * | I24: -1086.23
C25: 17 | D25: PP Cost Adjustment in RST order for FY 2025-26 # | I25: -115.26
B26: 10019 | C26: 18 | D26: Supply Cost (7+8+9+10+11+12+13+14+15+16+17) | F26: =SUM(F15:F23) -> 17842.012 | G26: =SUM(G15:G23) -> 16714.069 | H26: =SUM(H15:H23) -> 17021.745 | I26: =SUM(I15:I25) -> 16799.623 | J26: =SUM(J15:J20) -> 0 | K26: =SUM(K15:K20) -> 0
C27: 19
B28: 10003 | C28: 19 | D28: Aggregate Revenue Requirement (6+18) | F28: =F14+F26 -> 21509.005 | G28: =G14+G26 -> 20257.01 | H28: =H14+H26 -> 21428.559 | I28: =I14+I26 -> 21730.59 | J28: =J14+J26 -> 0 | K28: =K14+K26 -> 0
C30: Note:
C31: 1 | D31: The Revenue Requirement Items are cost borne for supply of power to consumers within the area of supply of the Licensees and not availing supply under Open Access.
C32: 2 | D32: Transmission Cost refers to the transmission cost borne by the licensee to serve the consumers within the area of the supply and not availing supply under Open Access
C33: 3 | D33: SLDC cost refers to the SLDC Charges paid to serve the consumers within the area of the supply and not availing supply under Open Access
C34: 4 | D34: Distribution Cost refers to the distribution cost borne by the licensee to serve the consumers within the area of the supply and not availing supply under Open Access
C35: 5 | D35: PGCIL and ULDC Expenses to be submitted in this form.
C36: 6 | D36: * - FPPCA 24-25 Adjustment as per Hon’ble APERC order dated :27-09-2025 on True-up on FPPCA for FY 2024-25 (Para No.24, Page No.71)
C37: 7 | D37: # - PP Cost Adjustment in RST order for FY 2025-26 as per Hon’ble APERC order dated :19-03-2025 in the corrigendum to the Tariff Order for FY 2025-26
H41: FY2025-26 | I41: FY2026-27
D42: Energy Drawal Rations | H42: 37.408753 | I42: 37.038847
D43: Aptransco Transmission charges | H43: 1327.5298 | I43: 1458.6817
D44: SLDC Charges (Including Annual Fee) | H44: 45.793925 | I44: 48.398239
D45: Add. Interest on Pension Bonds (Estimated for the total year) | H45: 581.45922 | I45: 599.26262
D46: ULDC Charges | H46: 1.8640789 | I46: 1.8456465
...

Sheet 1.1|Trans Cost
A1: Index sheet
C3: Form 1.1 | D3: Transmission Cost
C5: Transmission Cost to be segregated between Load not eligible for Open Access, Load eligible for Open Access, Load within the area of supply and availing power under Open Access as per Section 42 and 49 of E ACT.(Refer to Notes for the relevant definitions.)
C6: 1) Loads Eligible for Open Access is as per Section 8.1 of Regulation 2 of 2005 of APERC See Notes Sheet for Phasing of Open Access in the state of Andhra Pradesh. 2) Provide PGCIL and ULDC charges directly in Form 1.
A8: 2023-24 | C8: =Notes!$C$5 -> Base Year
C9: (A) Long Term and Firm Contracts
C11: Name of Transmission service provider | D11: Load not eligible for Open Access | G11: Open Access | P11: Remarks
G12: Load Eligible for Open Access | J12: Availed (within area of supply) | M12: Availed ( Outside Area of supply)
D13: MW | E13: Tariff (Rs./kW/ month) | F13: Cost (Rs. Crs.) | G13: MW | H13: Tariff (Rs./kW/ month) | I13: Cost (Rs. Crs.) | J13: MW | K13: Tariff (Rs./kW/ month) | L13: Cost (Rs. Crs.) | M13: MW | N13: Tariff (Rs./kW/ month) | O13: Cost (Rs. Crs.)
B14: 1005 | C14: APTRANSCO | D14: =5149-G14 -> 4186.977 | E14: 188.38 | F14: =D14*1000*E14*12/10^7 -> 946.49127 | G14: 962.023 | H14: 188.38 | I14: =G14*1000*H14*12/10^7 -> 217.47107 | O14: =F14+I14 -> 1163.9623
C15: Cost adjusted | O15: -433.1
C18: Total | D18: =SUM(D14:D17) -> 4186.977 | E18: =E14 -> 188.38 | F18: =SUM(F14:F17) -> 946.49127 | G18: =SUM(G14:G17) -> 962.023 | H18: =H14 -> 188.38 | I18: =SUM(I14:I17) -> 217.47107 | J18: =SUM(J14:J17) -> 0 | K18: =K14 -> 0 | L18: =SUM(L14:L17) -> 0 | M18: =SUM(M14:M17) -> 0 | N18: =N14 -> 0 | O18: =SUM(O14:O17) -> 730.86234
C19: (B) Short Term and Temporary Contracts
C20: Name of Transmission service provider | D20: Load not eligible for Open Access | G20: Open Access | P20: Remarks
G21: Load Eligible for Open Access | J21: Availed (within area of supply) | M21: Availed ( Outside Area of supply)
D22: MW | E22: Tariff (Rs./kW/ month) | F22: Cost (Rs. Crs.) | G22: MW | H22: Tariff (Rs./kW/ month) | I22: Cost (Rs. Crs.) | J22: MW | K22: Tariff (Rs./kW/ month) | L22: Cost (Rs. Crs.) | M22: MW | N22: Tariff (Rs./kW/ month) | O22: Cost (Rs. Crs.)
B23: 1005 | C23: APTRANSCO
D25: =SUM(B25:C25) -> 0
D26: =SUM(B26:C26) -> 0
D27: =SUM(B27:C27) -> 0
D28: =SUM(B28:C28) -> 0
D29: =SUM(B29:C29) -> 0
D30: =SUM(B30:C30) -> 0
D31: =SUM(B31:C31) -> 0
D32: =SUM(B32:C32) -> 0
C33: Total | D33: =SUM(D23:D32) -> 0 | F33: =SUM(F23:F32) -> 0 | G33: =SUM(G23:G32) -> 0 | I33: =SUM(I23:I32) -> 0 | J33: =SUM(J23:J32) -> 0 | L33: =SUM(L23:L32) -> 0 | M33: =SUM(M23:M32) -> 0 | O33: =SUM(O23:O32) -> 0
C35: Total Long term + Short term Contracts ((A) + (B)) | D35: =D18+D33 -> 4186.977 | F35: =SUM(F18,F33) -> 946.49127 | G35: =SUM(G18,G33) -> 962.023 | I35: =SUM(I18,I33) -> 217.47107 | J35: =SUM(J18,J33) -> 0 | L35: =SUM(L18,L33) -> 0 | M35: =SUM(M18,M33) -> 0 | O35: =SUM(O18,O33) -> 730.86234
C37: =Notes!$C$6 -> FY 2024-25 | D37: Year 1
C38: (A) Long Term and Firm Contracts
C40: Name of Transmission service provider | D40: Load not eligible for Open Access | G40: Open Access | P40: Remarks
G41: Load Eligible for Open Access | J41: Availed (within area of supply) | M41: Availed ( Outside Area of supply)
D42: MW | E42: Tariff (Rs./kW/ month) | F42: Cost (Rs. Crs.) | G42: MW | H42: Tariff (Rs./kW/ month) | I42: Cost (Rs. Crs.) | J42: MW | K42: Tariff (Rs./kW/ month) | L42: Cost (Rs. Crs.) | M42: MW | N42: Tariff (Rs./kW/ month) | O42: Cost (Rs. Crs.)
B43: 1005 | C43: APTRANSCO | D43: =((14610-355)*S44%)-G43 -> 4238.305 | E43: 180.83 | F43: =D43*1000*E43*12/10^7 -> 919.69523 | G43: 1137.284 | H43: =E43 -> 180.83 | I43: =G43*1000*H43*12/10^7 -> 246.78608 | O43: =F43+I43 -> 1166.4813 | T43: 1133.7954
O44: -32.685904 | S44: 37.7102 | T44: =O43-T43 -> 32.685904
C47: Total | D47: =SUM(D43:D46) -> 4238.305 | E47: =E43 -> 180.83 | F47: =SUM(F43:F46) -> 919.69523 | G47: =SUM(G43:G46) -> 1137.284 | H47: =H43 -> 180.83 | I47: =SUM(I43:I46) -> 246.78608 | J47: =SUM(J43:J46) -> 0 | L47: =SUM(L43:L46) -> 0 | M47: =SUM(M43:M46) -> 0 | O47: =SUM(O43:O46) -> 1133.7954
C48: (B) Short Term and Temporary Contracts
C49: Name of Transmission service provider | D49: Load not eligible for Open Access | G49: Open Access | P49: Remarks
G50: Load Eligible for Open Access | J50: Availed (within area of supply) | M50: Availed ( Outside Area of supply)
D51: MW | E51: Tariff (Rs./kW/ month) | F51: Cost (Rs. Crs.) | G51: MW | H51: Tariff (Rs./kW/ month) | I51: Cost (Rs. Crs.) | J51: MW | K51: Tariff (Rs./kW/ month) | L51: Cost (Rs. Crs.) | M51: MW | N51: Tariff (Rs./kW/ month) | O51: Cost (Rs. Crs.)
B52: 1005 | C52: APTRANSCO
...

Sheet 1.2|SLDC
A1: Index sheet
C3: Form 1.2 | D3: SLDC Charges
C5: SLDC Charges to be segregated between Load not eligible for Open Access, Load eligible for Open Access, Load within the area of supply and availing power under Open Access as per Section 42 and 49 of E ACT.(Refer to Notes for the relevant definitions.)
C6: Loads Eligible for Open Access is as per Section 8.1 of Regulation 2 of 2005 of APERC See Notes Sheet for Phasing of Open Access in the state of Andhra Pradesh.
C8: =Notes!$C$5 -> Base Year
D9: Annual Fee | G9: Charges | J9: Total Cost (Rs. Crs.) | K9: Remarks
D10: MW | E10: Tariff (Rs./MW/year) | F10: Cost (Rs. Crs.) | G10: MW | H10: Tariff (Rs./MW/ month) | I10: Cost (Rs. Crs.) | J10: Total Cost (Rs. Crs.)
B11: 1001 | C11: Load not eligible for Open Access | D11: =8289-D13 -> 7326.977 | E11: 6382.27 | F11: =D11*E11/10^7 -> 4.6762745 | G11: =D11 -> 7326.977 | H11: 2235.65 | I11: =G11*H11*12/10^7 -> 19.656667 | J11: =SUM(F11,I11) -> 24.332942
C12: Open Access
B13: 1002 | C13: Load Eligible for Open Access | D13: ='1.1|Trans Cost'!G14 -> 962.023 | E13: =E11 -> 6382.27 | F13: =D13*E13/10^7 -> 0.61398905 | G13: =D13 -> 962.023 | H13: =H11 -> 2235.65 | I13: =G13*H13*12/10^7 -> 2.5808961 | J13: =SUM(F13,I13) -> 3.1948851
B14: 1003 | C14: Availed (within area of supply) | F14: =D14*E14/10^7 -> 0 | I14: =G14*H14*12/10^7 -> 0 | J14: =SUM(F14,I14) -> 0 | N14: =19*55 -> 1045
B15: 1004 | C15: Availed ( Outside Area of supply) | F15: =D15*E15/10^7 -> 0 | J15: =SUM(F15,I15) -> 0
C16: Cost adjusted | J16: 1.045993 | M16: =O16-N16 -> 1.045993 | N16: =J11+J13+J14+J15 -> 27.527827 | O16: 28.57382
C17: Total | J17: =SUM(J11:J16) -> 28.57382 | N17: ='1|ARR'!F10-'1.2|SLDC'!N16 -> 1.045993
N18: 1.045994
A19: Year 1 | C19: =Notes!$C$6 -> FY 2024-25
D20: Annual Fee | G20: Charges | J20: Total Cost (Rs. Crs.) | K20: Remarks
D21: MW | E21: Tariff (Rs./MW/year) | F21: Cost (Rs. Crs.) | G21: MW | H21: Tariff (Rs./MW/ month) | I21: Cost (Rs. Crs.) | J21: Total Cost (Rs. Crs.)
B22: 1001 | C22: Load not eligible for Open Access | D22: =((23876-355)*38.2803%)-D24 -> 7866.6254 | E22: 14245 | F22: =D22*E22/10^7 -> 11.206008 | G22: =D22 -> 7866.6254 | H22: 2379.33 | I22: =G22*H22*12/10^7 -> 22.460757 | J22: =SUM(F22,I22) -> 33.666765
C23: Open Access
B24: 1002 | C24: Load Eligible for Open Access | D24: ='1.1|Trans Cost'!G43 -> 1137.284 | E24: =E22 -> 14245 | F24: =D24*E24/10^7 -> 1.6200611 | G24: =D24 -> 1137.284 | H24: =H22 -> 2379.33 | I24: =G24*H24*12/10^7 -> 3.2471687 | J24: =SUM(F24,I24) -> 4.8672298
B25: 1003 | C25: Availed (within area of supply) | F25: =D25*E25/10^7 -> 0 | I25: =G25*H25*12/10^7 -> 0 | J25: =SUM(F25,I25) -> 0
B26: 1004 | C26: Availed ( Outside Area of supply) | F26: =D26*E26/10^7 -> 0 | I26: =G26*H26*12/10^7 -> 0 | J26: =SUM(F26,I26) -> 0
C27: Cost adjusted | J27: -4.248446
C28: Total | J28: =SUM(J22:J27) -> 34.285549
A30: Year 2 | C30: =Notes!$C$7 -> FY 2025-26
D31: Annual Fee | G31: Charges | J31: Total Cost (Rs. Crs.) | K31: Remarks
D32: MW | E32: Tariff (Rs./MW/year) | F32: Cost (Rs. Crs.) | G32: MW | H32: Tariff (Rs./MW/ month) | I32: Cost (Rs. Crs.) | J32: Total Cost (Rs. Crs.) | N32: ='1.1|Trans Cost'!S71 -> 0.37408753 | O32: Table no-3.2 from SLDC T.O | P32: 26499 | Q32: ='1|ARR'!H44 -> 45.793925 | R32: as per APPCC
B33: 1001 | C33: Load not eligible for Open Access | D33: =((26499-376)*N32)-D35 -> 8521.2762 | E33: 17634 | F33: =D33*E33/10^7 -> 15.026419 | G33: =D33 -> 8521.2762 | H33: 2435.6 | I33: =G33*H33*12/10^7 -> 24.905304 | J33: =SUM(F33,I33) -> 39.931723 | O33: OA | P33: 376 | Q33: =Q32-J39 -> 0 | R33: diff
C34: Open Access
B35: 1002 | C35: Load Eligible for Open Access | D35: ='1.1|Trans Cost'!G72 -> 1251.0124 | E35: =E33 -> 17634 | F35: =D35*E35/10^7 -> 2.2060353 | G35: =D35 -> 1251.0124 | H35: =H33 -> 2435.6 | I35: =G35*H35*12/10^7 -> 3.656359 | J35: =SUM(F35,I35) -> 5.8623942
B36: 1003 | C36: Availed (within area of supply) | F36: =D36*E36/10^7 -> 0 | I36: =G36*H36*12/10^7 -> 0 | J36: =SUM(F36,I36) -> 0
B37: 1004 | C37: Availed ( Outside Area of supply) | F37: =D37*E37/10^7 -> 0 | I37: =G37*H37*12/10^7 -> 0 | J37: =SUM(F37,I37) -> 0
C38: Cost adjusted | J38: -0.00019181712
C39: Total | J39: =SUM(J33:J38) -> 45.793925
A41: Year 2 | C41: =Notes!$C$8 -> FY 2026-27
D42: Annual Fee | G42: Charges | J42: Total Cost (Rs. Crs.) | K42: Remarks
D43: MW | E43: Tariff (Rs./MW/year) | F43: Cost (Rs. Crs.) | G43: MW | H43: Tariff (Rs./MW/ month) | I43: Cost (Rs. Crs.) | J43: Total Cost (Rs. Crs.) | N43: ='1|ARR'!I42/100 -> 0.37038847 | O43: Table no-3.2 from SLDC T.O | P43: 27507 | Q43: ='1|ARR'!I44 -> 48.398239 | R43: as per APPCC
B44: 1001 | C44: Load not eligible for Open Access | D44: =((27507-400)*N43)-D46 -> 8664.0066 | E44: 18618 | F44: =D44*E44/10^7 -> 16.130648 | G44: =D44 -> 8664.0066 | H44: 2465.57 | I44: =G44*H44*12/10^7 -> 25.634058 | J44: =SUM(F44,I44) -> 41.764705 | O44: OA | P44: 400 | Q44: =Q43-J50 -> 0.00025433452 | R44: diff
C45: Open Access
...

Sheet 1.3|Dist Cost
A1: Index sheet
C3: Form 1.3 | D3: Distribution Cost
C5: Distribution Cost to be segregated between Load not eligible for Open Access, Load eligible for Open Access, Load within the area of supply and availing power under Open Access as per Section 42 and 49 of E ACT.(Refer to Notes for the relevant definitions.)
C6: Loads Eligible for Open Access is as per Section 8.1 of Regulation 2 of 2005 of APERC See Notes Sheet for Phasing of Open Access in the state of Andhra Pradesh.
C8: =Notes!$C$5 -> Base Year
C10: (A) Long Term and Firm Contracts
C12: Name of Distribution service provider | D12: Load not eligible for Open Access | G12: Open Access | P12: Remarks
G13: Load Eligible for Open Access | J13: Availed (within area of supply) | M13: Availed ( Outside Area of supply)
D14: MW | E14: Tariff (Rs./kW/month) | F14: Cost (Rs. Crs.) | G14: MW | H14: Tariff (Rs./kW/month) | I14: Cost (Rs. Crs.) | J14: MW | K14: Tariff (Rs./kW/month) | L14: Cost (Rs. Crs.) | M14: MW | N14: Tariff (Rs./kW/month) | O14: Cost (Rs. Crs.)
C15: EPDCL ( 33 KV) | D15: =1025-G15 -> 197.26 | E15: 61.92 | F15: =D15*E15*12*1000/10^7 -> 14.657207 | G15: 827.74 | H15: =E15 -> 61.92 | I15: =G15*H15*12*1000/10^7 -> 61.504393 | L15: =F15+I15 -> 76.1616 | U15: 841.97
C16: EPDCL ( 11 KV) | D16: =1309-G16 -> 1174.71 | E16: 489.07 | F16: =D16*E16*12*1000/10^7 -> 689.4185 | G16: 134.29 | H16: =E16 -> 489.07 | I16: =G16*H16*12*1000/10^7 -> 78.812652 | L16: =F16+I16 -> 768.23116 | U16: 135.49
C17: EPDCL LT | D17: 2497 | E17: 836.76 | F17: =D17*E17*12*1000/10^7 -> 2507.2677 | L17: =F17+I17 -> 2507.2677
C18: Total ( Non Eligible OA Cost)
C19: Adjusted | L19: -1015.8504
C25: Total | D25: =SUM(D15:D24) -> 3868.97 | F25: =SUM(F15:F24) -> 3211.3434 | G25: =SUM(G15:G24) -> 962.03 | I25: =SUM(I15:I24) -> 140.31705 | J25: =SUM(J15:J24) -> 0 | L25: =SUM(L15:L24) -> 2335.81 | M25: =SUM(M15:M24) -> 0 | O25: =SUM(O15:O24) -> 0
C26: (B) Short Term and Temporary Contracts
C27: Name of Distribution service provider | D27: Load not eligible for Open Access | G27: Open Access | P27: Remarks
G28: Load Eligible for Open Access | J28: Availed (within area of supply) | M28: Availed ( Outside Area of supply)
D29: MW | E29: Tariff (Rs./kW/month) | F29: Cost (Rs. Crs.) | G29: MW | H29: Tariff (Rs./kW/month) | I29: Cost (Rs. Crs.) | J29: MW | K29: Tariff (Rs./kW/month) | L29: Cost (Rs. Crs.) | M29: MW | N29: Tariff (Rs./kW/month) | O29: Cost (Rs. Crs.)
C40: Total | D40: =SUM(D30:D39) -> 0 | F40: =SUM(F30:F39) -> 0 | G40: =SUM(G30:G39) -> 0 | I40: =SUM(I30:I39) -> 0 | J40: =SUM(J30:J39) -> 0 | L40: =SUM(L30:L39) -> 0 | M40: =SUM(M30:M39) -> 0 | O40: =SUM(O30:O39) -> 0
C42: Total Long term + Short term Contracts ((A) + (B)) | D42: =SUM(D25,D40) -> 3868.97 | F42: =SUM(F25,F40) -> 3211.3434 | G42: =SUM(G25,G40) -> 962.03 | I42: =SUM(I25,I40) -> 140.31705 | J42: =SUM(J25,J40) -> 0 | L42: =SUM(L25,L40) -> 2335.81 | M42: =SUM(M25,M40) -> 0 | O42: =SUM(O25,O40) -> 0
A45: Yr 1 | C45: =Notes!$C$6 -> FY 2024-25
C46: (A) Long Term and Firm Contracts
C48: Name of Distribution service provider | D48: Load not eligible for Open Access | G48: Open Access | P48: Remarks
G49: Load Eligible for Open Access | J49: Availed (within area of supply) | M49: Availed ( Outside Area of supply)
D50: MU | E50: Tariff (Rs./kWh) | F50: Cost (Rs. Crs.) | G50: MU | H50: Tariff (Rs./kWh) | I50: Cost (Rs. Crs.) | J50: MU | K50: Tariff (Rs./kWh) | L50: Cost (Rs. Crs.) | M50: MU | N50: Tariff (Rs./kWh) | O50: Cost (Rs. Crs.)
C51: EPDCL ( 33 KV) | D51: 0 | F51: =D51*E51*12*1000/10^7 -> 0 | H51: =E51 -> 0 | I51: =G51*H51*12*1000/10^7 -> 0 | L51: =F51+I51 -> 0 | T51: ='1|ARR'!G11 -> 1776.9602
C52: EPDCL ( 11 KV) | F52: =D52*E52*12*1000/10^7 -> 0 | H52: =E52 -> 0 | I52: =G52*H52*12*1000/10^7 -> 0 | L52: =F52+I52 -> 0 | T52: ='1|ARR'!G16 -> 990.54165
C53: EPDCL LT | F53: =D53*E53*12*1000/10^7 -> 0 | L53: =F53+I53 -> 0 | T53: =SUM(T51:T52) -> 2767.5019
C54: Total ( Non Eligible OA Cost) | T54: =L57-T53 -> 0
C55: Adjusted
C57: Total | D57: =SUM(D47:D56) -> 0 | F57: =SUM(F47:F56) -> 0 | G57: =SUM(G51:G56) -> 0 | I57: =SUM(I51:I56) -> 0 | J57: =SUM(J51:J56) -> 0 | L57: 2767.5019 | M57: =SUM(M51:M56) -> 0 | O57: =SUM(O51:O56) -> 0
C58: (B) Short Term and Temporary Contracts
C59: Name of Distribution service provider | D59: Load not eligible for Open Access | G59: Open Access | P59: Remarks
G60: Load Eligible for Open Access | J60: Availed (within area of supply) | M60: Availed ( Outside Area of supply)
D61: MU | E61: Tariff (Rs./kWh) | F61: Cost (Rs. Crs.) | G61: MU | H61: Tariff (Rs./kWh) | I61: Cost (Rs. Crs.) | J61: MU | K61: Tariff (Rs./kWh) | L61: Cost (Rs. Crs.) | M61: MU | N61: Tariff (Rs./kWh) | O61: Cost (Rs. Crs.)
C63: Total
C65: Total Long term + Short term Contracts ((A) + (B)) | D65: =SUM(D57,D63) -> 0 | F65: =SUM(F57,F63) -> 0 | G65: =SUM(G57,G63) -> 0 | I65: =SUM(I57,I63) -> 0 | J65: =SUM(J57,J63) -> 0 | L65: =SUM(L57,L63) -> 2767.5019 | M65: =SUM(M57,M63) -> 0 | O65: =SUM(O57,O63) -> 0
A68: Yr 2 | C68: =Notes!$C$7 -> FY 2025-26
C69: (A) Long Term and Firm Contracts
...

Sheet 1.4|PP Cost-Reg
AM1: 1
AM2: 2
C3: Form 1.4 | D3: Power Purchase and Procurement Cost (For Regulated Business#)
C5: #Refer to Notes for the definition
C8: Form 1.4 (FY 2023-24) | D8: Power Purchase and Procurement Cost (For Regulated Business#)
C9: Generating Station | D9: D Link | E9: Plant Type Must Run = 1 Others = 2 | F9: Plant Capacity | G9: DISCOM's share | H9: DISCOM's share | I9: Aux. Consumption | J9: Availability and Dispatch (MU) | M9: Cost (Rs. Crs.) | S9: Unit Cost (Rs. / kWh) | AM9: Remarks
F10: (MW) | G10: (%) | H10: (MW) | I10: (%) | J10: Gross Availability(MU) | K10: Net Availability | L10: Dispatch | M10: Fixed | N10: Variable | O10: Incentive | P10: Income Tax | Q10: Others | R10: Total | S10: Fixed | T10: Incentives | U10: Income Tax | V10: Others | W10: Variable | X10: Total
C11: Apgenco-Thermal
C12: Dr. NTTPS | F12: 1260 | G12: 0.3765 | H12: 1260 | I12: 0.09 | K12: 2833.7651 | L12: 2694.536 | M12: 257.05034 | N12: 1161.2859 | O12: 0 | P12: 0 | Q12: 0 | R12: =SUM(M12:Q12) -> 1418.3362 | S12: =IFERROR(M12/L12*10,0) -> 0.95396885 | T12: =IFERROR(O12/L12*10,0) -> 0 | U12: =IFERROR(P12/L12*10,0) -> 0 | V12: =IFERROR(Q12/L12*10,0) -> 0 | W12: =IFERROR(N12/L12*10,0) -> 4.3097806 | X12: =IF(L12=0,0,R12/L12*10) -> 5.2637495
C13: Dr. NTTPS-IV | F13: 500 | G13: 0.3765 | H13: 500 | I13: 0.075 | K13: 1271.7119 | L13: 1191.3543 | M13: 108.70194 | N13: 477.71366 | O13: 0 | P13: 0 | Q13: 0 | R13: =SUM(M13:Q13) -> 586.4156 | S13: =IFERROR(M13/L13*10,0) -> 0.91242329 | T13: =IFERROR(O13/L13*10,0) -> 0 | U13: =IFERROR(P13/L13*10,0) -> 0 | V13: =IFERROR(Q13/L13*10,0) -> 0 | W13: =IFERROR(N13/L13*10,0) -> 4.0098371 | X13: =IF(L13=0,0,R13/L13*10) -> 4.9222603
C14: Dr. NTTPS-V | F14: 800 | G14: 0.3765 | H14: 800 | I14: 0.0575 | K14: 239.99776 | L14: 355.88185 | M14: 29.860582 | N14: 146.91443 | O14: 0 | P14: 0 | Q14: 0 | R14: =SUM(M14:Q14) -> 176.77502 | S14: =IFERROR(M14/L14*10,0) -> 0.83905886 | T14: =IFERROR(O14/L14*10,0) -> 0 | U14: =IFERROR(P14/L14*10,0) -> 0 | V14: =IFERROR(Q14/L14*10,0) -> 0 | W14: =IFERROR(N14/L14*10,0) -> 4.12818 | X14: =IF(L14=0,0,R14/L14*10) -> 4.9672389
C15: RTPP Stage-I | F15: 420 | G15: 0.3765 | H15: 420 | I15: 0.09 | K15: 928.93135 | L15: 883.3921 | M15: 94.860369 | N15: 390.45961 | O15: 0 | P15: 0 | Q15: 0 | R15: =SUM(M15:Q15) -> 485.31998 | S15: =IFERROR(M15/L15*10,0) -> 1.0738195 | T15: =IFERROR(O15/L15*10,0) -> 0 | U15: =IFERROR(P15/L15*10,0) -> 0 | V15: =IFERROR(Q15/L15*10,0) -> 0 | W15: =IFERROR(N15/L15*10,0) -> 4.4200034 | X15: =IF(L15=0,0,R15/L15*10) -> 5.493823
A16: 10001 | C16: RTPP Stage-II | F16: 420 | G16: 0.3765 | H16: 420 | I16: 0.09 | K16: 1093.385 | L16: 988.39515 | M16: 101.35143 | N16: 435.70351 | O16: 0 | P16: 0 | Q16: 0 | R16: =SUM(M16:Q16) -> 537.05494 | S16: =IFERROR(M16/L16*10,0) -> 1.025414 | T16: =IFERROR(O16/L16*10,0) -> 0 | U16: =IFERROR(P16/L16*10,0) -> 0 | V16: =IFERROR(Q16/L16*10,0) -> 0 | W16: =IFERROR(N16/L16*10,0) -> 4.4081915 | X16: =IF(L16=0,0,R16/L16*10) -> 5.4336056
C17: RTPP Stage-III | F17: 210 | G17: 0.3765 | H17: 210 | I17: 0.09 | K17: 486.9766 | L17: 446.35542 | M17: 62.441292 | N17: 196.55871 | O17: 0 | P17: 0 | Q17: 0 | R17: =SUM(M17:Q17) -> 259 | S17: =IFERROR(M17/L17*10,0) -> 1.3989142 | T17: =IFERROR(O17/L17*10,0) -> 0 | U17: =IFERROR(P17/L17*10,0) -> 0 | V17: =IFERROR(Q17/L17*10,0) -> 0 | W17: =IFERROR(N17/L17*10,0) -> 4.4036366 | X17: =IF(L17=0,0,R17/L17*10) -> 5.8025508
C18: RTPP Stage-IV | F18: 600 | G18: 0.3765 | H18: 600 | I18: 0.0575 | K18: 1332.4593 | L18: 1234.3937 | M18: 232.81362 | N18: 513.22773 | O18: 0 | P18: 0 | Q18: -0.51580458 | R18: =SUM(M18:Q18) -> 745.52554 | S18: =IFERROR(M18/L18*10,0) -> 1.8860565 | T18: =IFERROR(O18/L18*10,0) -> 0 | U18: =IFERROR(P18/L18*10,0) -> 0 | V18: =IFERROR(Q18/L18*10,0) -> -0.0041786068 | W18: =IFERROR(N18/L18*10,0) -> 4.1577314 | X18: =IF(L18=0,0,R18/L18*10) -> 6.0396092
C19: GENCO THERMAL TOTAL | F19: =SUM(F12:F18) -> 4210 | K19: =SUM(K12:K18) -> 8187.2271 | L19: =SUM(L12:L18) -> 7794.3085 | M19: =SUM(M12:M18) -> 887.07957 | N19: =SUM(N12:N18) -> 3321.8636 | O19: =SUM(O12:O18) -> 0 | P19: =SUM(P12:P18) -> 0 | Q19: =SUM(Q12:Q18) -> -0.51580458 | R19: =SUM(R12:R18) -> 4208.4273 | S19: =IFERROR(M19/L19*10,0) -> 1.138112 | T19: =IFERROR(O19/L19*10,0) -> 0 | U19: =IFERROR(P19/L19*10,0) -> 0 | V19: =IFERROR(Q19/L19*10,0) -> -0.00066177081 | W19: =IFERROR(N19/L19*10,0) -> 4.2619093 | X19: =IF(L19=0,0,R19/L19*10) -> 5.3993594
C20: Srisailam RCPH | F20: 770 | G20: 0.3765 | K20: 0 | L20: 1.2016418 | M20: 87.185435 | N20: 0 | O20: 0 | P20: 0 | Q20: 0 | R20: =SUM(M20:Q20) -> 87.185435 | S20: =IFERROR(M20/L20*10,0) -> 725.55264 | T20: =IFERROR(O20/L20*10,0) -> 0 | U20: =IFERROR(P20/L20*10,0) -> 0 | V20: =IFERROR(Q20/L20*10,0) -> 0 | W20: =IFERROR(N20/L20*10,0) -> 0 | X20: =IF(L20=0,0,R20/L20*10) -> 725.55264
C21: NSRCPH | F21: 90 | G21: 0.3765 | K21: 0 | L21: -0.099804729 | M21: 10.01556 | N21: 0 | O21: 0 | P21: 0 | Q21: 0 | R21: =SUM(M21:Q21) -> 10.01556 | S21: =IFERROR(M21/L21*10,0) -> -1003.5156 | T21: =IFERROR(O21/L21*10,0) -> 0 | U21: =IFERROR(P21/L21*10,0) -> 0 | V21: =IFERROR(Q21/L21*10,0) -> 0 | W21: =IFERROR(N21/L21*10,0) -> 0 | X21: =IF(L21=0,0,R21/L21*10) -> -1003.5156
C22: NSTPDC PH | F22: 50 | G22: 0.3765 | K22: 0 | L22: -0.14845203 | M22: 18.61592 | N22: 0 | O22: 0 | P22: 0 | Q22: 0 | R22: =SUM(M22:Q22) -> 18.61592 | S22: =IFERROR(M22/L22*10,0) -> -1254.0024 | T22: =IFERROR(O22/L22*10,0) -> 0 | U22: =IFERROR(P22/L22*10,0) -> 0 | V22: =IFERROR(Q22/L22*10,0) -> 0 | W22: =IFERROR(N22/L22*10,0) -> 0 | X22: =IF(L22=0,0,R22/L22*10) -> -1254.0024
C23: Upper Sileru | F23: 240 | G23: 0.3765 | K23: 0 | L23: 132.31178 | M23: 31.368254 | N23: 0 | O23: 0 | P23: 0 | Q23: 0 | R23: =SUM(M23:Q23) -> 31.368254 | S23: =IFERROR(M23/L23*10,0) -> 2.3707832 | T23: =IFERROR(O23/L23*10,0) -> 0 | U23: =IFERROR(P23/L23*10,0) -> 0 | V23: =IFERROR(Q23/L23*10,0) -> 0 | W23: =IFERROR(N23/L23*10,0) -> 0 | X23: =IF(L23=0,0,R23/L23*10) -> 2.3707832
C24: Lower Sileru | F24: 460 | G24: 0.3765 | K24: 0 | L24: 371.15938 | M24: 60.122487 | N24: 0 | O24: 0 | P24: 0 | Q24: 0 | R24: =SUM(M24:Q24) -> 60.122487 | S24: =IFERROR(M24/L24*10,0) -> 1.6198563 | T24: =IFERROR(O24/L24*10,0) -> 0 | U24: =IFERROR(P24/L24*10,0) -> 0 | V24: =IFERROR(Q24/L24*10,0) -> 0 | W24: =IFERROR(N24/L24*10,0) -> 0 | X24: =IF(L24=0,0,R24/L24*10) -> 1.6198563
C25: Donkarayi | F25: 25 | G25: 0.3765 | K25: 0 | L25: 28.647769 | M25: 3.2675266 | N25: 0 | O25: 0 | P25: 0 | Q25: 0 | R25: =SUM(M25:Q25) -> 3.2675266 | S25: =IFERROR(M25/L25*10,0) -> 1.1405867 | T25: =IFERROR(O25/L25*10,0) -> 0 | U25: =IFERROR(P25/L25*10,0) -> 0 | V25: =IFERROR(Q25/L25*10,0) -> 0 | W25: =IFERROR(N25/L25*10,0) -> 0 | X25: =IF(L25=0,0,R25/L25*10) -> 1.1405867
C26: PABM | F26: 20 | G26: 0.3765 | K26: 0 | L26: -0.10777639 | M26: 5.1865622 | N26: 0 | O26: 0 | P26: 0 | Q26: 0 | R26: =SUM(M26:Q26) -> 5.1865622 | S26: =IFERROR(M26/L26*10,0) -> -481.23363 | T26: =IFERROR(O26/L26*10,0) -> 0 | U26: =IFERROR(P26/L26*10,0) -> 0 | V26: =IFERROR(Q26/L26*10,0) -> 0 | W26: =IFERROR(N26/L26*10,0) -> 0 | X26: =IF(L26=0,0,R26/L26*10) -> -481.23363
C27: Minihydel(Chettipet) | F27: 1 | G27: 0.3765 | K27: 0 | L27: 1.2317964 | M27: 0.70760077 | N27: 0 | O27: 0 | P27: 0 | Q27: 0 | R27: =SUM(M27:Q27) -> 0.70760077 | S27: =IFERROR(M27/L27*10,0) -> 5.7444621 | T27: =IFERROR(O27/L27*10,0) -> 0 | U27: =IFERROR(P27/L27*10,0) -> 0 | V27: =IFERROR(Q27/L27*10,0) -> 0 | W27: =IFERROR(N27/L27*10,0) -> 0 | X27: =IF(L27=0,0,R27/L27*10) -> 5.7444621
C28: Machkund AP Share | F28: 60 | G28: 0.3765 | K28: 0 | L28: 168.93428 | M28: 15.151662 | N28: 0 | O28: 0 | P28: 0 | Q28: 0 | R28: =SUM(M28:Q28) -> 15.151662 | S28: =IFERROR(M28/L28*10,0) -> 0.89689682 | T28: =IFERROR(O28/L28*10,0) -> 0 | U28: =IFERROR(P28/L28*10,0) -> 0 | V28: =IFERROR(Q28/L28*10,0) -> 0 | W28: =IFERROR(N28/L28*10,0) -> 0 | X28: =IF(L28=0,0,R28/L28*10) -> 0.89689682
C29: TB Dam AP Share | F29: 57.6 | G29: 0.3765 | K29: 0 | L29: 30.129212 | M29: 10.389711 | N29: 0 | O29: 0 | P29: 0 | Q29: 0 | R29: =SUM(M29:Q29) -> 10.389711 | S29: =IFERROR(M29/L29*10,0) -> 3.4483846 | T29: =IFERROR(O29/L29*10,0) -> 0 | U29: =IFERROR(P29/L29*10,0) -> 0 | V29: =IFERROR(Q29/L29*10,0) -> 0 | W29: =IFERROR(N29/L29*10,0) -> 0 | X29: =IF(L29=0,0,R29/L29*10) -> 3.4483846
C30: GENCO HYDEL(INCLUDING INTERSTATE)TOTAL | F30: =SUM(F20:F29) -> 1773.6 | K30: =SUM(K20:K29) -> 0 | L30: =SUM(L20:L29) -> 733.25983 | M30: =SUM(M20:M29) -> 242.01072 | N30: =SUM(N20:N29) -> 0 | O30: =SUM(O20:O29) -> 0 | P30: =SUM(P20:P29) -> 0 | Q30: =SUM(Q20:Q29) -> 0 | R30: =SUM(R20:R29) -> 242.01072 | S30: =IFERROR(M30/L30*10,0) -> 3.300477 | T30: =IFERROR(O30/L30*10,0) -> 0 | U30: =IFERROR(P30/L30*10,0) -> 0 | V30: =IFERROR(Q30/L30*10,0) -> 0 | W30: =IFERROR(N30/L30*10,0) -> 0 | X30: =IF(L30=0,0,R30/L30*10) -> 3.300477
C31: NTPC(SR) Ramagundam I &II | F31: =F30+F19 -> 5983.6 | K31: 731.05523 | L31: 658.46344 | M31: 54.941614 | N31: 245.09719 | O31: 0 | P31: 0 | Q31: 18.07155 | R31: =SUM(M31:Q31) -> 318.11035 | S31: =IFERROR(M31/L31*10,0) -> 0.83439127 | T31: =IFERROR(O31/L31*10,0) -> 0 | U31: =IFERROR(P31/L31*10,0) -> 0 | V31: =IFERROR(Q31/L31*10,0) -> 0.27445031 | W31: =IFERROR(N31/L31*10,0) -> 3.7222596 | X31: =IF(L31=0,0,R31/L31*10) -> 4.8311012
C32: NTPC(SR) Simhadri Stage-I | F32: 1600 | G32: 0.3765 | K32: 1311.9702 | L32: 1129.119 | M32: 126.86598 | N32: 469.49966 | O32: 0 | P32: 0 | Q32: 11.959627 | R32: =SUM(M32:Q32) -> 608.32527 | S32: =IFERROR(M32/L32*10,0) -> 1.1235838 | T32: =IFERROR(O32/L32*10,0) -> 0 | U32: =IFERROR(P32/L32*10,0) -> 0 | V32: =IFERROR(Q32/L32*10,0) -> 0.10591999 | W32: =IFERROR(N32/L32*10,0) -> 4.1581063 | X32: =IF(L32=0,0,R32/L32*10) -> 5.3876101
C33: NTPC(SR) Simhadri Stage-II | F33: 800 | G33: 0.3765 | K33: 595.76121 | L33: 475.32959 | M33: 80.326876 | N33: 192.76862 | O33: 0 | P33: 0 | Q33: 12.830357 | R33: =SUM(M33:Q33) -> 285.92586 | S33: =IFERROR(M33/L33*10,0) -> 1.6899195 | T33: =IFERROR(O33/L33*10,0) -> 0 | U33: =IFERROR(P33/L33*10,0) -> 0 | V33: =IFERROR(Q33/L33*10,0) -> 0.26992549 | W33: =IFERROR(N33/L33*10,0) -> 4.0554728 | X33: =IF(L33=0,0,R33/L33*10) -> 6.0153178
C34: NTPC(SR) Talcher Stage-II | F34: 216.824 | G34: 0.3765 | K34: 501.3912 | L34: 479.8803 | M34: 38.993543 | N34: 84.861597 | O34: 0 | P34: 0 | Q34: 6.7780175 | R34: =SUM(M34:Q34) -> 130.63316 | S34: =IFERROR(M34/L34*10,0) -> 0.81256811 | T34: =IFERROR(O34/L34*10,0) -> 0 | U34: =IFERROR(P34/L34*10,0) -> 0 | V34: =IFERROR(Q34/L34*10,0) -> 0.14124392 | W34: =IFERROR(N34/L34*10,0) -> 1.7683909 | X34: =IF(L34=0,0,R34/L34*10) -> 2.722203
C35: NTPC(SR) Ramagundam III | F35: =SUM(F32:F34) -> 2616.824 | G35: 0.3765 | K35: 214.28638 | L35: 191.82674 | M35: 15.648616 | N35: 70.580796 | O35: 0 | P35: 0 | Q35: 0.94001751 | R35: =SUM(M35:Q35) -> 87.169429 | S35: =IFERROR(M35/L35*10,0) -> 0.81576821 | T35: =IFERROR(O35/L35*10,0) -> 0 | U35: =IFERROR(P35/L35*10,0) -> 0 | V35: =IFERROR(Q35/L35*10,0) -> 0.049003466 | W35: =IFERROR(N35/L35*10,0) -> 3.6794034 | X35: =IF(L35=0,0,R35/L35*10) -> 4.5441751
C36: NTPC Kudgi Stage-I | F36: 2100 | G36: 0.3765 | K36: 573.28108 | L36: 359.43868 | M36: 91.034682 | N36: 184.35033 | O36: 0 | P36: 0 | Q36: 1.3155927 | R36: =SUM(M36:Q36) -> 276.70061 | S36: =IFERROR(M36/L36*10,0) -> 2.5326902 | T36: =IFERROR(O36/L36*10,0) -> 0 | U36: =IFERROR(P36/L36*10,0) -> 0 | V36: =IFERROR(Q36/L36*10,0) -> 0.03660131 | W36: =IFERROR(N36/L36*10,0) -> 5.1288395 | X36: =IF(L36=0,0,R36/L36*10) -> 7.698131
C37: NTPC-TELANGANA-STPS STAGE-1 | F37: 1000 | G37: 0.3765 | K37: 8.1409689 | L37: 7.4203473 | M37: 1.3915052 | N37: 2.7851566 | O37: 0 | P37: 0 | Q37: -0.011279591 | R37: =SUM(M37:Q37) -> 4.1653822 | S37: =IFERROR(M37/L37*10,0) -> 1.8752561 | T37: =IFERROR(O37/L37*10,0) -> 0 | U37: =IFERROR(P37/L37*10,0) -> 0 | V37: =IFERROR(Q37/L37*10,0) -> -0.015200894 | W37: =IFERROR(N37/L37*10,0) -> 3.7534046 | X37: =IF(L37=0,0,R37/L37*10) -> 5.6134599
C38: NTECL Valluru | F38: 1000 | G38: 0.3765 | K38: 183.38805 | L38: 147.78369 | M38: 28.205934 | N38: 57.071734 | O38: 0 | P38: 0 | Q38: 0.071778778 | R38: =SUM(M38:Q38) -> 85.349447 | S38: =IFERROR(M38/L38*10,0) -> 1.9085959 | T38: =IFERROR(O38/L38*10,0) -> 0 | U38: =IFERROR(P38/L38*10,0) -> 0 | V38: =IFERROR(Q38/L38*10,0) -> 0.0048570161 | W38: =IFERROR(N38/L38*10,0) -> 3.8618425 | X38: =IF(L38=0,0,R38/L38*10) -> 5.7752954
C39: NLC Stage-I | F39: 2000 | G39: 0.3765 | K39: 62.757437 | L39: 67.570504 | M39: 5.775265 | N39: 21.68232 | O39: 0 | P39: 0 | Q39: 19.717866 | R39: =SUM(M39:Q39) -> 47.175451 | S39: =IFERROR(M39/L39*10,0) -> 0.85470207 | T39: =IFERROR(O39/L39*10,0) -> 0 | U39: =IFERROR(P39/L39*10,0) -> 0 | V39: =IFERROR(Q39/L39*10,0) -> 2.9181174 | W39: =IFERROR(N39/L39*10,0) -> 3.2088439 | X39: =IF(L39=0,0,R39/L39*10) -> 6.9816634
C40: NLC Stage-II | F40: 500 | G40: 0.3765 | K40: 94.220957 | L40: 99.217487 | M40: 8.7316406 | N40: 31.84454 | O40: 0 | P40: 0 | Q40: 7.5921338 | R40: =SUM(M40:Q40) -> 48.168315 | S40: =IFERROR(M40/L40*10,0) -> 0.88005058 | T40: =IFERROR(O40/L40*10,0) -> 0 | U40: =IFERROR(P40/L40*10,0) -> 0 | V40: =IFERROR(Q40/L40*10,0) -> 0.76520118 | W40: =IFERROR(N40/L40*10,0) -> 3.2095693 | X40: =IF(L40=0,0,R40/L40*10) -> 4.8548211
C41: NPC(MAPS) | F41: 2400 | G41: 0.3765 | K41: 0 | L41: 16.388863 | M41: 0 | N41: 4.6453963 | O41: 0 | P41: 0 | Q41: 0.01787735 | R41: =SUM(M41:Q41) -> 4.6632737 | S41: =IFERROR(M41/L41*10,0) -> 0 | T41: =IFERROR(O41/L41*10,0) -> 0 | U41: =IFERROR(P41/L41*10,0) -> 0 | V41: =IFERROR(Q41/L41*10,0) -> 0.01090823 | W41: =IFERROR(N41/L41*10,0) -> 2.8344835 | X41: =IF(L41=0,0,R41/L41*10) -> 2.8453918
C42: NPC(KAIGA unit I,II,III,IV) | F42: 1500 | G42: 0.3765 | K42: 0 | L42: 308.46492 | M42: 0 | N42: 116.34108 | O42: 0 | P42: 0 | Q42: -0.013909973 | R42: =SUM(M42:Q42) -> 116.32717 | S42: =IFERROR(M42/L42*10,0) -> 0 | T42: =IFERROR(O42/L42*10,0) -> 0 | U42: =IFERROR(P42/L42*10,0) -> 0 | V42: =IFERROR(Q42/L42*10,0) -> -0.00045094183 | W42: =IFERROR(N42/L42*10,0) -> 3.7716148 | X42: =IF(L42=0,0,R42/L42*10) -> 3.7711639
C43: NTPL(NLC TamilNadu) | F43: 630 | G43: 0.3765 | K43: 262.91494 | L43: 243.16988 | M43: 40.648242 | N43: 85.824632 | O43: 0 | P43: 0 | Q43: -0.23220976 | R43: =SUM(M43:Q43) -> 126.24066 | S43: =IFERROR(M43/L43*10,0) -> 1.6715986 | T43: =IFERROR(O43/L43*10,0) -> 0 | U43: =IFERROR(P43/L43*10,0) -> 0 | V43: =IFERROR(Q43/L43*10,0) -> -0.0095492813 | W43: =IFERROR(N43/L43*10,0) -> 3.5294104 | X43: =IF(L43=0,0,R43/L43*10) -> 5.1914597
...

Sheet 1.4a|PP Cost-NonReg
A1: Index sheet
C3: Form 1.4a | D3: Power Purchase and Procurement Cost (For Non-regulated Business#)
C5: # Refer to Notes for the definition
C6: FY 2023-24
C7: Generating Station | D7: D Link | E7: Plant Type Must Run = 1 Others = 2 | F7: Plant Capacity | G7: DISCOM's share | H7: DISCOM's share | I7: Availability and Dispatch (MU) | K7: Cost (Rs. Crs.) | Q7: Unit Cost (Rs. / kWh) | W7: Remarks
F8: (MW) | G8: (%) | H8: (MW) | I8: Net Availability | J8: Dispatch | K8: Fixed | L8: Variable | M8: Incentive | N8: Income Tax | O8: Others | P8: Total | Q8: Fixed | R8: Incentives | S8: Income Tax | T8: Others | U8: Variable | V8: Total
C10: Apgenco-Thermal
C11: Dr. NTTPS | P11: =SUM(K11:O11) -> 0 | Q11: =IF(J11=0,0,K11/J11*10) -> 0 | R11: =IF(J11=0,0,M11/J11*10) -> 0 | S11: =IF(J11=0,0,N11/J11*10) -> 0 | T11: =IF(J11=0,0,O11/J11*10) -> 0 | U11: =IF(J11=0,0,L11/J11*10) -> 0 | V11: =IF(J11=0,0,P11/J11*10) -> 0
C12: Dr. NTTPS-IV | P12: =SUM(K12:O12) -> 0 | Q12: =IF(J12=0,0,K12/J12*10) -> 0 | R12: =IF(J12=0,0,M12/J12*10) -> 0 | S12: =IF(J12=0,0,N12/J12*10) -> 0 | T12: =IF(J12=0,0,O12/J12*10) -> 0 | U12: =IF(J12=0,0,L12/J12*10) -> 0 | V12: =IF(J12=0,0,P12/J12*10) -> 0
C13: RTPP Stage-I | P13: =SUM(K13:O13) -> 0 | Q13: =IF(J13=0,0,K13/J13*10) -> 0 | R13: =IF(J13=0,0,M13/J13*10) -> 0 | S13: =IF(J13=0,0,N13/J13*10) -> 0 | T13: =IF(J13=0,0,O13/J13*10) -> 0 | U13: =IF(J13=0,0,L13/J13*10) -> 0 | V13: =IF(J13=0,0,P13/J13*10) -> 0
C14: RTPP Stage-II | P14: =SUM(K14:O14) -> 0 | Q14: =IF(J14=0,0,K14/J14*10) -> 0 | R14: =IF(J14=0,0,M14/J14*10) -> 0 | S14: =IF(J14=0,0,N14/J14*10) -> 0 | T14: =IF(J14=0,0,O14/J14*10) -> 0 | U14: =IF(J14=0,0,L14/J14*10) -> 0 | V14: =IF(J14=0,0,P14/J14*10) -> 0
C15: RTPP Stage-III | P15: =SUM(K15:O15) -> 0 | Q15: =IF(J15=0,0,K15/J15*10) -> 0 | R15: =IF(J15=0,0,M15/J15*10) -> 0 | S15: =IF(J15=0,0,N15/J15*10) -> 0 | T15: =IF(J15=0,0,O15/J15*10) -> 0 | U15: =IF(J15=0,0,L15/J15*10) -> 0 | V15: =IF(J15=0,0,P15/J15*10) -> 0
C16: RTPP Stage-IV | P16: =SUM(K16:O16) -> 0 | Q16: =IF(J16=0,0,K16/J16*10) -> 0 | R16: =IF(J16=0,0,M16/J16*10) -> 0 | S16: =IF(J16=0,0,N16/J16*10) -> 0 | T16: =IF(J16=0,0,O16/J16*10) -> 0 | U16: =IF(J16=0,0,L16/J16*10) -> 0 | V16: =IF(J16=0,0,P16/J16*10) -> 0
C17: Genco-Thermal Total | P17: =SUM(K17:O17) -> 0 | Q17: =IF(J17=0,0,K17/J17*10) -> 0 | R17: =IF(J17=0,0,M17/J17*10) -> 0 | S17: =IF(J17=0,0,N17/J17*10) -> 0 | T17: =IF(J17=0,0,O17/J17*10) -> 0 | U17: =IF(J17=0,0,L17/J17*10) -> 0 | V17: =IF(J17=0,0,P17/J17*10) -> 0
C18: Srisailam RCPH | P18: =SUM(K18:O18) -> 0 | Q18: =IF(J18=0,0,K18/J18*10) -> 0 | R18: =IF(J18=0,0,M18/J18*10) -> 0 | S18: =IF(J18=0,0,N18/J18*10) -> 0 | T18: =IF(J18=0,0,O18/J18*10) -> 0 | U18: =IF(J18=0,0,L18/J18*10) -> 0 | V18: =IF(J18=0,0,P18/J18*10) -> 0
C19: NSRCPH | P19: =SUM(K19:O19) -> 0 | Q19: =IF(J19=0,0,K19/J19*10) -> 0 | R19: =IF(J19=0,0,M19/J19*10) -> 0 | S19: =IF(J19=0,0,N19/J19*10) -> 0 | T19: =IF(J19=0,0,O19/J19*10) -> 0 | U19: =IF(J19=0,0,L19/J19*10) -> 0 | V19: =IF(J19=0,0,P19/J19*10) -> 0
C20: NSTPDC PH | P20: =SUM(K20:O20) -> 0 | Q20: =IF(J20=0,0,K20/J20*10) -> 0 | R20: =IF(J20=0,0,M20/J20*10) -> 0 | S20: =IF(J20=0,0,N20/J20*10) -> 0 | T20: =IF(J20=0,0,O20/J20*10) -> 0 | U20: =IF(J20=0,0,L20/J20*10) -> 0 | V20: =IF(J20=0,0,P20/J20*10) -> 0
C21: Upper Sileru | P21: =SUM(K21:O21) -> 0 | Q21: =IF(J21=0,0,K21/J21*10) -> 0 | R21: =IF(J21=0,0,M21/J21*10) -> 0 | S21: =IF(J21=0,0,N21/J21*10) -> 0 | T21: =IF(J21=0,0,O21/J21*10) -> 0 | U21: =IF(J21=0,0,L21/J21*10) -> 0 | V21: =IF(J21=0,0,P21/J21*10) -> 0
C22: Lower Sileru | P22: =SUM(K22:O22) -> 0 | Q22: =IF(J22=0,0,K22/J22*10) -> 0 | R22: =IF(J22=0,0,M22/J22*10) -> 0 | S22: =IF(J22=0,0,N22/J22*10) -> 0 | T22: =IF(J22=0,0,O22/J22*10) -> 0 | U22: =IF(J22=0,0,L22/J22*10) -> 0 | V22: =IF(J22=0,0,P22/J22*10) -> 0
... C33: Godavari Gas Power Plant | P33: =SUM(K33:O33) -> 0 | Q33: =IF(J33=0,0,K33/J33*10) -> 0 | R33: =IF(J33=0,0,M33/J33*10) -> 0 | S33: =IF(J33=0,0,N33/J33*10) -> 0 | T33: =IF(J33=0,0,O33/J33*10) -> 0 | U33: =IF(J33=0,0,L33/J33*10) -> 0 | V33: =IF(J33=0,0,P33/J33*10) -> 0
C34: Joint Sector-TOTAL | F34: =SUM(F13:F33) -> 0 | H34: =SUM(H13:H33) -> 0 | J34: =SUM(J13:J33) -> 0 | K34: =SUM(K13:K33) -> 0 | L34: =SUM(L13:L33) -> 0 | M34: =SUM(M13:M33) -> 0 | N34: =SUM(N13:N33) -> 0 | O34: =SUM(O13:O33) -> 0 | P34: =SUM(K34:O34) -> 0 | Q34: =IF(J34=0,0,K34/J34*10) -> 0 | R34: =IF(J34=0,0,M34/J34*10) -> 0 | S34: =IF(J34=0,0,N34/J34*10) -> 0 | T34: =IF(J34=0,0,O34/J34*10) -> 0 | U34: =IF(J34=0,0,L34/J34*10) -> 0 | V34: =IF(J34=0,0,P34/J34*10) -> 0
C35: NTPC(SR) Ramagundam I & II | P35: =SUM(K35:O35) -> 0 | Q35: =IF(J35=0,0,K35/J35*10) -> 0 | R35: =IF(J35=0,0,M35/J35*10) -> 0 | S35: =IF(J35=0,0,N35/J35*10) -> 0 | T35: =IF(J35=0,0,O35/J35*10) -> 0 | U35: =IF(J35=0,0,L35/J35*10) -> 0 | V35: =IF(J35=0,0,P35/J35*10) -> 0
C36: NTPC(SR) Simhadri Stage-I | P36: =SUM(K36:O36) -> 0 | Q36: =IF(J36=0,0,K36/J36*10) -> 0 | R36: =IF(J36=0,0,M36/J36*10) -> 0 | S36: =IF(J36=0,0,N36/J36*10) -> 0 | T36: =IF(J36=0,0,O36/J36*10) -> 0 | U36: =IF(J36=0,0,L36/J36*10) -> 0 | V36: =IF(J36=0,0,P36/J36*10) -> 0
C37: NTPC(SR) Simhadri Stage-II | P37: =SUM(K37:O37) -> 0 | Q37: =IF(J37=0,0,K37/J37*10) -> 0 | R37: =IF(J37=0,0,M37/J37*10) -> 0 | S37: =IF(J37=0,0,N37/J37*10) -> 0 | T37: =IF(J37=0,0,O37/J37*10) -> 0 | U37: =IF(J37=0,0,L37/J37*10) -> 0 | V37: =IF(J37=0,0,P37/J37*10) -> 0
C38: NTPC(SR) Talcher Stage-II | P38: =SUM(K38:O38) -> 0 | Q38: =IF(J38=0,0,K38/J38*10) -> 0 | R38: =IF(J38=0,0,M38/J38*10) -> 0 | S38: =IF(J38=0,0,N38/J38*10) -> 0 | T38: =IF(J38=0,0,O38/J38*10) -> 0 | U38: =IF(J38=0,0,L38/J38*10) -> 0 | V38: =IF(J38=0,0,P38/J38*10) -> 0
C39: NTPC(SR) Ramagundam III | P39: =SUM(K39:O39) -> 0 | Q39: =IF(J39=0,0,K39/J39*10) -> 0 | R39: =IF(J39=0,0,M39/J39*10) -> 0 | S39: =IF(J39=0,0,N39/J39*10) -> 0 | T39: =IF(J39=0,0,O39/J39*10) -> 0 | U39: =IF(J39=0,0,L39/J39*10) -> 0 | V39: =IF(J39=0,0,P39/J39*10) -> 0
C40: NTPC Kudgi Stage-I | P40: =SUM(K40:O40) -> 0 | Q40: =IF(J40=0,0,K40/J40*10) -> 0 | R40: =IF(J40=0,0,M40/J40*10) -> 0 | S40: =IF(J40=0,0,N40/J40*10) -> 0 | T40: =IF(J40=0,0,O40/J40*10) -> 0 | U40: =IF(J40=0,0,L40/J40*10) -> 0 | V40: =IF(J40=0,0,P40/J40*10) -> 0
C41: NTECL Valluru | P41: =SUM(K41:O41) -> 0 | Q41: =IF(J41=0,0,K41/J41*10) -> 0 | R41: =IF(J41=0,0,M41/J41*10) -> 0 | S41: =IF(J41=0,0,N41/J41*10) -> 0 | T41: =IF(J41=0,0,O41/J41*10) -> 0 | U41: =IF(J41=0,0,L41/J41*10) -> 0 | V41: =IF(J41=0,0,P41/J41*10) -> 0
C42: NLC Stage-I | P42: =SUM(K42:O42) -> 0 | Q42: =IF(J42=0,0,K42/J42*10) -> 0 | R42: =IF(J42=0,0,M42/J42*10) -> 0 | S42: =IF(J42=0,0,N42/J42*10) -> 0 | T42: =IF(J42=0,0,O42/J42*10) -> 0 | U42: =IF(J42=0,0,L42/J42*10) -> 0 | V42: =IF(J42=0,0,P42/J42*10) -> 0
C43: NLC Stage-II | P43: =SUM(K43:O43) -> 0 | Q43: =IF(J43=0,0,K43/J43*10) -> 0 | R43: =IF(J43=0,0,M43/J43*10) -> 0 | S43: =IF(J43=0,0,N43/J43*10) -> 0 | T43: =IF(J43=0,0,O43/J43*10) -> 0 | U43: =IF(J43=0,0,L43/J43*10) -> 0 | V43: =IF(J43=0,0,P43/J43*10) -> 0
C44: NPC(MAPS) | P44: =SUM(K44:O44) -> 0 | Q44: =IF(J44=0,0,K44/J44*10) -> 0 | R44: =IF(J44=0,0,M44/J44*10) -> 0 | S44: =IF(J44=0,0,N44/J44*10) -> 0 | T44: =IF(J44=0,0,O44/J44*10) -> 0 | U44: =IF(J44=0,0,L44/J44*10) -> 0 | V44: =IF(J44=0,0,P44/J44*10) -> 0
C45: NPC(KAIGA unit I,II,III,IV) | P45: =SUM(K45:O45) -> 0 | Q45: =IF(J45=0,0,K45/J45*10) -> 0 | R45: =IF(J45=0,0,M45/J45*10) -> 0 | S45: =IF(J45=0,0,N45/J45*10) -> 0 | T45: =IF(J45=0,0,O45/J45*10) -> 0 | U45: =IF(J45=0,0,L45/J45*10) -> 0 | V45: =IF(J45=0,0,P45/J45*10) -> 0
C46: NTPL(NLC TamilNadu) | P46: =SUM(K46:O46) -> 0 | Q46: =IF(J46=0,0,K46/J46*10) -> 0 | R46: =IF(J46=0,0,M46/J46*10) -> 0 | S46: =IF(J46=0,0,N46/J46*10) -> 0 | T46: =IF(J46=0,0,O46/J46*10) -> 0 | U46: =IF(J46=0,0,L46/J46*10) -> 0 | V46: =IF(J46=0,0,P46/J46*10) -> 0
... C52: Thermal Powertech Corporation | P52: =SUM(K52:O52) -> 0 | Q52: =IF(J52=0,0,K52/J52*10) -> 0 | R52: =IF(J52=0,0,M52/J52*10) -> 0 | S52: =IF(J52=0,0,N52/J52*10) -> 0 | T52: =IF(J52=0,0,O52/J52*10) -> 0 | U52: =IF(J52=0,0,L52/J52*10) -> 0 | V52: =IF(J52=0,0,P52/J52*10) -> 0
C53: Hinduja National Powercorp | Q53: =IF(J53=0,0,K53/J53*10) -> 0 | R53: =IF(J53=0,0,M53/J53*10) -> 0 | S53: =IF(J53=0,0,N53/J53*10) -> 0 | T53: =IF(J53=0,0,O53/J53*10) -> 0 | U53: =IF(J53=0,0,L53/J53*10) -> 0 | V53: =IF(J53=0,0,P53/J53*10) -> 0
C54: IPP TOTAL | P54: =SUM(K54:O54) -> 0 | Q54: =IF(J54=0,0,K54/J54*10) -> 0 | R54: =IF(J54=0,0,M54/J54*10) -> 0 | S54: =IF(J54=0,0,N54/J54*10) -> 0 | T54: =IF(J54=0,0,O54/J54*10) -> 0 | U54: =IF(J54=0,0,L54/J54*10) -> 0 | V54: =IF(J54=0,0,P54/J54*10) -> 0
C55: NCE- Others | P55: =SUM(K55:O55) -> 0 | Q55: =IF(J55=0,0,K55/J55*10) -> 0 | R55: =IF(J55=0,0,M55/J55*10) -> 0 | S55: =IF(J55=0,0,N55/J55*10) -> 0 | T55: =IF(J55=0,0,O55/J55*10) -> 0 | U55: =IF(J55=0,0,L55/J55*10) -> 0 | V55: =IF(J55=0,0,P55/J55*10) -> 0
C56: NCE Wind | P56: =SUM(K56:O56) -> 0 | Q56: =IF(J56=0,0,K56/J56*10) -> 0 | R56: =IF(J56=0,0,M56/J56*10) -> 0 | S56: =IF(J56=0,0,N56/J56*10) -> 0 | T56: =IF(J56=0,0,O56/J56*10) -> 0 | U56: =IF(J56=0,0,L56/J56*10) -> 0 | V56: =IF(J56=0,0,P56/J56*10) -> 0
C57: NCE Solar | P57: =SUM(K57:O57) -> 0 | Q57: =IF(J57=0,0,K57/J57*10) -> 0 | R57: =IF(J57=0,0,M57/J57*10) -> 0 | S57: =IF(J57=0,0,N57/J57*10) -> 0 | T57: =IF(J57=0,0,O57/J57*10) -> 0 | U57: =IF(J57=0,0,L57/J57*10) -> 0 | V57: =IF(J57=0,0,P57/J57*10) -> 0
C58: JNNSM Ph-1 Solar | Q58: =IF(J58=0,0,K58/J58*10) -> 0 | R58: =IF(J58=0,0,M58/J58*10) -> 0 | S58: =IF(J58=0,0,N58/J58*10) -> 0 | T58: =IF(J58=0,0,O58/J58*10) -> 0 | U58: =IF(J58=0,0,L58/J58*10) -> 0 | V58: =IF(J58=0,0,P58/J58*10) -> 0
...

Sheet 1.4(i)|NCE-B Year 
A1: Index sheet | AL1: 1
AL2: 2
B3: Form 1.4(i) | C3: NCE Generation (Base Year) | H3: FY 2023-24
B5: Plant wise NCE Generation and Cost Details for Base Year. The total should be consistent with values provided in Form 1.4 under NCE.
B8: TYPE | C8: Name | D8: Location | E8: Plant Capacity | F8: DISCOM's share | G8: DISCOM's share | H8: Availability and Dispatch (MU) | J8: Cost (Rs. Crs.) | P8: Unit Cost (Rs. / kWh) | V8: Remarks
E9: (MW) | F9: (%) | G9: (MW) | H9: Net Availability | I9: Dispatch | J9: Fixed | K9: Variable | L9: Incentive | M9: Inc. Tax | N9: Others | O9: Total | P9: Fixed | Q9: Incentives | R9: Inc. Tax | S9: Others | T9: Variable | U9: Total
B10: Bagasse | C10: M/s Nava Bharath Ventures Ltd | E10: 7 | F10: 36.22 | G10: 2.5354 | H10: 0 | I10: 0 | J10: 0 | K10: 0 | N10: 0 | O10: 0 | P10: 0 | Q10: 0 | R10: 0 | S10: 0 | T10: 0 | U10: 0
B11: Bagasse | C11: Chodavaram Sugars | E11: 7 | F11: 36.22 | G11: 2.5354 | H11: 0 | I11: 0 | J11: 0 | K11: 0 | N11: 0.01256871 | O11: 0.01256871 | P11: 0 | Q11: 0 | R11: 0 | S11: 0 | T11: 0 | U11: 0
B12: Bagasse | C12: M/s.KCP Sugar & Industries Corporation Ltd. (Vuyyuru) | E12: 12 | F12: 36.22 | G12: 4.3464 | H12: 1.7290104 | I12: 1.7290104 | J12: 0.15162136 | K12: 0.46744762 | N12: 0 | O12: 0.61906897 | P12: 0.87692564 | Q12: 0 | R12: 0 | S12: 0 | T12: 2.7035558 | U12: 3.5804814
B13: Bagasse | C13: M/s KCP Sugars & Industries Ltd., (Lakshmipuram) | E13: 5 | F13: 36.22 | G13: 1.811 | H13: 0 | I13: 0 | J13: 0 | K13: 0 | N13: 0 | O13: 0 | P13: 0 | Q13: 0 | R13: 0 | S13: 0 | T13: 0 | U13: 0
B14: Bagasse | C14: M/s Empee Power Projects Ltd | E14: 20 | F14: 36.22 | G14: 7.244 | H14: 0 | I14: 0 | J14: 0 | K14: 0 | N14: 0 | O14: 0 | P14: 0 | Q14: 0 | R14: 0 | S14: 0 | T14: 0 | U14: 0
B15: Bagasse | C15: M/s The Jeypore Sugar Company Ltd. | E15: 17 | F15: 36.22 | G15: 6.1574 | H15: 0 | I15: 0 | J15: 0 | K15: 0 | N15: 0 | O15: 0 | P15: 0 | Q15: 0 | R15: 0 | S15: 0 | T15: 0 | U15: 0
B16: 5 | C16: NCE -BAGASSE Total | E16: 68 | G16: 24.6296 | H16: 1.7290104 | I16: 1.7290104 | J16: 0.15162136 | K16: 0.46744762 | L16: 0 | M16: 0 | N16: 0.01256871 | O16: 0.63163768 | P16: 0.87692564 | Q16: 0 | R16: 0 | S16: 0.072693083 | T16: 2.7035558 | U16: 3.6531745
B17: Biomass | C17: Sri Venkata Sreedevi(Bollineni Castings) | E17: 6 | F17: 36.22 | G17: 2.1732 | H17: 0 | I17: 0 | J17: 0 | K17: 0 | N17: 0 | O17: 0 | P17: 0 | Q17: 0 | R17: 0 | S17: 0 | T17: 0 | U17: 0
C18: Balaji Agro | E18: 4.5 | F18: 36.22 | G18: 1.6299 | H18: 0.4901814 | I18: 0.4901814 | J18: 0.089186226 | K18: 0.28776323 | N18: 0 | O18: 0.37694946 | P18: 1.8194535 | Q18: 0 | R18: 0 | S18: 0 | T18: 5.8705457 | U18: 7.6899992
B19: Biomass | C19: Satyamaharshi | E19: 6 | F19: 36.22 | G19: 2.1732 | H19: 0 | I19: 0 | J19: 0 | K19: 0.030697824 | N19: 0.0042003947 | O19: 0.034898219 | P19: 0 | Q19: 0 | R19: 0 | S19: 0 | T19: 0 | U19: 0
B20: Biomass | C20: Jyothi Bio Energy 6MW | E20: 6 | F20: 36.22 | G20: 2.1732 | H20: 0 | I20: 0 | J20: 0 | K20: 0 | N20: 0 | O20: 0 | P20: 0 | Q20: 0 | R20: 0 | S20: 0 | T20: 0 | U20: 0
B21: Biomass | C21: Clarion Power | E21: 12 | F21: 36.22 | G21: 4.3464 | H21: 0 | I21: 0 | J21: 0 | K21: 0 | N21: 0 | O21: 0 | P21: 0 | Q21: 0 | R21: 0 | S21: 0 | T21: 0 | U21: 0
B22: Biomass | C22: Greenko (Sri Balaji Biomass) | E22: 6 | F22: 36.22 | G22: 2.1732 | H22: 0 | I22: 0 | J22: 0 | K22: 0.030939376 | N22: 0 | O22: 0.030939376 | P22: 0 | Q22: 0 | R22: 0 | S22: 0 | T22: 0 | U22: 0
C23: Varam Power | F23: 36.22 | G23: 0 | H23: 0 | I23: 0 | J23: 0 | K23: 0 | N23: 0.45949451 | O23: 0.45949451 | P23: 0 | Q23: 0 | R23: 0 | S23: 0 | T23: 0 | U23: 0
B24: Biomass | C24: Vishnu Vidyut India Ltd | E24: 7.5 | F24: 36.22 | G24: 2.7165 | H24: 0 | I24: 0 | J24: 0 | K24: 0 | N24: 0 | O24: 0 | P24: 0 | Q24: 0 | R24: 0 | S24: 0 | T24: 0 | U24: 0
C25: Matrix Power | E25: 4.5 | F25: 36.22 | G25: 1.6299 | H25: 0 | I25: 0 | J25: 0 | K25: 0.0057537314 | N25: 0 | O25: 0.0057537314 | P25: 0 | Q25: 0 | R25: 0 | S25: 0 | T25: 0 | U25: 0
C26: Veeraiah non Conventional | E26: 4 | F26: 36.22 | G26: 1.4488 | H26: 0 | I26: 0 | J26: 0 | K26: -0.0021403041 | N26: 0 | O26: -0.0021403041 | P26: 0 | Q26: 0 | R26: 0 | S26: 0 | T26: 0 | U26: 0
C27: Vijaya Agro Power | E27: 4 | F27: 36.22 | G27: 1.4488 | H27: 0 | I27: 0 | J27: 0 | K27: -0.0018733857 | N27: 0 | O27: -0.0018733857 | P27: 0 | Q27: 0 | R27: 0 | S27: 0 | T27: 0 | U27: 0
B28: Biomass | C28: M/S. Om Shakthi Renergies Limited. | E28: 6 | F28: 36.22 | G28: 2.1732 | H28: 0 | O28: 0 | P28: 0 | Q28: 0 | R28: 0 | S28: 0 | T28: 0 | U28: 0
B29: Biomass | C29: M/s Velagapudi Power Generation Pvt. Ltd., | E29: 4 | F29: 36.22 | G29: 1.4488 | H29: 0 | O29: 0 | P29: 0 | Q29: 0 | R29: 0 | S29: 0 | T29: 0 | U29: 0
B30: Biomass | C30: M/s Agri Gold Projects Ltd. | E30: 2 | F30: 36.22 | G30: 0.7244 | H30: 0 | O30: 0 | P30: 0 | Q30: 0 | R30: 0 | S30: 0 | T30: 0 | U30: 0
B31: Biomass | C31: M/s Singaraya Hills Green Power Ltd | E31: 8 | F31: 36.22 | G31: 2.8976 | H31: 0 | O31: 0 | P31: 0 | Q31: 0 | R31: 0 | S31: 0 | T31: 0 | U31: 0
B32: 6 | C32: NCE-Biomass Total | E32: 80.5 | G32: 29.1571 | H32: 0.4901814 | I32: 0.4901814 | J32: 0.089186226 | K32: 0.35114047 | L32: 0 | M32: 0 | N32: 0.4636949 | O32: 0.9040216 | P32: 1.8194535 | Q32: 0 | R32: 0 | S32: 9.4596592 | T32: 7.1634802 | U32: 18.442593
B33: Iwaste | C33: 3F Industries Ltd (Foods & Fats) | E33: 6 | F33: 36.22 | G33: 2.1732 | H33: 4.7292467 | I33: 4.7292467 | J33: 0.80271302 | K33: 2.7429631 | N33: 0 | O33: 3.5456761 | P33: 1.697338 | Q33: 0 | R33: 0 | S33: 0 | T33: 5.8 | U33: 7.497338
B34: Iwaste | C34: Redan Infra Pvt Ltd | E34: 7.5 | F34: 36.22 | G34: 2.7165 | H34: 0 | I34: 0 | J34: 0 | K34: 0 | N34: 0 | O34: 0 | P34: 0 | Q34: 0 | R34: 0 | S34: 0 | T34: 0 | U34: 0
B35: Iwaste | C35: Sai Renewable Power (P) Limited | E35: 4.5 | F35: 36.22 | G35: 1.6299 | H35: 0 | O35: 0 | P35: 0 | Q35: 0 | R35: 0 | S35: 0 | T35: 0 | U35: 0
B36: Iwaste | C36: Raus Power Limited | E36: 3.66 | F36: 36.22 | G36: 1.325652 | H36: 0 | O36: 0 | P36: 0 | Q36: 0 | R36: 0 | S36: 0 | T36: 0 | U36: 0
C37: NCE-Industrial Waste TOTAL | E37: 21.66 | G37: 7.845252 | H37: 4.7292467 | I37: 4.7292467 | J37: 0.80271302 | K37: 2.7429631 | L37: 0 | M37: 0 | N37: 0 | O37: 3.5456761 | P37: 1.697338 | Q37: 0 | R37: 0 | S37: 0 | T37: 5.8 | U37: 7.497338
B38: MsW | C38: Jindal urban waste Mangament (guntur) | E38: 15 | F38: 36.22 | G38: 5.433 | H38: 43.439106 | I38: 43.439106 | J38: 0 | K38: 28.066006 | N38: 0 | O38: 28.066006 | P38: 0 | Q38: 0 | R38: 0 | S38: 0 | T38: 6.461 | U38: 6.461
B39: MsW | C39: Jindal urban waste Mangament (Viskaptanam)) | E39: 15 | F39: 36.22 | G39: 5.433 | H39: 39.615277 | I39: 39.615277 | J39: 0 | K39: 25.409238 | N39: 0 | O39: 25.409238 | P39: 0 | Q39: 0 | R39: 0 | S39: 0 | T39: 6.414 | U39: 6.414
B40: MsW | C40: M/s Shriram Energy Systems Pvt. Ltd. | E40: 6 | F40: 36.22 | G40: 2.1732 | O40: 0 | P40: 0 | Q40: 0 | R40: 0 | S40: 0 | T40: 0 | U40: 0
B41: MsW | C41: Vijayawada Municipal Corporation | E41: 0.15 | F41: 36.22 | G41: 0.05433 | H41: 0 | O41: 0 | P41: 0 | Q41: 0 | R41: 0 | S41: 0 | T41: 0 | U41: 0
B42: 7 | C42: NCE-Municipal Waste TOTAL | E42: 36.15 | G42: 13.09353 | H42: 83.054383 | I42: 83.054383 | J42: 0 | K42: 53.475245 | L42: 0 | M42: 0 | N42: 0 | O42: 53.475245 | P42: 0 | Q42: 0 | R42: 0 | S42: 0 | T42: 6.438582 | U42: 6.438582
B43: Mhydel | C43: M/s Saradar Power Limited | E43: 3 | F43: 36.22 | G43: 1.0866 | H43: 2.1829856 | I43: 2.1829856 | J43: 0.44046654 | K43: 0 | N43: 0 | O43: 0.44046654 | P43: 2.0177254 | Q43: 0 | R43: 0 | S43: 0 | T43: 0 | U43: 2.0177254
...

Sheet 1.4(ii)|NCE- Year 1
A1: 36.22 | C1: Index sheet | D1: 2024-25 | AQ1: 1
AQ2: 2
C3: Form 1.4(i) | D3: NCE Generation (Base Year)
C5: Plant wise NCE Generation and Cost Details for Base Year. The total should be consistent with values provided in Form 1.4 under NCE.
X7: H2 | AE7: H1
C8: TYPE | D8: Name | E8: Plant Capacity | F8: DISCOM's share | G8: DISCOM's share | H8: Availability and Dispatch (MU) | J8: Cost (Rs. Crs.) | P8: Unit Cost (Rs. / kWh) | V8: Remarks | X8: Dispatch | Y8: FC | Z8: VC | AA8: Incentive | AB8: Inc. Tax | AC8: Others | AD8: Total | AE8: Dispatch | AF8: FC | AG8: VC | AH8: OTHERS | AI8: PASTCLAIMS | AK8: Total
E9: (MW) | F9: (%) | G9: (MW) | H9: Net Availability | I9: Dispatch | J9: Fixed | K9: Variable | L9: Incentive | M9: Inc. Tax | N9: Others | O9: Total | P9: Fixed | Q9: Incentives | R9: Inc. Tax | S9: Others | T9: Variable | U9: Total
C10: Bagasse | D10: M/s Nava Bharath Ventures Ltd | E10: 7 | F10: =$A$1 -> 36.22 | G10: =E10*F10/100 -> 2.5354 | H10: =I10 -> 0 | I10: =X10 -> 0 | J10: =Y10 -> 0 | K10: =Z10 -> 0 | L10: 0 | N10: =AB10+AA10 -> 0 | O10: =SUM(J10:N10) -> 0 | P10: =IF(I10=0,0,J10/I10*10) -> 0 | Q10: =IF(I10=0,0,L10/I10*10) -> 0 | R10: =IF(I10=0,0,M10/I10*10) -> 0 | S10: =IF(I10=0,0,N10/I10*10) -> 0 | T10: =IF(I10=0,0,K10/I10*10) -> 0 | U10: =IF(I10=0,0,O10/I10*10) -> 0 | X10: 0 | Y10: 0 | Z10: 0 | AA10: 0 | AB10: 0 | AD10: =SUM(Y10:AC10) -> 0
C11: Bagasse | D11: Chodavaram Sugars | E11: 7 | F11: =$A$1 -> 36.22 | G11: =E11*F11/100 -> 2.5354 | H11: =I11 -> 0.68263833 | I11: =X11 -> 0.68263833 | J11: =Y11 -> 0 | K11: =Z11 -> 0 | L11: 0 | N11: =AB11+AA11 -> 0.1918897 | O11: =SUM(J11:N11) -> 0.1918897 | P11: =IF(I11=0,0,J11/I11*10) -> 0 | Q11: =IF(I11=0,0,L11/I11*10) -> 0 | R11: =IF(I11=0,0,M11/I11*10) -> 0 | S11: =IF(I11=0,0,N11/I11*10) -> 2.811001 | T11: =IF(I11=0,0,K11/I11*10) -> 0 | U11: =IF(I11=0,0,O11/I11*10) -> 2.811001 | X11: 0.68263833 | Y11: 0 | Z11: 0 | AA11: 0 | AB11: 0.1918897 | AD11: =SUM(Y11:AC11) -> 0.1918897
C12: Bagasse | D12: EID Parry India Ltd (GMR Tech) | E12: 16 | F12: =$A$1 -> 36.22 | H12: =I12 -> 0 | I12: =X12 -> 0 | J12: =Y12 -> 0 | K12: =Z12 -> 0 | L12: 0 | N12: =AB12+AA12 -> 4.0785863 | O12: =SUM(J12:N12) -> 4.0785863 | X12: 0 | Y12: 0 | Z12: 0 | AA12: 0 | AB12: 4.0785863 | AD12: =SUM(Y12:AC12) -> 4.0785863
C13: Bagasse | D13: M/s.KCP Sugar & Industries Corporation Ltd. (Vuyyuru) | E13: 12 | F13: =$A$1 -> 36.22 | G13: =E13*F13/100 -> 4.3464 | H13: =I13 -> 1.6461001 | I13: =X13 -> 1.6461001 | J13: =Y13 -> 0.27785578 | K13: =Z13 -> 0.6469173 | L13: 0 | N13: =AB13+AA13 -> 0 | O13: =SUM(J13:N13) -> 0.92477308 | P13: =IF(I13=0,0,J13/I13*10) -> 1.6879641 | Q13: =IF(I13=0,0,L13/I13*10) -> 0 | R13: =IF(I13=0,0,M13/I13*10) -> 0 | S13: =IF(I13=0,0,N13/I13*10) -> 0 | T13: =IF(I13=0,0,K13/I13*10) -> 3.9299998 | U13: =IF(I13=0,0,O13/I13*10) -> 5.6179639 | X13: 1.6461001 | Y13: 0.27785578 | Z13: 0.6469173 | AA13: 0 | AB13: 0 | AD13: =SUM(Y13:AC13) -> 0.92477308
